BEGIN:VCALENDAR
VERSION:2.0
PRODID:-//Cronache di Birra - ECPv6.15.20//NONSGML v1.0//EN
CALSCALE:GREGORIAN
METHOD:PUBLISH
X-WR-CALNAME:Cronache di Birra
X-ORIGINAL-URL:https://cronachedibirra.it
X-WR-CALDESC:Eventi per Cronache di Birra
REFRESH-INTERVAL;VALUE=DURATION:PT1H
X-Robots-Tag:noindex
X-PUBLISHED-TTL:PT1H
BEGIN:VTIMEZONE
TZID:Europe/Rome
BEGIN:DAYLIGHT
TZOFFSETFROM:+0100
TZOFFSETTO:+0200
TZNAME:CEST
DTSTART:20150329T010000
END:DAYLIGHT
BEGIN:STANDARD
TZOFFSETFROM:+0200
TZOFFSETTO:+0100
TZNAME:CET
DTSTART:20151025T010000
END:STANDARD
BEGIN:DAYLIGHT
TZOFFSETFROM:+0100
TZOFFSETTO:+0200
TZNAME:CEST
DTSTART:20160327T010000
END:DAYLIGHT
BEGIN:STANDARD
TZOFFSETFROM:+0200
TZOFFSETTO:+0100
TZNAME:CET
DTSTART:20161030T010000
END:STANDARD
BEGIN:DAYLIGHT
TZOFFSETFROM:+0100
TZOFFSETTO:+0200
TZNAME:CEST
DTSTART:20170326T010000
END:DAYLIGHT
BEGIN:STANDARD
TZOFFSETFROM:+0200
TZOFFSETTO:+0100
TZNAME:CET
DTSTART:20171029T010000
END:STANDARD
END:VTIMEZONE
BEGIN:VEVENT
DTSTART;VALUE=DATE:20160225
DTEND;VALUE=DATE:20160229
DTSTAMP:20260422T034828
CREATED:20160205T105919Z
LAST-MODIFIED:20160205T123759Z
UID:14312-1456358400-1456703999@cronachedibirra.it
SUMMARY:Londinium Cask Festival
DESCRIPTION:Il romano Tree Folk’s è da sempre un pub che ha incentrato il suo lavoro sulla promozione della birra tradizionale anglosassone\, quindi non è un caso che sia proprio lui a organizzare il Londinium Cask Festival\, un evento dedicato al mondo delle Real Ale. L’appuntamento è ovviamente a Roma nel locale in zona Colosseo (via Capo d’Africa 29) da giovedì 25 a domenica 28 febbraio. Saranno presenti i prodotti di 30 birrifici da Italia e Regno Unito\, così suddivisi: 10 da Londra\, 10 da Roma e dintorni\, 5 dal resto dell’Inghilterra e 5 dal resto d’Italia. Ovviamente parliamo di tutti stili di origine anglosassone e di birre prodotte in cask. Immancabile il cibo a tema\, in particolare English breakfast e fish & chips. Dettagli sulla pagina Facebook dell’evento.
URL:https://cronachedibirra.it/evento/londinium-cask-festival/
LOCATION:Treefolk’s\, Viale di Trastevere\, 192\, Roma\, RM\, 00153\, Italia
CATEGORIES:Iniziative
ATTACH;FMTTYPE=image/jpeg:https://cdn1.cronachedibirra.it/wp-content/uploads/20200131171848/londinium.jpg
END:VEVENT
BEGIN:VEVENT
DTSTART;VALUE=DATE:20160227
DTEND;VALUE=DATE:20160228
DTSTAMP:20260422T034828
CREATED:20160226T105929Z
LAST-MODIFIED:20160226T105929Z
UID:14439-1456531200-1456617599@cronachedibirra.it
SUMMARY:I miei primi 20 anni
DESCRIPTION:Sarà Lorenzo “Kuaska” Dabove a condurre domani\, sabato 27 febbraio\, l’evento con il quale il The Dome di Nembro (BG) celebrerà i 20 anni di birra artigianale in Italia. Protagonisti saranno cinque dei più importanti pionieri del settore\, i birrifici Turbacci\, Lambrate\, Baladin\, Birrificio Italiano e Beba. Ogni produttore porterà con sé quattro birre\, per un totale di 20 spine tutte disponibili in contemporanea e gestite dagli stessi birrai. Presenzieranno la serata anche il padrone di casa Michele Galati e il mitico Andrea Camaschella. L’inizio è fissato per le 14\,30\, dettagli su Facebook.
URL:https://cronachedibirra.it/evento/i-miei-primi-20-anni/
LOCATION:The Dome
CATEGORIES:Iniziative
ATTACH;FMTTYPE=image/jpeg:https://cdn1.cronachedibirra.it/wp-content/uploads/20200131171719/primi-20-anni.jpg
END:VEVENT
END:VCALENDAR