BEGIN:VCALENDAR
VERSION:2.0
PRODID:-//Cronache di Birra - ECPv6.15.20//NONSGML v1.0//EN
CALSCALE:GREGORIAN
METHOD:PUBLISH
X-WR-CALNAME:Cronache di Birra
X-ORIGINAL-URL:https://cronachedibirra.it
X-WR-CALDESC:Eventi per Cronache di Birra
REFRESH-INTERVAL;VALUE=DURATION:PT1H
X-Robots-Tag:noindex
X-PUBLISHED-TTL:PT1H
BEGIN:VTIMEZONE
TZID:Europe/Rome
BEGIN:DAYLIGHT
TZOFFSETFROM:+0100
TZOFFSETTO:+0200
TZNAME:CEST
DTSTART:20140330T010000
END:DAYLIGHT
BEGIN:STANDARD
TZOFFSETFROM:+0200
TZOFFSETTO:+0100
TZNAME:CET
DTSTART:20141026T010000
END:STANDARD
BEGIN:DAYLIGHT
TZOFFSETFROM:+0100
TZOFFSETTO:+0200
TZNAME:CEST
DTSTART:20150329T010000
END:DAYLIGHT
BEGIN:STANDARD
TZOFFSETFROM:+0200
TZOFFSETTO:+0100
TZNAME:CET
DTSTART:20151025T010000
END:STANDARD
BEGIN:DAYLIGHT
TZOFFSETFROM:+0100
TZOFFSETTO:+0200
TZNAME:CEST
DTSTART:20160327T010000
END:DAYLIGHT
BEGIN:STANDARD
TZOFFSETFROM:+0200
TZOFFSETTO:+0100
TZNAME:CET
DTSTART:20161030T010000
END:STANDARD
END:VTIMEZONE
BEGIN:VEVENT
DTSTART;VALUE=DATE:20150806
DTEND;VALUE=DATE:20150810
DTSTAMP:20260422T125536
CREATED:20150807T100954Z
LAST-MODIFIED:20150807T100954Z
UID:13258-1438819200-1439164799@cronachedibirra.it
SUMMARY:GoBeer Expo
DESCRIPTION:È cominciata ieri ma andrà avanti fino a domenica 9 agosto l’iniziativa GoBeer Expo\, che si terrà nel polo commerciale Jambo1-Conad situato tra Napoli e Caserta. Non saranno presenti direttamente i birrifici\, ma comunque si potranno assaggiare oltre 200 birre nazionali e internazionali\, compresi prodotti senza glutine. La parte food sarà molto variegata\, con pizze gourmet\, maiale alla brace\, hamburger\, food truck\, cuoppi\, porchetta e altro ancora. Non mancherà l’intrattenimento. Tutti i dettagli sul sito di GoBeer Expo.
URL:https://cronachedibirra.it/evento/gobeer-expo/
LOCATION:Jambo1\, Strada provinciale Trentola Parete\, Trentola-Ducenta\, CE\, 81038\, Italia
CATEGORIES:Iniziative
ATTACH;FMTTYPE=image/jpeg:https://cdn1.cronachedibirra.it/wp-content/uploads/20200131173732/gobeer.jpg
END:VEVENT
BEGIN:VEVENT
DTSTART;VALUE=DATE:20150807
DTEND;VALUE=DATE:20150808
DTSTAMP:20260422T125536
CREATED:20150807T095306Z
LAST-MODIFIED:20150807T095306Z
UID:13255-1438905600-1438991999@cronachedibirra.it
SUMMARY:Luppolo di Mare
DESCRIPTION:Si propone come “festival del mare e della birra artigianale” la manifestazione Luppolo di Mare\, che si terrà oggi venerdì 7 agosto presso la Spiaggia dei Sassolini di Scauri a Minturno (LT). Quattro i birrifici partecipanti\, ma tutti di sicuro spessore: Birra del Borgo\, Birra dell’Eremo\, Piccolo Birrificio Clandestino\, Karma e Free Lions. Per la parte gastronomica troverete panini di qualità. Tutti i dettagli sulla pagina Facebook dell’evento.
URL:https://cronachedibirra.it/evento/luppolo-di-mare/
LOCATION:Spiaggia dei Sassolini\, Scauri\, Minturno\, LT\, Italia
CATEGORIES:Iniziative
ATTACH;FMTTYPE=image/jpeg:https://cdn1.cronachedibirra.it/wp-content/uploads/20200131173732/luppolo-mare.jpg
END:VEVENT
BEGIN:VEVENT
DTSTART;VALUE=DATE:20150812
DTEND;VALUE=DATE:20150813
DTSTAMP:20260422T125536
CREATED:20150807T101732Z
LAST-MODIFIED:20150807T101732Z
UID:13261-1439337600-1439423999@cronachedibirra.it
SUMMARY:C'è Fermento sul mare 2015
DESCRIPTION:Torna anche quest’anno C’è Fermento sul mare\, lo “spin off” estivo di C’è Fermento. Mercoledì 12 agosto presso il comune di Vallecrosia (IM) troverete 9 birrifici italiani: Antagonisti\, Kauss\, Beba\, Nadir\, Brasseria Nervina\, Baladin\, Giratempo\, Gilac e Scarampola. Il programma prevede musica dal vivo\, dj set\, mercatino dell’artigianato e dell’hobbystica\, spettacolo pirotecnico e altro ancora. Dettagli su Facebook.
URL:https://cronachedibirra.it/evento/ce-fermento-sul-mare-2015/
LOCATION:Luogo Senza Nome\, Vallecrosia\, IM\, Italia
CATEGORIES:Iniziative
ATTACH;FMTTYPE=image/jpeg:https://cdn1.cronachedibirra.it/wp-content/uploads/20200131173730/ce-fermento-sul-mare.jpg
END:VEVENT
END:VCALENDAR