BEGIN:VCALENDAR
VERSION:2.0
PRODID:-//Cronache di Birra - ECPv6.15.20//NONSGML v1.0//EN
CALSCALE:GREGORIAN
METHOD:PUBLISH
X-WR-CALNAME:Cronache di Birra
X-ORIGINAL-URL:https://cronachedibirra.it
X-WR-CALDESC:Eventi per Cronache di Birra
REFRESH-INTERVAL;VALUE=DURATION:PT1H
X-Robots-Tag:noindex
X-PUBLISHED-TTL:PT1H
BEGIN:VTIMEZONE
TZID:Europe/Rome
BEGIN:DAYLIGHT
TZOFFSETFROM:+0100
TZOFFSETTO:+0200
TZNAME:CEST
DTSTART:20250330T010000
END:DAYLIGHT
BEGIN:STANDARD
TZOFFSETFROM:+0200
TZOFFSETTO:+0100
TZNAME:CET
DTSTART:20251026T010000
END:STANDARD
BEGIN:DAYLIGHT
TZOFFSETFROM:+0100
TZOFFSETTO:+0200
TZNAME:CEST
DTSTART:20260329T010000
END:DAYLIGHT
BEGIN:STANDARD
TZOFFSETFROM:+0200
TZOFFSETTO:+0100
TZNAME:CET
DTSTART:20261025T010000
END:STANDARD
BEGIN:DAYLIGHT
TZOFFSETFROM:+0100
TZOFFSETTO:+0200
TZNAME:CEST
DTSTART:20270328T010000
END:DAYLIGHT
BEGIN:STANDARD
TZOFFSETFROM:+0200
TZOFFSETTO:+0100
TZNAME:CET
DTSTART:20271031T010000
END:STANDARD
END:VTIMEZONE
BEGIN:VEVENT
DTSTART;TZID=Europe/Rome:20260422T152032
DTEND;TZID=Europe/Rome:20260422T152032
DTSTAMP:20260422T152032
CREATED:20150605T094151Z
LAST-MODIFIED:20150605T094151Z
UID:12794-1776871232-1776871232@cronachedibirra.it
SUMMARY:White Dog Dayz 2015
DESCRIPTION:Se non sbaglio la festa di White Dog è una delle più longeve tra quelle che celebrano i compleanni dei birrifici italiani. I White Dog Dayz si terranno quest’anno sabato 13 e domenica 14 giugno\, ovviamente presso la sede di Rocchetta di Guiglia (MO). Chiaramente grandi protagoniste saranno le birre della casa\, ma non mancherà musica dal vivo\, ampio menu gastronomico (anche cucina senegalese!) e possibilità di camping in loco. Dettagli sulla pagina Facebook dell’evento.
URL:https://cronachedibirra.it/evento/white-dog-dayz-2015/
LOCATION:AL
CATEGORIES:Iniziative
END:VEVENT
END:VCALENDAR