BEGIN:VCALENDAR
VERSION:2.0
PRODID:-//Cronache di Birra - ECPv6.15.20//NONSGML v1.0//EN
CALSCALE:GREGORIAN
METHOD:PUBLISH
X-ORIGINAL-URL:https://cronachedibirra.it
X-WR-CALDESC:Eventi per Cronache di Birra
REFRESH-INTERVAL;VALUE=DURATION:PT1H
X-Robots-Tag:noindex
X-PUBLISHED-TTL:PT1H
BEGIN:VTIMEZONE
TZID:Europe/Rome
BEGIN:DAYLIGHT
TZOFFSETFROM:+0100
TZOFFSETTO:+0200
TZNAME:CEST
DTSTART:20250330T010000
END:DAYLIGHT
BEGIN:STANDARD
TZOFFSETFROM:+0200
TZOFFSETTO:+0100
TZNAME:CET
DTSTART:20251026T010000
END:STANDARD
BEGIN:DAYLIGHT
TZOFFSETFROM:+0100
TZOFFSETTO:+0200
TZNAME:CEST
DTSTART:20260329T010000
END:DAYLIGHT
BEGIN:STANDARD
TZOFFSETFROM:+0200
TZOFFSETTO:+0100
TZNAME:CET
DTSTART:20261025T010000
END:STANDARD
BEGIN:DAYLIGHT
TZOFFSETFROM:+0100
TZOFFSETTO:+0200
TZNAME:CEST
DTSTART:20270328T010000
END:DAYLIGHT
BEGIN:STANDARD
TZOFFSETFROM:+0200
TZOFFSETTO:+0100
TZNAME:CET
DTSTART:20271031T010000
END:STANDARD
END:VTIMEZONE
BEGIN:VEVENT
DTSTART;TZID=Europe/Rome:20260422T180507
DTEND;TZID=Europe/Rome:20260422T180507
DTSTAMP:20260422T180507
CREATED:20150424T122952Z
LAST-MODIFIED:20150424T122952Z
UID:12419-1776881107-1776881107@cronachedibirra.it
SUMMARY:Brewfist tap takeover al Nidaba
DESCRIPTION:Due serate completamente dedicate al birrificio Brewfist: è questo il succo del tap takeover organizzato dal Nidaba di Montebelluna (TV) e in programma giovedì 30 aprile e venerdì 1 maggio. Le birre del giovane produttore italiano saranno ben 19\, spiegate direttamente da Andrea Maiocchi e Pietro Di Pilato. Il tutto sarà accompagnato da musica dal vivo e street food\, mentre l’evento sarà anche l’occasione per inaugurare il giardino estivo. Dettagli su Facebook.
URL:https://cronachedibirra.it/evento/brewfist-tap-takeover-al-nidaba/
LOCATION:AL
CATEGORIES:Iniziative
END:VEVENT
BEGIN:VEVENT
DTSTART;TZID=Europe/Rome:20260422T180507
DTEND;TZID=Europe/Rome:20260422T180507
DTSTAMP:20260422T180507
CREATED:20150416T122153Z
LAST-MODIFIED:20150416T122153Z
UID:12359-1776881107-1776881107@cronachedibirra.it
SUMMARY:Birra Turbacci Country Fest
DESCRIPTION:Se cercate un modo alternativo per festeggiare il primo maggio\, sappiate che il Birrificio Turbacci organizza il suo Country Fest\, ovviamente presso il brewpub di Mentana (RM). Oltre a 12 birre della casa alla spina\, troverete l’american bbq preparato da Venerando Valastro (partecipante al programma I re della griglia) e la musica dal vivo dei Mississipi River Band. Non mancherà street food\, torneo di beer pong e cavalli e pony del maneggio Talus. Per i dettagli date un’occhiata a Facebook.
URL:https://cronachedibirra.it/evento/birra-turbacci-country-fest/
LOCATION:AL
CATEGORIES:Iniziative
END:VEVENT
BEGIN:VEVENT
DTSTART;TZID=Europe/Rome:20260422T180507
DTEND;TZID=Europe/Rome:20260422T180507
DTSTAMP:20260422T180507
CREATED:20150416T123257Z
LAST-MODIFIED:20150416T123257Z
UID:12362-1776881107-1776881107@cronachedibirra.it
SUMMARY:Un Po di Birra 2015
DESCRIPTION:Puntuale come ogni anno\, domenica 10 maggio tornerà Un Po di Birra\, la gita birraria sul Po organizzata dal Circolo del Luppolo e Altafermentazione e giunta alla sua nona edizione (e scusate se è poco!). La partenza è fissata alle 10\,30 da Boretto (RE) e a condurre la ciurma di appassionati ci sarà l’ammiraglio Kuaska. Oltre a tanta birra artigianale\, aspettatevi musica dal vivo dei mitici Simpsong e un pranzo con abbinamenti. Per tutte le informazioni\, in costante aggiornamento\, potete fare riferimento alla pagina Facebook dell’evento.
URL:https://cronachedibirra.it/evento/un-po-di-birra-2015/
LOCATION:AL
CATEGORIES:Iniziative
END:VEVENT
BEGIN:VEVENT
DTSTART;TZID=Europe/Rome:20260422T180507
DTEND;TZID=Europe/Rome:20260422T180507
DTSTAMP:20260422T180507
CREATED:20150515T101250Z
LAST-MODIFIED:20150515T101250Z
UID:12642-1776881107-1776881107@cronachedibirra.it
SUMMARY:Beerock al Bonaventura
DESCRIPTION:Il pub Bonaventura di Milano organizza per domenica 24 maggio una giornata completamente dedicata alla birra artigianale e alla musica rock. Protagonisti del Beerock saranno i birrifici Kamun\, Hordeum\, BSA\, BAV\, Rurale e Civale\, che permetteranno di gustare le proprie birre in abbinamento alla musica di altrettante cover band. Il tutto sarà accompagnato da punti ristoro e mercatino artigianale. Per saperne di più vi segnalo la pagina Facebook dell’evento.
URL:https://cronachedibirra.it/evento/beerock-al-bonaventura/
LOCATION:AL
CATEGORIES:Iniziative
END:VEVENT
END:VCALENDAR