BEGIN:VCALENDAR
VERSION:2.0
PRODID:-//Cronache di Birra - ECPv6.15.20//NONSGML v1.0//EN
CALSCALE:GREGORIAN
METHOD:PUBLISH
X-WR-CALNAME:Cronache di Birra
X-ORIGINAL-URL:https://cronachedibirra.it
X-WR-CALDESC:Eventi per Cronache di Birra
REFRESH-INTERVAL;VALUE=DURATION:PT1H
X-Robots-Tag:noindex
X-PUBLISHED-TTL:PT1H
BEGIN:VTIMEZONE
TZID:Europe/Rome
BEGIN:DAYLIGHT
TZOFFSETFROM:+0100
TZOFFSETTO:+0200
TZNAME:CEST
DTSTART:20250330T010000
END:DAYLIGHT
BEGIN:STANDARD
TZOFFSETFROM:+0200
TZOFFSETTO:+0100
TZNAME:CET
DTSTART:20251026T010000
END:STANDARD
BEGIN:DAYLIGHT
TZOFFSETFROM:+0100
TZOFFSETTO:+0200
TZNAME:CEST
DTSTART:20260329T010000
END:DAYLIGHT
BEGIN:STANDARD
TZOFFSETFROM:+0200
TZOFFSETTO:+0100
TZNAME:CET
DTSTART:20261025T010000
END:STANDARD
BEGIN:DAYLIGHT
TZOFFSETFROM:+0100
TZOFFSETTO:+0200
TZNAME:CEST
DTSTART:20270328T010000
END:DAYLIGHT
BEGIN:STANDARD
TZOFFSETFROM:+0200
TZOFFSETTO:+0100
TZNAME:CET
DTSTART:20271031T010000
END:STANDARD
END:VTIMEZONE
BEGIN:VEVENT
DTSTART;TZID=Europe/Rome:20260422T234352
DTEND;TZID=Europe/Rome:20260422T234352
DTSTAMP:20260422T234352
CREATED:20150206T114354Z
LAST-MODIFIED:20150206T123332Z
UID:11871-1776901432-1776901432@cronachedibirra.it
SUMMARY:Oyster Day 2015
DESCRIPTION:Inaugurato anni fa come poco più di un gioco\, l’Oyster Day di Birra del Borgo è diventato col tempo un vero e proprio evento\, atteso da molti appassionati. La quarta edizione si terrà sabato 14 febbraio e ancora una volta si svilupperà intorno alla cotta pubblica della Perle ai Porci\, la Oyster Stout del birrificio di Borgorose (RI). Particolarità è l’impiego di ostriche\, che saranno anche protagoniste dei piatti curati dalla Taberna di Palestrina. Non mancheranno i formaggi del Caseificio di Campo Felice\, musica dal vivo e un interessante laboratorio di degustazione. La giornata comincerà alle 10 e si protrarrà fino alle 19. Per prenotazioni (obbligatorie) e altre informazioni potete fare riferimento al sito di Birra del Borgo.
URL:https://cronachedibirra.it/evento/oyster-day-2015/
LOCATION:AL
CATEGORIES:Iniziative
END:VEVENT
BEGIN:VEVENT
DTSTART;TZID=Europe/Rome:20260422T234352
DTEND;TZID=Europe/Rome:20260422T234352
DTSTAMP:20260422T234352
CREATED:20150213T115506Z
LAST-MODIFIED:20150213T115506Z
UID:11932-1776901432-1776901432@cronachedibirra.it
SUMMARY:Beer Attraction Off al Fob
DESCRIPTION:La prossima settimana comincerà la prima edizione di Beer Attraction (ex Selezione Birra) e non mancheranno diversi appuntamenti collaterali in giro per Rimini e dintorni. Tra i soggetti più attivi bisogna sicuramente segnalare il Fob\, locale che credo compia un anno proprio in questi giorni e che per l’occasione ha organizzato ben 4 serate speciali\, da venerdì 20 a lunedì 23 febbraio. Si comincerà venerdì 20 con La Fantastica Cinquina\, presenti i finalisti di Birraio dell’Anno e le loro birre (Birrone\, Ducato\, Loverbeer\, Birranova ed Extraomnes). Sabato sarà dedicato a sei produttori italiani e ai rispettivi birrai: Bellazzi\, Mazapegul\, Buttiga\, MC-77\, Monster Factory Co. e Lambrate. Domenica e lunedì invece toccherà a birrifici stranieri\, con Stillwater\, Lervig\, Dugges\, Tiny Rebel\, Mahr’s\, Hornbeer\, Amager\, Marble\, Buxton\, Rittmayer e Oud Beersel. Ulteriori informazioni sul sito del Fob.
URL:https://cronachedibirra.it/evento/beer-attraction-off-al-fob/
LOCATION:AL
CATEGORIES:Iniziative
END:VEVENT
BEGIN:VEVENT
DTSTART;TZID=Europe/Rome:20260422T234352
DTEND;TZID=Europe/Rome:20260422T234352
DTSTAMP:20260422T234352
CREATED:20150206T122026Z
LAST-MODIFIED:20150206T122026Z
UID:11878-1776901432-1776901432@cronachedibirra.it
SUMMARY:10 anni di Golden Pot
DESCRIPTION:Il Golden Pot di Guidonia (RM) è un pub poco conosciuto rispetto alla passione e alla qualità che garantisce\, elementi che si uniscono a una lunga militanza nell’ambiente. Domenica 22 febbraio il locale festeggerà infatti i suoi primi 10 anni di vita e per l’occasione ha organizzato una grande festa. Dal mattino a notte fonda troverete 16 birre alla spina\, botti\, chicche e rarità\, che potrete bere accompagnati da musica dal vivo e dj set. Per sostenere le vostre bevute potrete fare affidamento al buffet gratuito a pranzo e cena (dalle 12\,00 e dalle 19\,00). Sabato 21\, inoltre\, si terrà un’anteprima della festa\, occasione nella quale sarà presentata la Golden Pat\, la (seconda) birra della casa prodotta presso lo storico Troll di Vernante: a raccontarla ci sarà Alberto Canavese in persona. Per tutti i dettagli potete dare un’occhiata alla pagina Facebook dell’evento. Auguri Golden Pot!
URL:https://cronachedibirra.it/evento/10-anni-di-golden-pot/
LOCATION:AL
CATEGORIES:Iniziative
END:VEVENT
BEGIN:VEVENT
DTSTART;TZID=Europe/Rome:20260422T234352
DTEND;TZID=Europe/Rome:20260422T234352
DTSTAMP:20260422T234352
CREATED:20150213T121629Z
LAST-MODIFIED:20150214T094355Z
UID:11940-1776901432-1776901432@cronachedibirra.it
SUMMARY:Drunken Winter Beer Festival 2015
DESCRIPTION:Anche quest’anno torna l’appuntamento con il Drunken Winter Beer Festival\, l’evento invernale organizzato dal Drunken Duck di Quinto Vicentino (VI). Il mini festival andrà in scena da venerdì 27 febbraio a domenica 1 marzo e proporrà ottime birre artigianali da tutto il mondo (25 spine a rotazione)\, oltre a tanti appuntamenti collaterali. Sabato si terrà un corso hb di MoBI e un laboratorio sul Lambic condotto dal mitico Kuaska; domenica invece la prima tappa del concorso hb di MoBI. Ovviamente sarà possibile rifocillarsi con la cucina del Drunken Duck\, che per l’occasione sfornerà specialità culinarie con prodotti stagionali e del territorio. Per tutti gli aggiornamenti tenete d’occhio la pagina Facebook dell’evento.
URL:https://cronachedibirra.it/evento/drunken-winter-beer-festival-2015/
LOCATION:AL
CATEGORIES:Iniziative
END:VEVENT
END:VCALENDAR