BEGIN:VCALENDAR
VERSION:2.0
PRODID:-//Cronache di Birra - ECPv6.15.20//NONSGML v1.0//EN
CALSCALE:GREGORIAN
METHOD:PUBLISH
X-ORIGINAL-URL:https://cronachedibirra.it
X-WR-CALDESC:Eventi per Cronache di Birra
REFRESH-INTERVAL;VALUE=DURATION:PT1H
X-Robots-Tag:noindex
X-PUBLISHED-TTL:PT1H
BEGIN:VTIMEZONE
TZID:Europe/Rome
BEGIN:DAYLIGHT
TZOFFSETFROM:+0100
TZOFFSETTO:+0200
TZNAME:CEST
DTSTART:20250330T010000
END:DAYLIGHT
BEGIN:STANDARD
TZOFFSETFROM:+0200
TZOFFSETTO:+0100
TZNAME:CET
DTSTART:20251026T010000
END:STANDARD
BEGIN:DAYLIGHT
TZOFFSETFROM:+0100
TZOFFSETTO:+0200
TZNAME:CEST
DTSTART:20260329T010000
END:DAYLIGHT
BEGIN:STANDARD
TZOFFSETFROM:+0200
TZOFFSETTO:+0100
TZNAME:CET
DTSTART:20261025T010000
END:STANDARD
BEGIN:DAYLIGHT
TZOFFSETFROM:+0100
TZOFFSETTO:+0200
TZNAME:CEST
DTSTART:20270328T010000
END:DAYLIGHT
BEGIN:STANDARD
TZOFFSETFROM:+0200
TZOFFSETTO:+0100
TZNAME:CET
DTSTART:20271031T010000
END:STANDARD
END:VTIMEZONE
BEGIN:VEVENT
DTSTART;TZID=Europe/Rome:20260423T091349
DTEND;TZID=Europe/Rome:20260423T091349
DTSTAMP:20260423T091349
CREATED:20141128T121722Z
LAST-MODIFIED:20141128T121722Z
UID:11540-1776935629-1776935629@cronachedibirra.it
SUMMARY:Nino Bacelle ospite del Barley Wine
DESCRIPTION:Nella mia personale classifica dei birrifici del Belgio – e non solo mia sospetto – De Ranke occupa una delle primissime posizioni. È dunque un vero piacere segnalare che giovedì 4 dicembre il birraio Nino Bacelle sarà ospite del Barley Wine di Roma per una serata tutta dedicata alle birre De Ranke. Per l’occasione saranno presenti alla spina XX Bitter\, XXX Bitter\, Guldenberg\, Noir de Dottignies\, Saison de Dottignies\, Cuvee De Ranke\, Kriek De Ranke\, Hop Harvest e la natalizia Pere Noel. Oltre a bere le sue splendide creazioni\, naturalmente potrete scambiare due chiacchiere con uno dei maggiori geni brassicoli del Belgio. Per i dettagli vi rimando alla pagina Facebook dell’evento.
URL:https://cronachedibirra.it/evento/nino-bacelle-ospite-del-barley-wine/
LOCATION:AL
CATEGORIES:Iniziative
END:VEVENT
BEGIN:VEVENT
DTSTART;TZID=Europe/Rome:20260423T091349
DTEND;TZID=Europe/Rome:20260423T091349
DTSTAMP:20260423T091349
CREATED:20141128T122826Z
LAST-MODIFIED:20141128T144323Z
UID:11543-1776935629-1776935629@cronachedibirra.it
SUMMARY:Festival della Madonna
DESCRIPTION:Era dal 2012 che il Nidaba di Montebelluna (TV) non organizzava un festival birrario nei mesi invernali. Ora però è il momento di tornare in pista grazie a una nuova struttura in vetro e legno creata ad hoc per le iniziative del locale\, dotata di bancone\, riscaldamento\, impianto audio e comode sedute. L’occasione allora sarà il Festival della Madonna che si terrà da sabato 6 a lunedì 8 dicembre\, con birre da tutto il mondo e appartenenti a tipologie “importanti”\, come Imperial Stout\, Barley Wine\, Double Ipa\, Belgian Strong Ale\, Kerstbier\, ecc. Non mancheranno musica dal vivo e dj set. Ulteriori informazioni sulla pagina Facebook dell’evento.
URL:https://cronachedibirra.it/evento/festival-della-madonna/
LOCATION:AL
CATEGORIES:Iniziative
END:VEVENT
BEGIN:VEVENT
DTSTART;TZID=Europe/Rome:20260423T091349
DTEND;TZID=Europe/Rome:20260423T091349
DTSTAMP:20260423T091349
CREATED:20141212T115910Z
LAST-MODIFIED:20141212T115910Z
UID:11646-1776935629-1776935629@cronachedibirra.it
SUMMARY:Christmas Beer Week al Red Bear
DESCRIPTION:Sette (anzi otto) giorni dedicati alle birre di Natale. È ciò che proporrà il Red Bear di Marghera (VE) da giovedì 18 a giovedì 25 dicembre con la sua Christmas Beer Week. Alla spina ruoteranno decine di birre provenienti da birrifici italiani e stranieri\, come Toccalmatto\, Boon\, Moor\, Cantillon\, Struise\, Dark Star\,  Kernel\, Sierra Nevada\, Adnams\, Borderline\, Haandbryggeriet\, oltre a una selezione di birre della Franconia. Per tutti i dettagli vi rimando alla pagina Facebook dell’iniziativa.
URL:https://cronachedibirra.it/evento/christmas-beer-week-al-red-bear/
LOCATION:AL
CATEGORIES:Iniziative
END:VEVENT
BEGIN:VEVENT
DTSTART;TZID=Europe/Rome:20260423T091349
DTEND;TZID=Europe/Rome:20260423T091349
DTSTAMP:20260423T091349
CREATED:20141205T120517Z
LAST-MODIFIED:20141205T120517Z
UID:11606-1776935629-1776935629@cronachedibirra.it
SUMMARY:La Notte delle Botti
DESCRIPTION:Grande appuntamento venerdì 19 dicembre con La Notte delle Botti del birrificio Black Barrels di Torino\, dedicata alle birre maturate in legno e con la partecipazione di tanti importanti birrai italiani. L’evento sarà condotto da Kuaska\, mentre tra gli ospiti troverete i birrifici Montegioco\, Loverbeer\, Ducato\, Beba\, Orso Verde\, Birrificio Italiano\, Baladin\, Birra Mastino\, chiaramente tutti con i rispettivi birrai/fondatori. Se ne volete sapere di più\, vi rimando alla pagina Facebook dell’evento.
URL:https://cronachedibirra.it/evento/la-notte-delle-botti/
LOCATION:AL
CATEGORIES:Iniziative
END:VEVENT
BEGIN:VEVENT
DTSTART;TZID=Europe/Rome:20260423T091349
DTEND;TZID=Europe/Rome:20260423T091349
DTSTAMP:20260423T091349
CREATED:20141205T114440Z
LAST-MODIFIED:20141205T114440Z
UID:11595-1776935629-1776935629@cronachedibirra.it
SUMMARY:Una slitta di... birra!
DESCRIPTION:Tra le tante iniziative incentrate sulle birre natalizie segnaliamo Una slitta di… birra!\, evento organizzato dal Beer House Club di Firenze che si terrà da venerdì 19 a domenica 21 dicembre. La giornata clou sarà quella di sabato\, quando presso il locale fiorentino saranno presenti i birrai dei birrifici ospiti dell’evento: Brùton\, PBC\, Birrificio del Forte\, Olmaia\, Maledetto Toscano\, Birra Mastrale\, Amiata e Ducato. La cucina del Beer House preparerà un menu pensato apposta per la tre giorni\, mentre altre sorprese potrebbero aggiungersi nei prossimi giorni. Per tutti gli aggiornamenti tenete d’occhio la pagina Facebook dell’evento.
URL:https://cronachedibirra.it/evento/una-slitta-di-birra/
LOCATION:AL
CATEGORIES:Iniziative
END:VEVENT
BEGIN:VEVENT
DTSTART;TZID=Europe/Rome:20260423T091349
DTEND;TZID=Europe/Rome:20260423T091349
DTSTAMP:20260423T091349
CREATED:20141205T115710Z
LAST-MODIFIED:20141205T115804Z
UID:11603-1776935629-1776935629@cronachedibirra.it
SUMMARY:Birrathon 2014
DESCRIPTION:Giunge alla sua terza edizione Birrathon\, l’evento benefico ideato dai folli ragazzi del Mad for Beer di Roma. Il funzionamento è presto detto: da venerdì 19 a domenica 21 dicembre il locale capitolino rimarrà aperto per 60 ore consecutive\, senza chiudere mai. Alle spine si alterneranno publican\, birrai e amici\, che contribuiranno a questa fantastica maratona birraria. Per tutta la durata dell’evento le birre costeranno 6 euro invece dei canonici 5\, ma 2 € a birra (1 del cliente e 1 del locale) saranno devoluti all’associazione Farmacisti in aiuto. La cucina resterà regolarmente aperta e al consueto menu si aggiungerà anche una corroborante english breakfast. Come sempre l’atmosfera sarà straordinariamente goliardica: non perdete l’occasione di partecipare a un’iniziativa benefica continuando a bere birra 🙂 . Ulteriori dettagli sulla pagina Facebook dell’evento.
URL:https://cronachedibirra.it/evento/birrathon-2014/
LOCATION:AL
CATEGORIES:Iniziative
END:VEVENT
BEGIN:VEVENT
DTSTART;TZID=Europe/Rome:20260423T091349
DTEND;TZID=Europe/Rome:20260423T091349
DTSTAMP:20260423T091349
CREATED:20141212T113840Z
LAST-MODIFIED:20141212T113840Z
UID:11639-1776935629-1776935629@cronachedibirra.it
SUMMARY:Festa di Natale Dada
DESCRIPTION:In vista delle festività 2014 il birrificio Dada di Correggio (RE) organizza la sua Festa di Natale\, che si terrà per tre giorni consecutivi da venerdì 19 a domenica 21 dicembre. Naturalmente grandi protagoniste saranno le birre della casa\, ma non mancheranno tante produzioni ospiti da altri birrifici italiani\, come Montegioco\, Retorto\, Croce di Malto\, Civale\, Chiostro\, Vecchia Orsa\, ecc. Lo speciale menu per l’evento sarà realizzato in collaborazione con l’Osteria Km0 e Il Luppolo e l’Uva: troverete primi\, zuppe\, hamburger\, carne\, fondute\, dolci e altro ancora. È possibile prenotare cene per comitive\, mentre le tre serate saranno accompagnate da dj set. Ulteriori informazioni sulla pagina Facebook dell’iniziativa.
URL:https://cronachedibirra.it/evento/festa-di-natale-dada/
LOCATION:AL
CATEGORIES:Iniziative
END:VEVENT
BEGIN:VEVENT
DTSTART;TZID=Europe/Rome:20260423T091349
DTEND;TZID=Europe/Rome:20260423T091349
DTSTAMP:20260423T091349
CREATED:20141212T121350Z
LAST-MODIFIED:20141212T121413Z
UID:11650-1776935629-1776935629@cronachedibirra.it
SUMMARY:BBF winter edition
DESCRIPTION:Se non sbaglio di eventi natalizi incentrati sulle birre ce ne sono pochi al sud Italia\, quindi è con una certa soddisfazione che inseriamo in calendario la versione invernale del Birranova Beer Fest. L’iniziativa è ovviamente organizzata dal birrificio Birranova e andrà in scena nella birreria di Triggianello (BA) da domenica 28 a martedì 30 dicembre. L’impianto da 12 vie ospiterà una selezione di birre della casa\, mentre non mancheranno laboratori di degustazione\, approfondimenti\, happy hour e un ampio menu gastronomico. Per tutti gli aggiornamenti tenete d’occhio la pagina Facebook dell’evento.
URL:https://cronachedibirra.it/evento/bbf-winter-edition/
LOCATION:AL
CATEGORIES:Iniziative
END:VEVENT
END:VCALENDAR