BEGIN:VCALENDAR
VERSION:2.0
PRODID:-//Cronache di Birra - ECPv6.15.20//NONSGML v1.0//EN
CALSCALE:GREGORIAN
METHOD:PUBLISH
X-WR-CALNAME:Cronache di Birra
X-ORIGINAL-URL:https://cronachedibirra.it
X-WR-CALDESC:Eventi per Cronache di Birra
REFRESH-INTERVAL;VALUE=DURATION:PT1H
X-Robots-Tag:noindex
X-PUBLISHED-TTL:PT1H
BEGIN:VTIMEZONE
TZID:Europe/Rome
BEGIN:DAYLIGHT
TZOFFSETFROM:+0100
TZOFFSETTO:+0200
TZNAME:CEST
DTSTART:20250330T010000
END:DAYLIGHT
BEGIN:STANDARD
TZOFFSETFROM:+0200
TZOFFSETTO:+0100
TZNAME:CET
DTSTART:20251026T010000
END:STANDARD
BEGIN:DAYLIGHT
TZOFFSETFROM:+0100
TZOFFSETTO:+0200
TZNAME:CEST
DTSTART:20260329T010000
END:DAYLIGHT
BEGIN:STANDARD
TZOFFSETFROM:+0200
TZOFFSETTO:+0100
TZNAME:CET
DTSTART:20261025T010000
END:STANDARD
BEGIN:DAYLIGHT
TZOFFSETFROM:+0100
TZOFFSETTO:+0200
TZNAME:CEST
DTSTART:20270328T010000
END:DAYLIGHT
BEGIN:STANDARD
TZOFFSETFROM:+0200
TZOFFSETTO:+0100
TZNAME:CET
DTSTART:20271031T010000
END:STANDARD
END:VTIMEZONE
BEGIN:VEVENT
DTSTART;TZID=Europe/Rome:20260423T125045
DTEND;TZID=Europe/Rome:20260423T125045
DTSTAMP:20260423T125045
CREATED:20141024T101145Z
LAST-MODIFIED:20141024T101145Z
UID:11314-1776948645-1776948645@cronachedibirra.it
SUMMARY:La Notte delle Birre in Botte
DESCRIPTION:In occasione del suo ottavo compleanno\, Birra Amiata organizza presso il suo locale di Arcidosso (GR) un evento completamente dedicato alle birre affinate in legno: La Notte delle Birre in Botte. L’appuntamento è per sabato 25 ottobre\, quando troverete le creazioni dei birrifici Loverbeer\, Montegioco\, Baladin\, PBC\, Croce di Malto\, Tilquin\, Verzet e ovviamente Amiata\, tutte rigorosamente passate in botte. Se siete amanti del genere\, il consiglio è di non perdere questo grande evento.
URL:https://cronachedibirra.it/evento/la-notte-delle-birre-in-botte/
LOCATION:AL
CATEGORIES:Iniziative
END:VEVENT
END:VCALENDAR