BEGIN:VCALENDAR
VERSION:2.0
PRODID:-//Cronache di Birra - ECPv6.15.20//NONSGML v1.0//EN
CALSCALE:GREGORIAN
METHOD:PUBLISH
X-WR-CALNAME:Cronache di Birra
X-ORIGINAL-URL:https://cronachedibirra.it
X-WR-CALDESC:Eventi per Cronache di Birra
REFRESH-INTERVAL;VALUE=DURATION:PT1H
X-Robots-Tag:noindex
X-PUBLISHED-TTL:PT1H
BEGIN:VTIMEZONE
TZID:Europe/Rome
BEGIN:DAYLIGHT
TZOFFSETFROM:+0100
TZOFFSETTO:+0200
TZNAME:CEST
DTSTART:20250330T010000
END:DAYLIGHT
BEGIN:STANDARD
TZOFFSETFROM:+0200
TZOFFSETTO:+0100
TZNAME:CET
DTSTART:20251026T010000
END:STANDARD
BEGIN:DAYLIGHT
TZOFFSETFROM:+0100
TZOFFSETTO:+0200
TZNAME:CEST
DTSTART:20260329T010000
END:DAYLIGHT
BEGIN:STANDARD
TZOFFSETFROM:+0200
TZOFFSETTO:+0100
TZNAME:CET
DTSTART:20261025T010000
END:STANDARD
BEGIN:DAYLIGHT
TZOFFSETFROM:+0100
TZOFFSETTO:+0200
TZNAME:CEST
DTSTART:20270328T010000
END:DAYLIGHT
BEGIN:STANDARD
TZOFFSETFROM:+0200
TZOFFSETTO:+0100
TZNAME:CET
DTSTART:20271031T010000
END:STANDARD
END:VTIMEZONE
BEGIN:VEVENT
DTSTART;TZID=Europe/Rome:20260423T202905
DTEND;TZID=Europe/Rome:20260423T202905
DTSTAMP:20260423T202905
CREATED:20140418T101811Z
LAST-MODIFIED:20140418T101811Z
UID:9995-1776976145-1776976145@cronachedibirra.it
SUMMARY:Quintessence 2014
DESCRIPTION:Recentemente ho dato spazio a un importante evento straniero come lo Zythos\, ma a breve un altro appuntamento belga richiamerà appassionati da mezzo mondo. Mi riferisco alla Quintessence del birrificio Cantillon\, che si terrà presso la sede del produttore di Bruxelles il giorno giovedì 1 maggio. Si tratta di un evento unico\, un viaggio tra le meraviglie acide di uno dei più straordinari birrifici al mondo. Le creazioni di Jean Van Roy però non saranno le sole protagoniste\, poiché avranno come “compagne di ventura” le creazioni di due importanti birrifici americani: Allagash e Russian River. Inoltre quest’anno si terrà il Cantillon After al Moeder Lambic\, una sorta di continuazione della Quintessence con alcune chicche vintage alla spina. Ulteriori informazioni sul sito Mondo Acido.
URL:https://cronachedibirra.it/evento/quintessence-2014/
LOCATION:AL
CATEGORIES:Iniziative
END:VEVENT
BEGIN:VEVENT
DTSTART;TZID=Europe/Rome:20260423T202905
DTEND;TZID=Europe/Rome:20260423T202905
DTSTAMP:20260423T202905
CREATED:20140411T094306Z
LAST-MODIFIED:20140411T094306Z
UID:9936-1776976145-1776976145@cronachedibirra.it
SUMMARY:Arrogant Sour Festival 2014
DESCRIPTION:Dopo il debutto del 2013\, anche quest’anno torna il grande appuntamento con l’Arrogant Sour Festival\, l’evento “acido” organizzato dall’Arrogant Pub presso il Podere Elisa di Vezzano sul Crostolo (RE). Da venerdì 2 a domenica 4 maggio potrete assaggiare circa 120 birre acide a rotazione su 60 spine\, con produzioni provenienti dai birrifici Amiata\, Bayerischer Banhof\, BFM\, Birra del Borgo\, Black Barrels\, Boon\, Cantillon\, Ducato\, Firestone Walker\, Loverbeer\, Montegioco\, Orsoep\, Rodenbach\, Stavio\, Struise\, Tilquin\, Verzet e altri. Saranno presenti diversi birrai\, tra cui gli stranieri Carlos Rodriguez (Ales Aguillons) e Tim Adams (Oxbow). L’unica eccezione sarà rappresentata della Mrs. Pepper del Birrificio Italiano\, una Pils prodotta con luppolo Cascade e pepe nero. \nCi sarà poi un sour beer shop\, un cider corner con sidri inglesi e degustazioni guidate che confronteranno alcune birre acide con vini naturali. Non mancheranno publican ed esperti del settore\, tra cui Kuaska. Il festival prevederà anche punti ristoro e area campeggio attrezzata. Per altre informazioni vi rimando alla pagina Facebook dell’evento.
URL:https://cronachedibirra.it/evento/arrogant-sour-festival-2014/
LOCATION:AL
CATEGORIES:Iniziative
END:VEVENT
BEGIN:VEVENT
DTSTART;TZID=Europe/Rome:20260423T202905
DTEND;TZID=Europe/Rome:20260423T202905
DTSTAMP:20260423T202905
CREATED:20140430T100844Z
LAST-MODIFIED:20140509T110400Z
UID:10046-1776976145-1776976145@cronachedibirra.it
SUMMARY:Un Po di Birra atto VIII
DESCRIPTION:Anche quest’anno\, per l’ottava volta consecutiva\, si terrà la consueta gita birraria sul Po organizzata dal Circolo del Luppolo e da Alta Fermentazione. L’appuntamento con Un Po di Birra è per domenica 11 maggio a Boretto (RE)\, per una giornata unica da passare in compagnia della birra artigianale e dei suoi protagonisti. Il nostromo sarà Kuaska\, che condurrà anche un pranzo di degustazione con abbinamenti. Non mancherà la musica dal vivo dei Simpsong. Per tutti i dettagli vi rimando alla pagina Facebook dell’evento.
URL:https://cronachedibirra.it/evento/un-po-di-birra-atto-vii-2/
LOCATION:AL
CATEGORIES:Iniziative
END:VEVENT
BEGIN:VEVENT
DTSTART;TZID=Europe/Rome:20260423T202905
DTEND;TZID=Europe/Rome:20260423T202905
DTSTAMP:20260423T202905
CREATED:20140516T102002Z
LAST-MODIFIED:20140516T102227Z
UID:10169-1776976145-1776976145@cronachedibirra.it
SUMMARY:Fruhling Beer Fest
DESCRIPTION:Si chiama Fruhling Beer Fest la festa della birra di primavera organizzata dal birrificio Biren a Renazzo (FE) e in programma da giovedì 22 a sabato 24 maggio. Sarà un evento in stile bavarese\, decisamente in linea con le basse fermentazioni del produttore. La parte gastronomica sarà a tema\, con piatti d’ispirazione tedesca\, ma senza disdegnare diverse eccezioni. Non mancherà musica dal vivo\, spettacoli d’intrattenimento e dj set. Per i dettagli vi rimando alla pagina Facebook dell’iniziativa.
URL:https://cronachedibirra.it/evento/fruhling-beer-fest/
LOCATION:AL
CATEGORIES:Iniziative
END:VEVENT
BEGIN:VEVENT
DTSTART;TZID=Europe/Rome:20260423T202905
DTEND;TZID=Europe/Rome:20260423T202905
DTSTAMP:20260423T202905
CREATED:20140516T104254Z
LAST-MODIFIED:20140516T104254Z
UID:10180-1776976145-1776976145@cronachedibirra.it
SUMMARY:Festa della Birra Artigianale Italiana a Legnano
DESCRIPTION:Si chiama semplicemente Festa della Birra Artigianale Italiana il mini festival organizzato dall’enopub Il Barbaresco di Legnano (MI) da venerdì 30 maggio a domenica 1 giugno. I birrifici coinvolti saranno Ducato\, Extraomnes\, Montegioco e Rurale\, oltre ai locali The Wall e La Tresca. I laboratori saranno a cura di Kuaska e Schigi\, mentre non mancheranno banchi gastronomici e piatti con menù a tema. Per saperne di più vi segnalo la pagina Facebook dell’evento.
URL:https://cronachedibirra.it/evento/festa-della-birra-artigianale-italiana-a-legnano/
LOCATION:AL
CATEGORIES:Iniziative
END:VEVENT
END:VCALENDAR