BEGIN:VCALENDAR
VERSION:2.0
PRODID:-//Cronache di Birra - ECPv6.15.20//NONSGML v1.0//EN
CALSCALE:GREGORIAN
METHOD:PUBLISH
X-WR-CALNAME:Cronache di Birra
X-ORIGINAL-URL:https://cronachedibirra.it
X-WR-CALDESC:Eventi per Cronache di Birra
REFRESH-INTERVAL;VALUE=DURATION:PT1H
X-Robots-Tag:noindex
X-PUBLISHED-TTL:PT1H
BEGIN:VTIMEZONE
TZID:Europe/Rome
BEGIN:DAYLIGHT
TZOFFSETFROM:+0100
TZOFFSETTO:+0200
TZNAME:CEST
DTSTART:20250330T010000
END:DAYLIGHT
BEGIN:STANDARD
TZOFFSETFROM:+0200
TZOFFSETTO:+0100
TZNAME:CET
DTSTART:20251026T010000
END:STANDARD
BEGIN:DAYLIGHT
TZOFFSETFROM:+0100
TZOFFSETTO:+0200
TZNAME:CEST
DTSTART:20260329T010000
END:DAYLIGHT
BEGIN:STANDARD
TZOFFSETFROM:+0200
TZOFFSETTO:+0100
TZNAME:CET
DTSTART:20261025T010000
END:STANDARD
BEGIN:DAYLIGHT
TZOFFSETFROM:+0100
TZOFFSETTO:+0200
TZNAME:CEST
DTSTART:20270328T010000
END:DAYLIGHT
BEGIN:STANDARD
TZOFFSETFROM:+0200
TZOFFSETTO:+0100
TZNAME:CET
DTSTART:20271031T010000
END:STANDARD
END:VTIMEZONE
BEGIN:VEVENT
DTSTART;TZID=Europe/Rome:20260423T214320
DTEND;TZID=Europe/Rome:20260423T214320
DTSTAMP:20260423T214320
CREATED:20140328T120728Z
LAST-MODIFIED:20140328T120728Z
UID:9832-1776980600-1776980600@cronachedibirra.it
SUMMARY:18 anni di Birrificio Lambrate
DESCRIPTION:Il Birrificio Lambrate di Milano diventa maggiorenne e sabato 5 aprile festeggia i suoi primi 18 anni con un evento apposito\, da festeggiare insieme a tutti gli amici che hanno segnato fino a oggi l’avventura di questo straordinario birrificio. La festa partirà già da mezzogiorno e sarà accompagnata da dj set\, visite guidate agli impianti (su prenotazione)\, publican e birrai da tutta Italia e la presentazione di una nuova birra prodotta in loco. Per ulteriori informazioni date un’occhiata al sito del Lambrate.
URL:https://cronachedibirra.it/evento/18-anni-di-birrificio-lambrate/
LOCATION:AL
CATEGORIES:Iniziative
END:VEVENT
BEGIN:VEVENT
DTSTART;TZID=Europe/Rome:20260423T214320
DTEND;TZID=Europe/Rome:20260423T214320
DTSTAMP:20260423T214320
CREATED:20140321T123441Z
LAST-MODIFIED:20140328T113724Z
UID:9805-1776980600-1776980600@cronachedibirra.it
SUMMARY:Epiro Beer & Street Food Festival
DESCRIPTION:La trattoria Epiro ha aperto a Roma solo da pochi mesi\, ma ha già inserito in calendario un appuntamento importantissimo. Sto parlando dell’Epiro Beer & Street Food Festival\, che si svolgerà domenica 6 aprile. Chiaramente protagonista non sarà solo la cucina del ristorante (nella sua versione “informale”)\, ma anche la birra\, con tanti birrai ospiti e le loro produzioni: Andrea Fralleoni (Free Lions)\, Riccardo Franzosi (Montegioco)\, Andrea Maiocchi (Brewfist)\, Marco Valeriani (Menaresta)\, Luigi D’Amelio (Extraomnes)\, Giovanni Campari (Ducato) e\, dal Belgio\, i coniugi Blaugies (Brasserie Blaugies). In totale 28 birre alla spina e 2 degustazioni di ampio spessore. Per la tap list e le altre informazioni vi rimando alla pagina Facebook dell’evento.
URL:https://cronachedibirra.it/evento/epiro-beer-street-food-festival/
LOCATION:AL
CATEGORIES:Iniziative
END:VEVENT
BEGIN:VEVENT
DTSTART;TZID=Europe/Rome:20260423T214320
DTEND;TZID=Europe/Rome:20260423T214320
DTSTAMP:20260423T214320
CREATED:20140328T114649Z
LAST-MODIFIED:20140328T114649Z
UID:9820-1776980600-1776980600@cronachedibirra.it
SUMMARY:Birrifugio... 30 e lode
DESCRIPTION:Come già detto\, questo 2014 è l’anno degli anniversari importanti e tra questi non si può non citare quello per i 30 anni del Birrifugio di Ostia\, storico locale del litorale romano. Chiaramente per l’occasione è stata organizzata una grande festa\, una sorta di maratona birraria che andrà avanti dalle 15\,00 alle 2\,00 di domenica 6 aprile. Durante la giornata saranno presenti amici\, clienti storici e facce conosciute della birra artigianale capitolina. Per l’occasione poi sarà presentata La Birrifugio\, la birre celebrativa realizzata grazie alla collaborazione tra i birrifici Amiata e Lariano. Se la descrizione non mi inganna\, dovrebbe essere una Golden Ale scorrevole e discretamente luppolata\, brassata con luppolo Comet. Non mancherà dj set e buffet gratuito fino a esaurimento. Ulteriori informazioni sulla pagina Facebook dell’evento.
URL:https://cronachedibirra.it/evento/birrifugio-30-e-lode/
LOCATION:AL
CATEGORIES:Iniziative
END:VEVENT
BEGIN:VEVENT
DTSTART;TZID=Europe/Rome:20260423T214320
DTEND;TZID=Europe/Rome:20260423T214320
DTSTAMP:20260423T214320
CREATED:20140404T094747Z
LAST-MODIFIED:20140404T094747Z
UID:9885-1776980600-1776980600@cronachedibirra.it
SUMMARY:Italian Pils Revolution Afternoon
DESCRIPTION:Se siete amanti delle Pils segnate nella vostra l’agenda l’appuntamento di sabato 12 aprile con l’Italian Pils Revolution Afternoon\, un incontro/degustazione organizzato dal Birrificio Rurale presso la propria sede di Desio (MB). L’obiettivo è di restituire il giusto spazio a uno stile semplice ma complesso\, che negli ultimi anni è stato oscurato dall’ascesa di IPA e derivate ma che per molti rappresenta ancora la birra per antonomasia. Protagoniste saranno allora 3 pils italiane: la 405040 del Rurale (che torna disponibile come one shot)\, la Tipopils del Birrificio Italiano e La Grigna del Lariano. Ovviamente ci saranno i rappresentanti di ogni azienda e degustatori UBT a condurre gli assaggi. Ulteriori informazioni sulla pagina Facebook del Rurale.
URL:https://cronachedibirra.it/evento/italian-pils-revolution-afternoon/
LOCATION:AL
CATEGORIES:Iniziative
END:VEVENT
BEGIN:VEVENT
DTSTART;TZID=Europe/Rome:20260423T214320
DTEND;TZID=Europe/Rome:20260423T214320
DTSTAMP:20260423T214320
CREATED:20140404T103312Z
LAST-MODIFIED:20140404T103312Z
UID:9898-1776980600-1776980600@cronachedibirra.it
SUMMARY:Hoppy Easter a Viareggio
DESCRIPTION:Se anche a Pasquetta non volete farvi mancare l’amata birra\, tenete d’occhio il mini festival organizzato dal Punto Birra di Viareggio. Sarà un evento in riva al mare (presso uno stabilimento balneare) con 6 spine a rotazione dal primo pomeriggio fino alla sera. I birrifici rappresentati saranno Hibu\, Olmaia\, Via Priula\, MC77 e Birra del Borgo. Per ulteriori informazioni tenete d’occhio la pagina Facebook del beershop toscano.
URL:https://cronachedibirra.it/evento/hoppy-easter-a-viareggio/
LOCATION:AL
CATEGORIES:Iniziative
END:VEVENT
END:VCALENDAR