BEGIN:VCALENDAR
VERSION:2.0
PRODID:-//Cronache di Birra - ECPv6.15.20//NONSGML v1.0//EN
CALSCALE:GREGORIAN
METHOD:PUBLISH
X-ORIGINAL-URL:https://cronachedibirra.it
X-WR-CALDESC:Eventi per Cronache di Birra
REFRESH-INTERVAL;VALUE=DURATION:PT1H
X-Robots-Tag:noindex
X-PUBLISHED-TTL:PT1H
BEGIN:VTIMEZONE
TZID:Europe/Rome
BEGIN:DAYLIGHT
TZOFFSETFROM:+0100
TZOFFSETTO:+0200
TZNAME:CEST
DTSTART:20250330T010000
END:DAYLIGHT
BEGIN:STANDARD
TZOFFSETFROM:+0200
TZOFFSETTO:+0100
TZNAME:CET
DTSTART:20251026T010000
END:STANDARD
BEGIN:DAYLIGHT
TZOFFSETFROM:+0100
TZOFFSETTO:+0200
TZNAME:CEST
DTSTART:20260329T010000
END:DAYLIGHT
BEGIN:STANDARD
TZOFFSETFROM:+0200
TZOFFSETTO:+0100
TZNAME:CET
DTSTART:20261025T010000
END:STANDARD
BEGIN:DAYLIGHT
TZOFFSETFROM:+0100
TZOFFSETTO:+0200
TZNAME:CEST
DTSTART:20270328T010000
END:DAYLIGHT
BEGIN:STANDARD
TZOFFSETFROM:+0200
TZOFFSETTO:+0100
TZNAME:CET
DTSTART:20271031T010000
END:STANDARD
END:VTIMEZONE
BEGIN:VEVENT
DTSTART;TZID=Europe/Rome:20260423T230151
DTEND;TZID=Europe/Rome:20260423T230151
DTSTAMP:20260423T230151
CREATED:20140221T115725Z
LAST-MODIFIED:20140221T115725Z
UID:9607-1776985311-1776985311@cronachedibirra.it
SUMMARY:BirrAlp 2014
DESCRIPTION:BirrAlp è una manifestazione molto particolare\, che unisce l’amore per la montagna con la passione per la birra di qualità. Giunto alla sua terza edizione\, l’evento si terrà sabato 1 e domenica 2 marzo presso il Rifugio Nicola ai Piani di Artavaggio (LC)\, situato a circa 2.000 m slm. Quest’anno a partecipare saranno il Birrificio Italiano e il birrificio Endorama\, che proporranno le loro creazioni in abbinamento a piatti tipici. Sabato sera si terrà una cena guidata con il seguente menu: riso alla Nicola accompagnato da B.I. Weizen\, salsiccia e braciola ai ferri accompagnate da Brasera\, selezione di formaggi nostrani abbinata a Bibock e Caliban. \nDomenica ci sarà musica dal vivo\, mentre per ulteriori informazioni vi rimando alla pagina Facebook di BirrAlp.
URL:https://cronachedibirra.it/evento/birralp-2014/
LOCATION:AL
CATEGORIES:Iniziative
END:VEVENT
BEGIN:VEVENT
DTSTART;TZID=Europe/Rome:20260423T230151
DTEND;TZID=Europe/Rome:20260423T230151
DTSTAMP:20260423T230151
CREATED:20140321T114325Z
LAST-MODIFIED:20140321T114325Z
UID:9788-1776985311-1776985311@cronachedibirra.it
SUMMARY:#Socialbirra a Roma
DESCRIPTION:Si chiama #Socialbirra il primo evento italiano su birra e social media\, in programma a Roma domenica 23 marzo presso la Città dell’Altra Economia. L’iniziativa unirà birra artigianale\, seminari e workshop\, musica dal vivo\, dj set. Alcuni incontri saranno a pagamento\, altri gratuiti (come quello di Assobirra). I temi trattati ovviamente riguarderanno le principali tecnologie social (Tumblr\, Twitter\, Instagram\, Pinterest\, Foursquare\, ecc.)\, ma anche argomenti più prettamente brassicoli. Saranno presenti le beer firm Eternal City\, Ecsit Ventidodici\, Stavio e Organiconcrete. Ulteriori informazioni sulla pagina Facebook dell’iniziativa.
URL:https://cronachedibirra.it/evento/socialbirra-a-roma/
LOCATION:AL
CATEGORIES:Iniziative
END:VEVENT
BEGIN:VEVENT
DTSTART;TZID=Europe/Rome:20260423T230151
DTEND;TZID=Europe/Rome:20260423T230151
DTSTAMP:20260423T230151
CREATED:20140321T120349Z
LAST-MODIFIED:20140321T120349Z
UID:9793-1776985311-1776985311@cronachedibirra.it
SUMMARY:BirrAlp 2014 - Reprise
DESCRIPTION:Di BirrAlp\, l’iniziativa che unisce la birra artigianale con la passione per la montagna\, abbiamo parlato a inizio marzo\, quando si è tenuta la sua quarta edizione. Visto il successo riscontrato\, sabato 29 e domenica 30 marzo l’evento replicherà sempre presso il Rifugio Nicola ai Piani di Artavaggio. I produttori protagonisti saranno nuovamente il Birrificio Italiano ed Endorama\, che porteranno tre birre ciascuno: BI Weizen\, Amber Shock e Vudù il primo\, Golconda\, Vermillion e Milkyman il secondo. Per il resto dovrebbe essere confermata la formula di sempre\, con piatti tipici in abbinamento e musica dal vivo. Ulteriori informazioni sulla pagina Facebook dell’evento.
URL:https://cronachedibirra.it/evento/birralp-2014-reprise/
LOCATION:AL
CATEGORIES:Iniziative
END:VEVENT
END:VCALENDAR