BEGIN:VCALENDAR
VERSION:2.0
PRODID:-//Cronache di Birra - ECPv6.15.20//NONSGML v1.0//EN
CALSCALE:GREGORIAN
METHOD:PUBLISH
X-WR-CALNAME:Cronache di Birra
X-ORIGINAL-URL:https://cronachedibirra.it
X-WR-CALDESC:Eventi per Cronache di Birra
REFRESH-INTERVAL;VALUE=DURATION:PT1H
X-Robots-Tag:noindex
X-PUBLISHED-TTL:PT1H
BEGIN:VTIMEZONE
TZID:Europe/Rome
BEGIN:DAYLIGHT
TZOFFSETFROM:+0100
TZOFFSETTO:+0200
TZNAME:CEST
DTSTART:20250330T010000
END:DAYLIGHT
BEGIN:STANDARD
TZOFFSETFROM:+0200
TZOFFSETTO:+0100
TZNAME:CET
DTSTART:20251026T010000
END:STANDARD
BEGIN:DAYLIGHT
TZOFFSETFROM:+0100
TZOFFSETTO:+0200
TZNAME:CEST
DTSTART:20260329T010000
END:DAYLIGHT
BEGIN:STANDARD
TZOFFSETFROM:+0200
TZOFFSETTO:+0100
TZNAME:CET
DTSTART:20261025T010000
END:STANDARD
BEGIN:DAYLIGHT
TZOFFSETFROM:+0100
TZOFFSETTO:+0200
TZNAME:CEST
DTSTART:20270328T010000
END:DAYLIGHT
BEGIN:STANDARD
TZOFFSETFROM:+0200
TZOFFSETTO:+0100
TZNAME:CET
DTSTART:20271031T010000
END:STANDARD
END:VTIMEZONE
BEGIN:VEVENT
DTSTART;TZID=Europe/Rome:20260424T141307
DTEND;TZID=Europe/Rome:20260424T141307
DTSTAMP:20260424T141307
CREATED:20130419T112210Z
LAST-MODIFIED:20130419T112251Z
UID:7601-1777039987-1777039987@cronachedibirra.it
SUMMARY:Arrogant Sour Festival
DESCRIPTION:Questa volta l’Arrogant Pub di Reggio Emilia ha organizzato un festival davvero fuori di testa\, completamente dedicato alle birre acide. E lo ha fatto in grande\, con la bellezza di 40 produzioni alla spina\, provenienti da birrifici come Cantillon\, BFM\, Montegioco\, Stavio\, Menaresta\, Loverbeer\, Tilquin\, De Ranke\, Rodenbach\, Freigeist\, Bayerischer Banhof\, Ducato e altri. A spillare ci sarà non solo l’ospite di casa\, Alle\, ma anche altri tre grandissmi publican italiani: Michele Galati (The Dome)\, Manuele Colonna (Macche)\, Nino Maiorano (Sherwood). Non mancheranno tanti birrai italiani e stranieri. Dimenticavo\, l’evento è in programma mercoledì 1 maggio. Ulteriori informazioni sulla pagina dell’evento Facebook.
URL:https://cronachedibirra.it/evento/arrogant-sour-festival/
LOCATION:AL
CATEGORIES:Iniziative
END:VEVENT
BEGIN:VEVENT
DTSTART;TZID=Europe/Rome:20260424T141307
DTEND;TZID=Europe/Rome:20260424T141307
DTSTAMP:20260424T141307
CREATED:20130517T112109Z
LAST-MODIFIED:20130517T112109Z
UID:7800-1777039987-1777039987@cronachedibirra.it
SUMMARY:Festa di inaugurazione della nuova sede del Rurale
DESCRIPTION:Dopo alcuni anni di attività il Birrificio Rurale cambia sede e approfitta dell’occasione per organizzare una grande festa di inaugurazione. L’appuntamento è per domani sabato 18 a Desio (MB) in via del Commercio 2. Protagoniste saranno ovviamente le birre della casa (Seta Special\, Reset\, Terzo Miglio e Castigamatt)\, mentre ci sarà musica dal vivo e un buffet gratuito con prodotti di artigiani della zona. L’evento si terrà anche in caso di maltempo all’interno dello spazio del birrificio. Dettagli aggiuntivi sulla pagina Facebook dell’evento.
URL:https://cronachedibirra.it/evento/festa-di-inaugurazione-della-nuova-sede-del-rurale/
LOCATION:AL
CATEGORIES:Iniziative
END:VEVENT
BEGIN:VEVENT
DTSTART;TZID=Europe/Rome:20260424T141307
DTEND;TZID=Europe/Rome:20260424T141307
DTSTAMP:20260424T141307
CREATED:20130503T112121Z
LAST-MODIFIED:20130503T112121Z
UID:7680-1777039987-1777039987@cronachedibirra.it
SUMMARY:Un Po di Birra - Atto VII
DESCRIPTION:L’ormai storica gita birraria sul Po organizzata dal Circolo del Luppolo e Alta Fermentazione quest’anno è prevista per domenica 19 maggio. La Motonave Stradivari partirà da Boretto (RE) agli ordini del comandante Kuaska e con un carico di birra artigianale. Saranno presenti i birrifici Black Barrell\, Emiliano\, Birrificio del Forte\, Bi-Du\, Orso Verde\, Manerba\, Endorama\, Brewfist\, Ducato\, Maltus Faber\, Montegioco\, Elav e probabilmente qualche altro che mi è sfuggito. \nNon mancherà un pranzo a tema con degustazione guidata da Kuaska e la musica dal vivo dei Simpsong. Ulteriori informazioni sul sito del Circolo del Luppolo.
URL:https://cronachedibirra.it/evento/un-po-di-birra-atto-vii/
LOCATION:AL
CATEGORIES:Iniziative
END:VEVENT
BEGIN:VEVENT
DTSTART;TZID=Europe/Rome:20260424T141307
DTEND;TZID=Europe/Rome:20260424T141307
DTSTAMP:20260424T141307
CREATED:20130510T113157Z
LAST-MODIFIED:20130510T121609Z
UID:7748-1777039987-1777039987@cronachedibirra.it
SUMMARY:IPA Beer Festival per i 10 anni del Red Bear
DESCRIPTION:Il Red Bear di Marghera (VE) raggiunge il prestigioso traguardo dei 10 anni di attività e lo festeggia con l’IPA Beer Festival\, un evento completamente dedicato al più diffuso stile birrario. L’iniziativa è in programma da giovedì 23 a lunedì 27 maggio presso la birreria di via Trieste\, con le 25 spine tutte destinate a ospitare (a rotazione) produzioni esclusivamente extraluppolate. \nQuesta la lista delle birre: Kernel Mosaik Ipa\, Kernel Amarillo Ipa\, Mikkeller/Grassroots Wheat is the New Hops IPA\, Hardknott Queboid Belgian Double Ipa\, Hardknott Azimuth Ipa\, Brewdog/Mikkeller I Hard Core You Double Ipa\, Retorto Krakatoa Ipa\, Acqua Alta Stelle E Stalle Mandarina Ipa\, Bad Attitude Dude Double Ipa\, Bad Attitude Hobo Rye Ipa\, Revelation Cat Hop Addendum Ipa\, Foglie D’erba Hopfelia Ipa\, Bradipongo Bradipa\, Fritz Ipa\, Endorama Vermillon Ipa\, Summer Wine Sigma Ipa\, Meantime Ipa\, Ridgeway Ipa\, Amger Ipa\, Amager Gluttony Imperial Ipa\, Gadds Left Coast Ipa\, Hornbeer H.Hoppy Easter Ipa\, Hornbeer Hophorn Imperial Black Ipa\, Buxton Wild Boar Ipa\, Dugges Bollox Double Ipa\, Olmo Light Ipa. \nPer i dettagli vi rimando alla pagina Facebook dell’evento.
URL:https://cronachedibirra.it/evento/ipa-beer-festival-per-i-10-anni-del-red-bear/
LOCATION:AL
CATEGORIES:Iniziative
END:VEVENT
END:VCALENDAR