BEGIN:VCALENDAR
VERSION:2.0
PRODID:-//Cronache di Birra - ECPv6.15.20//NONSGML v1.0//EN
CALSCALE:GREGORIAN
METHOD:PUBLISH
X-WR-CALNAME:Cronache di Birra
X-ORIGINAL-URL:https://cronachedibirra.it
X-WR-CALDESC:Eventi per Cronache di Birra
REFRESH-INTERVAL;VALUE=DURATION:PT1H
X-Robots-Tag:noindex
X-PUBLISHED-TTL:PT1H
BEGIN:VTIMEZONE
TZID:Europe/Rome
BEGIN:DAYLIGHT
TZOFFSETFROM:+0100
TZOFFSETTO:+0200
TZNAME:CEST
DTSTART:20250330T010000
END:DAYLIGHT
BEGIN:STANDARD
TZOFFSETFROM:+0200
TZOFFSETTO:+0100
TZNAME:CET
DTSTART:20251026T010000
END:STANDARD
BEGIN:DAYLIGHT
TZOFFSETFROM:+0100
TZOFFSETTO:+0200
TZNAME:CEST
DTSTART:20260329T010000
END:DAYLIGHT
BEGIN:STANDARD
TZOFFSETFROM:+0200
TZOFFSETTO:+0100
TZNAME:CET
DTSTART:20261025T010000
END:STANDARD
BEGIN:DAYLIGHT
TZOFFSETFROM:+0100
TZOFFSETTO:+0200
TZNAME:CEST
DTSTART:20270328T010000
END:DAYLIGHT
BEGIN:STANDARD
TZOFFSETFROM:+0200
TZOFFSETTO:+0100
TZNAME:CET
DTSTART:20271031T010000
END:STANDARD
END:VTIMEZONE
BEGIN:VEVENT
DTSTART;TZID=Europe/Rome:20260424T171954
DTEND;TZID=Europe/Rome:20260424T171954
DTSTAMP:20260424T171954
CREATED:20130405T110314Z
LAST-MODIFIED:20130405T110412Z
UID:7483-1777051194-1777051194@cronachedibirra.it
SUMMARY:Menaresta a Roma
DESCRIPTION:Negli ultimi mesi il birrificio Menaresta ha cominciato a occupare le spine dei locali romani con una certa costanza\, calamitando l’attenzione e l’approvazione di tanti appassionati. In molti quindi saranno felici di sapere che in questi giorni l’azienda di Carate Brianza sarà di scena a Roma nella figura di Marco Valeriani. Si comincerà sabato con una speciale giornata al Ma che siete\, si proseguirà domenica con un’ospitata al Blind Pig. \nSei delle tante spine del pub trasteverino saranno dedicate a Menaresta\, con prodotti come 22 La Verguenza\, 2 di Picche\, Fumata Bianca e San Dalmazzo. Inoltre sarà disponibile un fusto di Roots in Wine\, rara Strong Ale acida invecchiata in botti di Nebbiolo della Valtellina e prodotta con aggiunta di carrube. Per info dettagliate vi rimando alla pagina Facebook dell’evento. \nCome detto\, la domenica successiva Marco Valeriani sarà al Blind Pig\, dove porterà cinque delle sue birre: Pan Negar\, Bevera\, 2 di Picche\, San Dalmazzo e 22 La Verguenza. Il pub di zona Alberone proporrà un menu speciale da abbinare eventualmente alle birre. Anche qui trovate tutte le informazioni su Facebook.
URL:https://cronachedibirra.it/evento/menaresta-a-roma/
CATEGORIES:Iniziative
END:VEVENT
BEGIN:VEVENT
DTSTART;TZID=Europe/Rome:20260424T171954
DTEND;TZID=Europe/Rome:20260424T171954
DTSTAMP:20260424T171954
CREATED:20130412T110529Z
LAST-MODIFIED:20130412T110529Z
UID:7536-1777051194-1777051194@cronachedibirra.it
SUMMARY:Fly with Us tour: presentazione Starship a Roma e dintorni
DESCRIPTION:Nelle scorse settimane vi ho parlato della Starship\, ultima nata in casa Olmaia. Il nome della birra è un omaggio del birraio Moreno Ercolani ai Led Zeppelin\, per confermare il suo amore per la band britannica e per il rock più in generale. Da questa passione è nata l’idea di organizzare qualcosa simile a un tour musicale: un evento itinerante di presentazione della nuova birra\, con 16 tappe corrispondenti ad altrettanti locali di Roma e dintorni. Detto – fatto: è così che negli stessi giorni Moreno ha annunciato il suo Fly with Us tour 2013 🙂 . \nDi seguito le tappe con le rispettive date: \nDom. 14 Aprile ore 18.00 Saxophone\nDom. 14 Aprile ore 22.00 Piccola Abbazia\nLun. 15 Aprile ore 20.30 Ozi vizi e sfizi\nVen. 19 Aprile ore 19.00 Lannister\nDom. 21 Aprile ore 18.00 Bir&fud\nDom. 21 Aprile ore 22.00 La Tana (con proiezione su megaschermo di un concerto dei Led Zeppelin a sorpresa)\nLun. 22 Aprile ore 20.00 Taberna (serata per i 10 anni di Mondobirra.org)\nVen. 26 Aprile ore 2.00 !!! Mastro Titta ( questa è veramente Rock’n’Roll)\nDom. 28 Aprile ore 18.00 Pirati\nDom. 28 Aprile ore 22.00 Officina Birra\nLun. 29 Aprile ore 18.00 Eataly\nLun. 29 Aprile ore 21.00 Open Baladin (con Leonardo Di Vincenzo)\nSab. 4 Maggio ore 22.00 Maltese\nDom. 5 Maggio ore 18.00 Altroquando (con concerto Acustico Led Zeppelin Cover)\nLun. 6 Maggio ore 20.30 Exodus Pub\nDa definire Buskers Pub \nA ogni tappa sarà attaccato un fusto di Starship\, accompagnato dalla musica dei Led Zeppelin. Niente degustazioni\, niente abbinamenti\, ma solo birra da bere in compagnia. Se ne volete sapere di più\, ecco il relativo post sul blog di Moreno.
URL:https://cronachedibirra.it/evento/fly-with-us-tour-presentazione-starship-a-roma-e-dintorni/
CATEGORIES:Iniziative
END:VEVENT
BEGIN:VEVENT
DTSTART;TZID=Europe/Rome:20260424T171954
DTEND;TZID=Europe/Rome:20260424T171954
DTSTAMP:20260424T171954
CREATED:20130405T114132Z
LAST-MODIFIED:20130405T114132Z
UID:7495-1777051194-1777051194@cronachedibirra.it
SUMMARY:Magic Rock al Macche
DESCRIPTION:Se siete amanti delle birre anglosassoni\, vi segnalo l’appuntamento di venerdì 19 aprile al Ma che siete di Roma con i birrai di Magic Rock: Stuart Ross e la nostra Giada Maria Simioni (anche responsabile del controllo qualità del birrificio). Alle spine del pub capitolino troverete 6 delle loro birre: Rapture\, Cannonball\, High Wire\, Curious\, Simpleton e\, in anteprima\, la nuova Dancing Bear. \nIl birrificio di Huddersfield si propone come una delle migliori realtà del crescente nuovo panorama anglosassone. L’evento partirà alle 18\,00\, tutti i dettagli sono su Facebook.
URL:https://cronachedibirra.it/evento/magic-rock-al-macche/
CATEGORIES:Iniziative
END:VEVENT
BEGIN:VEVENT
DTSTART;TZID=Europe/Rome:20260424T171954
DTEND;TZID=Europe/Rome:20260424T171954
DTSTAMP:20260424T171954
CREATED:20130419T105613Z
LAST-MODIFIED:20130419T105613Z
UID:7593-1777051194-1777051194@cronachedibirra.it
SUMMARY:Presentazione Birrificio Settimo a Roma
DESCRIPTION:Come annunciato recentemente\, sabato 20 aprile il rinnovato Birrificio Settimo (ex Siebter Himmel) sbarca a Roma: a partire da sabato 20 aprile le sue birre (e il birraio Nicola Grande) saranno presenti in una serie di pub capitolini. L’elenco dei locali che aderiscono all’iniziativa è la seguente: Blind Pig\, Grandma Bistrot\, Hop & Pork Quadraro\, Hop & Pork Cinecittà\, Kombeer\, Mad For Beer\, Red Fox. Per ulteriori informazioni potete consultare la pagina Facebook dell’evento.
URL:https://cronachedibirra.it/evento/presentazione-birrificio-settimo-a-roma/
CATEGORIES:Iniziative
END:VEVENT
BEGIN:VEVENT
DTSTART;TZID=Europe/Rome:20260424T171954
DTEND;TZID=Europe/Rome:20260424T171954
DTSTAMP:20260424T171954
CREATED:20130412T111453Z
LAST-MODIFIED:20130412T111453Z
UID:7541-1777051194-1777051194@cronachedibirra.it
SUMMARY:Loverbeer mon amour al King Arthur
DESCRIPTION:Le birre del birrificio Loverbeer e il suo birraio\, Valter Loverier\, saranno protagoniste domenica 21 aprile di una serata organizzata dal pub King Arthur di Ciampino (RM). La lineup delle spine sarà composta da Madamin\, Dama Bruna\, D’Uvabeer\, Beerbera e Papessa. La cucina del locale proporrà un menu abbinato alle birre\, con portate che ognuno sarà libero di scegliere se associare o meno alle birre. Per i dettagli vi rimando alla pagina Facebook dell’evento. \n\n\nSunday\, April 21
URL:https://cronachedibirra.it/evento/loverbeer-mon-amour-al-king-arthur/
CATEGORIES:Iniziative
END:VEVENT
BEGIN:VEVENT
DTSTART;TZID=Europe/Rome:20260424T171954
DTEND;TZID=Europe/Rome:20260424T171954
DTSTAMP:20260424T171954
CREATED:20130412T113119Z
LAST-MODIFIED:20130412T113119Z
UID:7543-1777051194-1777051194@cronachedibirra.it
SUMMARY:Evento Chimay Dorée in Italia
DESCRIPTION:Anche se non siete grandi appassionati di birra sicuramente avrete incrociato qualche birra di Chimay\, il più diffuso tra tutti i birrifici trappisti. In beershop\, enoteche e addirittura supermercati non è difficile imbattersi nelle Chimay Rossa e Blu\, talvolta anche nella Triple. È invece una rarità assoluta la Dorée\, la versione prodotta per il consumo interno del monastero che\, come da tradizione per i birrifici trappisti\, solitamente è disponibile solo in loco. Ebbene nei prossimi giorni la Dorée sbarcherà in Italia in quantità limitata\, sia alla spina che in bottiglie da 33 cl. Insieme all’Inghilterra\, l’Italia sarà la sola nazione al mondo dove faranno capolino i fusti di questa birra\, in 50 locali selezionati. \nPer l’occasione\, martedì 23 aprile alle 19\,00 saranno attaccati contemporaneamente o fusti di Chimay Dorée nei 50 locali italiani\, di cui al momento posso riportarvi un elenco parziale (che aggiornerò nelle prossime ore): Thomasbrau – Garlasco PV\, Einmass- Montello – BG\, Il Cetra – Cittadella PD\, Officina Gambrinus Trento\, Gos – Ronsecco VC\, Good Devil Pub – Villorba TV\, King&Arms – Pordenone\, Il Fondo – Recco GE\, Mastro Titta – Roma\, Gregory’s inn – Roma\, Piccola Abbazzia – Roma\, Torquemada – Genzano di Roma RM\, Cult Room – Aprilia LT\, The Bentley – Ferentino FR. \nPoi a giugno a Roma si terrà una presentazione ufficiale\, di cui vi farò sapere i dettagli. Allo scorso Selezione Birra la Dorée fu in grado di commuovermi\, perciò non vedo l’ora di assaggiarla in questa nuova occasione.
URL:https://cronachedibirra.it/evento/evento-chimay-doree-in-italia/
CATEGORIES:Iniziative
END:VEVENT
END:VCALENDAR