BEGIN:VCALENDAR
VERSION:2.0
PRODID:-//Cronache di Birra - ECPv6.15.20//NONSGML v1.0//EN
CALSCALE:GREGORIAN
METHOD:PUBLISH
X-WR-CALNAME:Cronache di Birra
X-ORIGINAL-URL:https://cronachedibirra.it
X-WR-CALDESC:Eventi per Cronache di Birra
REFRESH-INTERVAL;VALUE=DURATION:PT1H
X-Robots-Tag:noindex
X-PUBLISHED-TTL:PT1H
BEGIN:VTIMEZONE
TZID:Europe/Rome
BEGIN:DAYLIGHT
TZOFFSETFROM:+0100
TZOFFSETTO:+0200
TZNAME:CEST
DTSTART:20190331T010000
END:DAYLIGHT
BEGIN:STANDARD
TZOFFSETFROM:+0200
TZOFFSETTO:+0100
TZNAME:CET
DTSTART:20191027T010000
END:STANDARD
BEGIN:DAYLIGHT
TZOFFSETFROM:+0100
TZOFFSETTO:+0200
TZNAME:CEST
DTSTART:20200329T010000
END:DAYLIGHT
BEGIN:STANDARD
TZOFFSETFROM:+0200
TZOFFSETTO:+0100
TZNAME:CET
DTSTART:20201025T010000
END:STANDARD
BEGIN:DAYLIGHT
TZOFFSETFROM:+0100
TZOFFSETTO:+0200
TZNAME:CEST
DTSTART:20210328T010000
END:DAYLIGHT
BEGIN:STANDARD
TZOFFSETFROM:+0200
TZOFFSETTO:+0100
TZNAME:CET
DTSTART:20211031T010000
END:STANDARD
END:VTIMEZONE
BEGIN:VEVENT
DTSTART;VALUE=DATE:20200216
DTEND;VALUE=DATE:20200217
DTSTAMP:20260421T165925
CREATED:20200207T135324Z
LAST-MODIFIED:20200207T135324Z
UID:26497-1581811200-1581897599@cronachedibirra.it
SUMMARY:Sashi finlandese e Verdant Brewing
DESCRIPTION:È fissato per domenica 16 febbraio l’evento del Luppolo Station di Roma dedicato agli amanti della birra e della carne. Alla spina saranno presenti le produzioni del birrificio inglese Verdant\, rinomato soprattutto per le sue creazioni luppolate. Il menu invece sarà incentrato su una selezione di tagli della pregiatissima carne finlandese classificata Sashi\, fornita dalla Macelleria da Carlo di Genova. I piatti disponibili per la serata saranno tartare\, picanha e costata\, tutte ovviamente di Sashi finlandese. Per saperne di più vi consiglio di seguire la pagina Facebook dell’evento in cui saranno pubblicati tutti gli aggiornamenti.
URL:https://cronachedibirra.it/evento/sashi-finlandese-e-verdant-brewing/
LOCATION:Luppolo Station\, Via Giuseppe Parini 4\, Roma\, RM\, Italia
CATEGORIES:Degustazioni
ATTACH;FMTTYPE=image/jpeg:https://cdn1.cronachedibirra.it/wp-content/uploads/20200207145308/luppolo-verdant.jpg
END:VEVENT
END:VCALENDAR