BEGIN:VCALENDAR
VERSION:2.0
PRODID:-//Cronache di Birra - ECPv6.15.20//NONSGML v1.0//EN
CALSCALE:GREGORIAN
METHOD:PUBLISH
X-WR-CALNAME:Cronache di Birra
X-ORIGINAL-URL:https://cronachedibirra.it
X-WR-CALDESC:Eventi per Cronache di Birra
REFRESH-INTERVAL;VALUE=DURATION:PT1H
X-Robots-Tag:noindex
X-PUBLISHED-TTL:PT1H
BEGIN:VTIMEZONE
TZID:Europe/Rome
BEGIN:DAYLIGHT
TZOFFSETFROM:+0100
TZOFFSETTO:+0200
TZNAME:CEST
DTSTART:20210328T010000
END:DAYLIGHT
BEGIN:STANDARD
TZOFFSETFROM:+0200
TZOFFSETTO:+0100
TZNAME:CET
DTSTART:20211031T010000
END:STANDARD
BEGIN:DAYLIGHT
TZOFFSETFROM:+0100
TZOFFSETTO:+0200
TZNAME:CEST
DTSTART:20220327T010000
END:DAYLIGHT
BEGIN:STANDARD
TZOFFSETFROM:+0200
TZOFFSETTO:+0100
TZNAME:CET
DTSTART:20221030T010000
END:STANDARD
BEGIN:DAYLIGHT
TZOFFSETFROM:+0100
TZOFFSETTO:+0200
TZNAME:CEST
DTSTART:20230326T010000
END:DAYLIGHT
BEGIN:STANDARD
TZOFFSETFROM:+0200
TZOFFSETTO:+0100
TZNAME:CET
DTSTART:20231029T010000
END:STANDARD
END:VTIMEZONE
BEGIN:VEVENT
DTSTART;VALUE=DATE:20220610
DTEND;VALUE=DATE:20220613
DTSTAMP:20260421T235436
CREATED:20220527T133618Z
LAST-MODIFIED:20220527T133618Z
UID:36187-1654819200-1655078399@cronachedibirra.it
SUMMARY:Birra in B... Rocca 2022
DESCRIPTION:Sarà ancora una volta il Castello Arechi di Salerno a ospitare la manifestazione Birra in B… Rocca\, in programma da venerdì 10 a domenica 12 giugno. I birrifici presenti\, tutti campani\, saranno i seguenti: Arechi Beer\, Baffo&Co\, Bella’Mbriana\, Birring\, Birrificio delle Cave\, Fiej\, Incanto\, Kbirr e Okorei. Il programma prevede musica dal vivo (ci saranno anche i Neri per Caso)\, challenge birraria e altro ancora\, mentre la parte food proporrà fritti\, pizze\, hamburger e caciocavallo. Maggiori informazioni sono disponibili sul sito di Birra in B… Rocca.
URL:https://cronachedibirra.it/evento/birra-in-b-rocca-2022/
LOCATION:Castello Arechi\, Salerno\, SA\, Italia
CATEGORIES:Manifestazioni
ATTACH;FMTTYPE=image/jpeg:https://cdn1.cronachedibirra.it/wp-content/uploads/20220527153458/birra-in-brocca-1.jpg
END:VEVENT
BEGIN:VEVENT
DTSTART;VALUE=DATE:20220610
DTEND;VALUE=DATE:20220613
DTSTAMP:20260421T235436
CREATED:20220601T210232Z
LAST-MODIFIED:20220601T210232Z
UID:36288-1654819200-1655078399@cronachedibirra.it
SUMMARY:Beer Park Festival 2022
DESCRIPTION:Dopo due anni di pausa forzata torna il Beer Park Festival\, manifestazione in programma da venerdì 10 a domenica 12 giugno nella nuova location della Riserva Naturale della Valle dell’Aniene\, a Roma. I birrifici presenti rappresentano un bel mix tra vecchie conoscenze dell’evento e new entry: Bibibir\, Bonavena\, Borderline\, BSA\, ECB\, Hilltop\, Hopskin\, Jungle Juice\, Lucky Brews\, Rebel’s\, Birrificio Sabino\, Antikorpo\, Bajon\, Busa dei Briganti\, Chianti Brew Fighters\, Eastside\, Edit\, Mister B\, Malaripe\, Radiocraft\, Vertiga\, Birrificio Ciociaro\, Birrificio Lepino\, Mostoitaliano e Officina del Baccano. L’offerta gastronomica sarà coperta da una folta presenza di food truck. Maggiori informazioni sono disponibili sulla pagina Facebook del festival.
URL:https://cronachedibirra.it/evento/beer-park-festival-2022/
LOCATION:Riserva Naturale della Valle dell’Aniene\, Via Sannazzaro\, Roma\, RM\, 00141\, Italia
CATEGORIES:Manifestazioni
ATTACH;FMTTYPE=image/jpeg:https://cdn1.cronachedibirra.it/wp-content/uploads/20220601225733/beer-park-2.jpg
END:VEVENT
BEGIN:VEVENT
DTSTART;VALUE=DATE:20220610
DTEND;VALUE=DATE:20220613
DTSTAMP:20260421T235436
CREATED:20220601T211512Z
LAST-MODIFIED:20220601T211512Z
UID:36292-1654819200-1655078399@cronachedibirra.it
SUMMARY:Brianza Beer Festival 2022
DESCRIPTION:Nuova location per il Brianza Beer Festival\, che si terrà da venerdì 10 a domenica 12 giugno presso il Parco di Monza a Biassono (MB)\, in una tensostruttura da 2.000 mq posizionata nel prato davanti a Cascina Costa Alta. I birrifici partecipanti sono 14\, provenienti da tutta Italia: Alder\, Birrificio di Cagliari\, Birrificio Italiano\, Birra Perugia\, Carrobiolo\, Croce di Malto\, Dulac\, Foglie d’Erba\, Edit\, Ibeer\, Opperbacco\, Piccolo Birrificio Clandestino\, Railroad e War. Il programma prevede Caution Barrication Area in collaborazione con Menaresta (birre acide\, wild e affinate in legno)\, street food\, mercatino di artigianato\, area relax e concorso popolare. Ulteriori informazioni sono disponibili sul sito del Brianza Beer Festival.
URL:https://cronachedibirra.it/evento/brianza-beer-festival-2022/
LOCATION:Parco di Monza\, Via Parco 57\, Biassono\, MB\, 20853\, Italia
CATEGORIES:Manifestazioni
ATTACH;FMTTYPE=image/jpeg:https://cdn1.cronachedibirra.it/wp-content/uploads/20220601231440/bbf-1-3.jpg
END:VEVENT
BEGIN:VEVENT
DTSTART;VALUE=DATE:20220610
DTEND;VALUE=DATE:20220613
DTSTAMP:20260421T235436
CREATED:20220601T212524Z
LAST-MODIFIED:20220601T212659Z
UID:36298-1654819200-1655078399@cronachedibirra.it
SUMMARY:Artebirra Pasturana 2022
DESCRIPTION:Dopo due edizioni con il freno a mano tirato\, torna nella sua dimensione completa Artebirra Pasturana\, uno dei festival di birra artigianale più longevi d’Italia. In programma presso il centro sportivo di Pasturana (AL) da venerdì 10 a domenica 12 giugno\, proporrà per la prima volta una formula totalmente inedita. Della gestione delle spine\, infatti\, si occuperà direttamente Birra Pasturana: alla spina saranno disponibili molte creazioni del birrificio locale\, ma anche quelle dei produttori ospiti\, cioè Impavida\, Le Corti di Porana e Birrificio Legnone. Il programma prevede un’ampia zona food\, musica dal vivo e degustazioni guidate\, mentre dovrebbe essere confermata la zona camping libera. Purtroppo il sito della manifestazione è fermo al 2019\, quindi se ne volete sapere di più vi conviene consultare quello della Proloco di Pasturana.
URL:https://cronachedibirra.it/evento/artebirra-pasturana-2022/
LOCATION:Campo Sportivo di Pasturana\, Pasturana\, AL\, Italia
CATEGORIES:Manifestazioni
ATTACH;FMTTYPE=image/jpeg:https://cdn1.cronachedibirra.it/wp-content/uploads/20220601232512/artebirra-1.jpg
END:VEVENT
BEGIN:VEVENT
DTSTART;VALUE=DATE:20220611
DTEND;VALUE=DATE:20220612
DTSTAMP:20260421T235436
CREATED:20220610T122231Z
LAST-MODIFIED:20220610T122231Z
UID:36464-1654905600-1654991999@cronachedibirra.it
SUMMARY:Tripel Pride 2022
DESCRIPTION:Andrà in scena domani\, sabato 11 giugno\, l’edizione 2022 del Tripel Pride\, l’evento organizzato dal birrificio Extraomnes dedicato a uno degli stili belgi più importanti e pericolosi allo stesso tempo. Presso il locale Extraomnes Bier & Cibo di Castellanza (VA) saranno disponibili quasi 20 Tripel da altrettanti birrifici italiani e belgi\, nello specifico: 50&50\, Edit\, Menaresta\, PLB\, Birra OV\, Lieviteria\, Beer In\, Il Mastio\, Luvertin\, Nix Beer\, Extraomnes\, St. Bernardus\, Van Steenberge\, De Ranke\, De Glazen Toren\, De La Senne\, Dupont. Sarà possibile intervallare gli assaggi con una birra più leggera (42db)\, mentre il menu sarà incentrato su pulled pork e Coleslaw Salad. Maggiori informazioni sono disponibili sulla pagina Facebook dell’evento.
URL:https://cronachedibirra.it/evento/tripel-pride-2022/
LOCATION:Extraomnes Bier & Cibo\, Viale Don Minzoni 38\, Castellanza\, VA\, Italia
CATEGORIES:Iniziative
ATTACH;FMTTYPE=image/jpeg:https://cdn1.cronachedibirra.it/wp-content/uploads/20200131181227/tripel-pride.jpg
END:VEVENT
BEGIN:VEVENT
DTSTART;VALUE=DATE:20220611
DTEND;VALUE=DATE:20220612
DTSTAMP:20260421T235436
CREATED:20220610T124250Z
LAST-MODIFIED:20220610T124250Z
UID:36467-1654905600-1654991999@cronachedibirra.it
SUMMARY:Liquida's Birthday - 2 anni
DESCRIPTION:Si terrà domani\, sabato 11 giugno\, l’evento per festeggiare i due anni del birrificio Liquida\, ovviamente presso la sede di Ostellato\, in provincia di Ferrara. Protagoniste saranno ovviamente le birre della casa\, disponibili alla spina (9 vie in contemporanea)\, ma il programma prevede anche musica dal vivo\, visite guidate all’impianto di produzione e street food curato dalla Piadineria di Porta Maggiore. Sarà inoltre disponibile un pullman con partenza da Forlì. Maggiori informazioni ed eventuali aggiornamenti sono disponibili sulla pagina Facebook dell’iniziativa.
URL:https://cronachedibirra.it/evento/liquidas-birthday-2-anni/
LOCATION:Birrificio Liquida\, Via Giotto di Bondone 10\, Ostellato\, FE\, Italia
CATEGORIES:Iniziative
ATTACH;FMTTYPE=image/jpeg:https://cdn1.cronachedibirra.it/wp-content/uploads/20220610144215/liquida-bday.jpg
END:VEVENT
END:VCALENDAR