BEGIN:VCALENDAR
VERSION:2.0
PRODID:-//Cronache di Birra - ECPv6.15.20//NONSGML v1.0//EN
CALSCALE:GREGORIAN
METHOD:PUBLISH
X-ORIGINAL-URL:https://cronachedibirra.it
X-WR-CALDESC:Eventi per Cronache di Birra
REFRESH-INTERVAL;VALUE=DURATION:PT1H
X-Robots-Tag:noindex
X-PUBLISHED-TTL:PT1H
BEGIN:VTIMEZONE
TZID:Europe/Rome
BEGIN:DAYLIGHT
TZOFFSETFROM:+0100
TZOFFSETTO:+0200
TZNAME:CEST
DTSTART:20210328T010000
END:DAYLIGHT
BEGIN:STANDARD
TZOFFSETFROM:+0200
TZOFFSETTO:+0100
TZNAME:CET
DTSTART:20211031T010000
END:STANDARD
BEGIN:DAYLIGHT
TZOFFSETFROM:+0100
TZOFFSETTO:+0200
TZNAME:CEST
DTSTART:20220327T010000
END:DAYLIGHT
BEGIN:STANDARD
TZOFFSETFROM:+0200
TZOFFSETTO:+0100
TZNAME:CET
DTSTART:20221030T010000
END:STANDARD
BEGIN:DAYLIGHT
TZOFFSETFROM:+0100
TZOFFSETTO:+0200
TZNAME:CEST
DTSTART:20230326T010000
END:DAYLIGHT
BEGIN:STANDARD
TZOFFSETFROM:+0200
TZOFFSETTO:+0100
TZNAME:CET
DTSTART:20231029T010000
END:STANDARD
END:VTIMEZONE
BEGIN:VEVENT
DTSTART;VALUE=DATE:20220602
DTEND;VALUE=DATE:20220606
DTSTAMP:20260421T222725
CREATED:20220527T124946Z
LAST-MODIFIED:20220527T124946Z
UID:36177-1654128000-1654473599@cronachedibirra.it
SUMMARY:Schiuma - Craft beer village
DESCRIPTION:Un festival birrario su una spiaggia siciliana? Se vi sembra un sogno\, sappiate che è proprio ciò che accadrà con Schiuma – Craft beer village\, manifestazione in programma da giovedì 2 a domenica 5 giugno presso lo stabilimento Patapata di Sampieri (RG). L’elenco dei birrifici è un buon mix tra produttori siciliani e del resto d’Italia: Alveria\, Yblon\, War\, Birrificio Italiano\, Malarazza\, Tarì\, Birra Epica\, Manerba\, La Compagnia del Fermento e LA Brewery. Il programma prevede laboratori di degustazione\, show cooking e musica dal vivo\, oltre a un’ampia scelta gastronomica pensata per celebrare l’incontro tra birra e cibo. Tra i vari appuntamenti collaterali segnaliamo anche il seminario sulle Italian Grape Ale condotto da Andrea Camaschella e organizzato con il supporto del Progetto IGA. Maggiori informazioni sono disponibili sul sito di Schiuma o sulla relativa pagina Facebook.
URL:https://cronachedibirra.it/evento/schiuma-craft-beer-village/
LOCATION:Patapata\, Via Miramare\, Sampieri\, RG\, 97018\, Italia
CATEGORIES:Manifestazioni
ATTACH;FMTTYPE=image/jpeg:https://cdn1.cronachedibirra.it/wp-content/uploads/20220527144801/schiuma-1.jpg
END:VEVENT
BEGIN:VEVENT
DTSTART;VALUE=DATE:20220602
DTEND;VALUE=DATE:20220606
DTSTAMP:20260421T222725
CREATED:20220527T131135Z
LAST-MODIFIED:20220527T131135Z
UID:36184-1654128000-1654473599@cronachedibirra.it
SUMMARY:Beertellina 2022
DESCRIPTION:Si chiama Beertellina il festival birrario completamente dedicato alla Valtellina e alle sue eccellenze alimentari\, che tornerà dopo la pausa per la pandemia da giovedì 2 a domenica 5 giugno. La manifestazione andrà in scena presso l’Area Feste della Schiranna di Varese\, con una formula molto particolare: solo birrifici valtellinesi\, pizzoccheri freschi\, taglieri di salumi e formaggi locali e distillati della Valtellina. I produttori di birra saranno Revertis\, Birrificio Legnone\, Pintalpina\, Tilium\, Kanuf\, Birrificio Valtellinese e altri che saranno comunicati più avanti. Sarà presente anche un’area attrezzata per i più piccoli. Per aggiornamenti e maggiori informazioni potete consultare la pagina Facebook dell’evento.
URL:https://cronachedibirra.it/evento/beertellina-2022/
LOCATION:Area Feste di Schiranna\, Via Vigevano\, Varese\, VA\, 21100\, Italia
CATEGORIES:Manifestazioni
ATTACH;FMTTYPE=image/jpeg:https://cdn1.cronachedibirra.it/wp-content/uploads/20220527151057/beertellina.jpg
END:VEVENT
BEGIN:VEVENT
DTSTART;VALUE=DATE:20220603
DTEND;VALUE=DATE:20220605
DTSTAMP:20260421T222725
CREATED:20220601T214152Z
LAST-MODIFIED:20220601T215432Z
UID:36303-1654214400-1654387199@cronachedibirra.it
SUMMARY:La Grande degustazione di Birre d'Italia
DESCRIPTION:Questa mattina presso la Città dell’Altra Economia di Roma è stata presentata l’edizione 2023 della Guida alle birre d’Italia di Slow Food\, di cui abbiamo scritto qualche giorno fa. L’evento si inserisce in un’iniziativa più grande in programma fino a sabato 4 giugno\, denominata Grande degustazione di Birre d’Italia. Sarà presente un imponente banco con circa 45 spine\, in cui saranno disponibili a rotazione le creazioni di 95 birrifici italiani tra quelli premiati dalla guida (per un elenco completo potete consultare il sito di Slow Food Editore). Saranno assegnati alcuni premi speciali della guida\, mentre gli assaggi potranno essere accompagnati da fritti\, prodotti affumicati\, panini\, supplì e altro ancora. I biglietti si possono acquistare sull’e-commerce di Slow Food.
URL:https://cronachedibirra.it/evento/la-grande-degustazione-di-birre-ditalia/
LOCATION:Città dell’Altra Economia\, Largo Dino Frisullo\, snc\, Roma\, RM\, 00153\, Italia
CATEGORIES:Iniziative
ATTACH;FMTTYPE=image/jpeg:https://cdn1.cronachedibirra.it/wp-content/uploads/20220601234133/grande-degustazione.jpg
END:VEVENT
BEGIN:VEVENT
DTSTART;VALUE=DATE:20220603
DTEND;VALUE=DATE:20220606
DTSTAMP:20260421T222725
CREATED:20220527T130056Z
LAST-MODIFIED:20220527T130056Z
UID:36181-1654214400-1654473599@cronachedibirra.it
SUMMARY:Territorio
DESCRIPTION:Si terrà da venerdì 3 a domenica 5 giugno il nuovo festival che il Drunken Duck di Quinto Vicentino (VI) ha organizzato nell’ambito dei festeggiamenti per il suo compleanno. La manifestazione è stata battezzata Territorio e si terrà presso il locale veneto\, avvalendosi della presenza di 13 birrifici regionali e dei loro rispettivi birrai: Birrone\, Busa dei Briganti\, Crak\, Evoqe\, La Villana\, Lucky Brews\, Maso Alto\, Ofelia\, Rattabrew\, Siemàn\, Sorio\, Torre Mozza e Vertiga. Sabato 4 giugno si terrà la premiazione della prima tappa del concorso hb di MoBI\, mentre per chi vorrà accompagnare le bevute con qualcosa di solido sarà disponibile la cucina del Drunken Duck. Ulteriori informazioni sono disponibili sulla pagina Facebook dell’evento.
URL:https://cronachedibirra.it/evento/territorio/
LOCATION:Drunken Duck\, Via Degli Eroi\, 77\, Quinto Vicentino\, VI\, 36050\, Italy
CATEGORIES:Iniziative
ATTACH;FMTTYPE=image/jpeg:https://cdn1.cronachedibirra.it/wp-content/uploads/20220527150010/territorio.jpg
END:VEVENT
END:VCALENDAR