BEGIN:VCALENDAR
VERSION:2.0
PRODID:-//Cronache di Birra - ECPv6.15.20//NONSGML v1.0//EN
CALSCALE:GREGORIAN
METHOD:PUBLISH
X-WR-CALNAME:Cronache di Birra
X-ORIGINAL-URL:https://cronachedibirra.it
X-WR-CALDESC:Eventi per Cronache di Birra
REFRESH-INTERVAL;VALUE=DURATION:PT1H
X-Robots-Tag:noindex
X-PUBLISHED-TTL:PT1H
BEGIN:VTIMEZONE
TZID:Europe/Rome
BEGIN:DAYLIGHT
TZOFFSETFROM:+0100
TZOFFSETTO:+0200
TZNAME:CEST
DTSTART:20200329T010000
END:DAYLIGHT
BEGIN:STANDARD
TZOFFSETFROM:+0200
TZOFFSETTO:+0100
TZNAME:CET
DTSTART:20201025T010000
END:STANDARD
BEGIN:DAYLIGHT
TZOFFSETFROM:+0100
TZOFFSETTO:+0200
TZNAME:CEST
DTSTART:20210328T010000
END:DAYLIGHT
BEGIN:STANDARD
TZOFFSETFROM:+0200
TZOFFSETTO:+0100
TZNAME:CET
DTSTART:20211031T010000
END:STANDARD
BEGIN:DAYLIGHT
TZOFFSETFROM:+0100
TZOFFSETTO:+0200
TZNAME:CEST
DTSTART:20220327T010000
END:DAYLIGHT
BEGIN:STANDARD
TZOFFSETFROM:+0200
TZOFFSETTO:+0100
TZNAME:CET
DTSTART:20221030T010000
END:STANDARD
END:VTIMEZONE
BEGIN:VEVENT
DTSTART;VALUE=DATE:20210612
DTEND;VALUE=DATE:20210613
DTSTAMP:20260422T203039
CREATED:20210610T154740Z
LAST-MODIFIED:20210610T154740Z
UID:30797-1623456000-1623542399@cronachedibirra.it
SUMMARY:Ottavo compleanno de La Bottega Matta
DESCRIPTION:Si terrà domani sabato 12 giugno la festa per l’ottavo compleanno de La Bottega Matta\, storico locale di Montepulciano (SI). Per l’occasione sarà disponibile una tap list speciale dedicata a sole produzioni italiane e una selezione di botti dalla Franconia\, servite rigorosamente a caduta. Tra le birre italiane alla spina ci sarà la Hårgalåten prodotta in collaborazione con Brasseria della Fonte\, che potrà essere bevuta in contemporanea in altri tre locali italiani. La cucina de La Bottega Matta sarà convertita in ottica “fast food”\, con porchetta\, wurstel di chianina\, salsicce e altro ancora. Maggiori dettagli e ulteriori aggiornamenti sono disponibili sulla pagina Facebook dell’evento.
URL:https://cronachedibirra.it/evento/ottavo-compleanno-de-la-bottega-matta/
LOCATION:La Bottega Matta\, Via delle Terme Sud 59\, Montepulciano\, SI\, 53045\, Italia
CATEGORIES:Iniziative
ATTACH;FMTTYPE=image/png:https://cdn1.cronachedibirra.it/wp-content/uploads/20210610174652/bottega-matta.png
END:VEVENT
BEGIN:VEVENT
DTSTART;VALUE=DATE:20210612
DTEND;VALUE=DATE:20210614
DTSTAMP:20260422T203039
CREATED:20210604T123255Z
LAST-MODIFIED:20210604T123255Z
UID:30717-1623456000-1623628799@cronachedibirra.it
SUMMARY:Pils Pride 2021
DESCRIPTION:Giunge alla sua quindicesima edizione l’ormai storico Pils Pride\, l’evento ideato dal Birrificio Italiano per rendere giustizia allo stile birrario più rivoluzionario della storia. Sabato 12 e domenica 13 giugno\, nella sede di Lurago Marinone (CO)\, saranno disponibili alcuni tra le migliori Pils italiane: oltre a quelle della casa\, sarà possibile assaggiare le creazioni di Alder\, Birra dell’Eremo\, Mastino\, Bonavena\, La Buttiga\, The Wall\, Hop Skin\, Rattabrew e molti altri. Chiaramente rispetto al passato il funzionamento sarà diverso\, perché i posti disponibili saranno limitati e divisi in tre fasce orarie\, per le quali bisognerà prenotarsi in anticipo. Il servizio sarà esclusivamente al tavolo\, con posti all’interno e all’esterno. Per prenotarsi e saperne di più potete consultare la pagina Eventbrite del Pils Pride 2021.
URL:https://cronachedibirra.it/evento/pils-pride-2021/
LOCATION:Birrificio Italiano
CATEGORIES:Manifestazioni
ATTACH;FMTTYPE=image/jpeg:https://cdn1.cronachedibirra.it/wp-content/uploads/20210604143214/pils-pride-4.jpg
END:VEVENT
END:VCALENDAR