BEGIN:VCALENDAR
VERSION:2.0
PRODID:-//Cronache di Birra - ECPv6.15.20//NONSGML v1.0//EN
CALSCALE:GREGORIAN
METHOD:PUBLISH
X-WR-CALNAME:Cronache di Birra
X-ORIGINAL-URL:https://cronachedibirra.it
X-WR-CALDESC:Eventi per Cronache di Birra
REFRESH-INTERVAL;VALUE=DURATION:PT1H
X-Robots-Tag:noindex
X-PUBLISHED-TTL:PT1H
BEGIN:VTIMEZONE
TZID:Europe/Rome
BEGIN:DAYLIGHT
TZOFFSETFROM:+0100
TZOFFSETTO:+0200
TZNAME:CEST
DTSTART:20200329T010000
END:DAYLIGHT
BEGIN:STANDARD
TZOFFSETFROM:+0200
TZOFFSETTO:+0100
TZNAME:CET
DTSTART:20201025T010000
END:STANDARD
BEGIN:DAYLIGHT
TZOFFSETFROM:+0100
TZOFFSETTO:+0200
TZNAME:CEST
DTSTART:20210328T010000
END:DAYLIGHT
BEGIN:STANDARD
TZOFFSETFROM:+0200
TZOFFSETTO:+0100
TZNAME:CET
DTSTART:20211031T010000
END:STANDARD
BEGIN:DAYLIGHT
TZOFFSETFROM:+0100
TZOFFSETTO:+0200
TZNAME:CEST
DTSTART:20220327T010000
END:DAYLIGHT
BEGIN:STANDARD
TZOFFSETFROM:+0200
TZOFFSETTO:+0100
TZNAME:CET
DTSTART:20221030T010000
END:STANDARD
END:VTIMEZONE
BEGIN:VEVENT
DTSTART;VALUE=DATE:20210604
DTEND;VALUE=DATE:20210607
DTSTAMP:20260422T203036
CREATED:20210528T125641Z
LAST-MODIFIED:20210528T125641Z
UID:30644-1622764800-1623023999@cronachedibirra.it
SUMMARY:Mash 2021
DESCRIPTION:Si terrà da venerdì 4 a domenica 6 giugno\, presso il Ride di Porta Genova a Milano\, la terza edizione di Mash\, festival che unisce birra artigianale\, musica live e arti indipendenti. Saranno presenti quindici birrifici italiani\, tutti piuttosto rinomati: Brewfist\, BSA\, La Buttiga\, Croce Di Malto\, Hammer\, Birrificio Italiano\, Lambrate\, Birrificio Lariano\, Menaresta\, Muttnik\, Porta Bruciata\, Rurale\, The Wall\, Vetra\, Via Priula e War. Il programma prevede talk con birrai e giornalisti\, aree street food\, radio on air\, dj set e molto altro ancora. Un grande evento per tornare a respirare un bel pezzo di normalità. Ulteriori informazioni sono disponibili sulla pagina Facebook di Mash 2021.
URL:https://cronachedibirra.it/evento/mash-2021/
LOCATION:Ride\, Via Valenza\, 2\, Milano\, MI\, 20144\, Italia
CATEGORIES:Manifestazioni
ATTACH;FMTTYPE=image/jpeg:https://cdn1.cronachedibirra.it/wp-content/uploads/20210528145620/mash-2021.jpg
END:VEVENT
BEGIN:VEVENT
DTSTART;VALUE=DATE:20210605
DTEND;VALUE=DATE:20210606
DTSTAMP:20260422T203036
CREATED:20210604T134121Z
LAST-MODIFIED:20210604T134121Z
UID:30731-1622851200-1622937599@cronachedibirra.it
SUMMARY:Liquida's Birthday
DESCRIPTION:Difficile da credere\, ma il birrificio Liquida deve ancora compiere il suo primo anno di vita. Lo farà domani sabato 5 giugno presso la sua sede di Ostellato (FE)\, dove in via del tutto eccezionale le porte del birrificio saranno aperte per visite guidate su prenotazione. Ovviamente l’evento non si esaurirà con questa possibilità\, ma ci sarà un punto food sempre attivo\, musica dal vivo e chiaramente le birre di Liquida\, accompagnate da una novità pensata appositamente per l’estate che sarà presentata in anteprima assoluta. L’evento comincerà alle 16 e continuerà fino al coprifuoco. Per tutte le informazioni e gli aggiornamenti potete consultare la pagina Facebook dell’iniziativa.
URL:https://cronachedibirra.it/evento/liquidas-birthday/
LOCATION:Birrificio Liquida\, Via Giotto di Bondone 10\, Ostellato\, FE\, Italia
CATEGORIES:Iniziative
ATTACH;FMTTYPE=image/jpeg:https://cdn1.cronachedibirra.it/wp-content/uploads/20210604154003/liquida.jpg
END:VEVENT
BEGIN:VEVENT
DTSTART;VALUE=DATE:20210605
DTEND;VALUE=DATE:20210607
DTSTAMP:20260422T203036
CREATED:20210528T132123Z
LAST-MODIFIED:20210528T132123Z
UID:30654-1622851200-1623023999@cronachedibirra.it
SUMMARY:Bonday 2021
DESCRIPTION:Si terrà sabato 5 e domenica 6 giugno l’evento di celebrazione del primo anniversario del Birrificio Bondai\, nuova realtà brassicola di Sutrio (UD) che presentammo in un articolo dello scorso marzo. Le 18 spine disponibili ospiteranno non solo le birre della casa\, ma anche quelle dei 10 produttori ospiti: Foglie d’Erba\, Garlatti Costa\, Antica Contea\, Basei\, The Lure\, Antikorpo\, Casamatta\, Borderline\, Birrificio Campestre e Villa Chazil. Il programma prevede visite all’impianto di produzione\, street food di prossimità e alberghi convenzionati. Maggiori informazioni sono disponibili sulla pagina Facebook dell’evento.
URL:https://cronachedibirra.it/evento/bonday-2021/
LOCATION:Birrificio Bondai\, Via Valcalda 1\, Sutrio\, UD\, 33020\, Italia
CATEGORIES:Manifestazioni
ATTACH;FMTTYPE=image/jpeg:https://cdn1.cronachedibirra.it/wp-content/uploads/20210528152024/bonday.jpg
END:VEVENT
END:VCALENDAR