BEGIN:VCALENDAR
VERSION:2.0
PRODID:-//Cronache di Birra - ECPv6.15.20//NONSGML v1.0//EN
CALSCALE:GREGORIAN
METHOD:PUBLISH
X-WR-CALNAME:Cronache di Birra
X-ORIGINAL-URL:https://cronachedibirra.it
X-WR-CALDESC:Eventi per Cronache di Birra
REFRESH-INTERVAL;VALUE=DURATION:PT1H
X-Robots-Tag:noindex
X-PUBLISHED-TTL:PT1H
BEGIN:VTIMEZONE
TZID:Europe/Rome
BEGIN:DAYLIGHT
TZOFFSETFROM:+0100
TZOFFSETTO:+0200
TZNAME:CEST
DTSTART:20190331T010000
END:DAYLIGHT
BEGIN:STANDARD
TZOFFSETFROM:+0200
TZOFFSETTO:+0100
TZNAME:CET
DTSTART:20191027T010000
END:STANDARD
BEGIN:DAYLIGHT
TZOFFSETFROM:+0100
TZOFFSETTO:+0200
TZNAME:CEST
DTSTART:20200329T010000
END:DAYLIGHT
BEGIN:STANDARD
TZOFFSETFROM:+0200
TZOFFSETTO:+0100
TZNAME:CET
DTSTART:20201025T010000
END:STANDARD
BEGIN:DAYLIGHT
TZOFFSETFROM:+0100
TZOFFSETTO:+0200
TZNAME:CEST
DTSTART:20210328T010000
END:DAYLIGHT
BEGIN:STANDARD
TZOFFSETFROM:+0200
TZOFFSETTO:+0100
TZNAME:CET
DTSTART:20211031T010000
END:STANDARD
END:VTIMEZONE
BEGIN:VEVENT
DTSTART;VALUE=DATE:20200613
DTEND;VALUE=DATE:20200831
DTSTAMP:20260423T154807
CREATED:20200612T121237Z
LAST-MODIFIED:20200612T121237Z
UID:27649-1592006400-1598831999@cronachedibirra.it
SUMMARY:Malto di Maggio Summer Edition
DESCRIPTION:L’evento Malto di Maggio è uno di quelli inseriti in calendario da mesi\, ma annullato a causa dell’emergenza sanitaria. Gli organizzatori hanno però deciso di ripensarne completamente l’impostazione trasformandolo in un festival “diffuso” che si protrarrà per tutto il periodo estivo. Chiaramente la formula è totalmente cambiata e prevede nel biergarten allestito per l’occasione l’alternanza dei birrifici che avrebbero dovuto partecipare alla manifestazione. Ogni settimana un produttore diverso sarà ospitato nel biergarten di Mr. Beer a Villa Gritti di San Bonifacio (VR)\, che resterà aperto al pubblico dalle 18\,00 alle 24\,00. Il sabato sarà presente un rappresentante del rispettivo birrificio. L’iniziativa è cominciata gli scorsi giorni con i birrifici Ofelia e Mastio\, mentre da domani a seguire si avvicenderanno Renton\, Plotegher\, Monte Baldo\, Amerino\, Km 8\, PBC\, Eastside\, Croce di Malto\, Porta Bruciata\, Canediguerra\, Birra dell’Eremo e War. Ulteriori informazioni sono disponibili sulla pagina Facebook dell’evento.
URL:https://cronachedibirra.it/evento/malto-di-maggio-summer-edition/
LOCATION:Villa Gritti\, Via Villabella 74\, San Bonifacio\, VR\, 37047\, Italia
CATEGORIES:Iniziative
ATTACH;FMTTYPE=image/png:https://cdn1.cronachedibirra.it/wp-content/uploads/20200612141129/malto-di-maggio.png
END:VEVENT
BEGIN:VEVENT
DTSTART;VALUE=DATE:20200710
DTEND;VALUE=DATE:20200713
DTSTAMP:20260423T154807
CREATED:20200710T131009Z
LAST-MODIFIED:20200710T131009Z
UID:27882-1594339200-1594598399@cronachedibirra.it
SUMMARY:Mash 2020
DESCRIPTION:Comincia oggi e proseguirà fino a domenica 12 luglio l’edizione 2020 di Mash\, festival dedicato all’incontro tra birre artigianali\, musica live e arti indipendenti. Presso il Tempio del Futuro Perduto di Milano troverete birrifici di tutto rispetto: Brewfist\, Lariano\, Birrificio Italiano\, Rurale\, Muttnik\, BSA\, Croce di Malto\, Menaresta\, The Wall\, Buttiga\, War e Vetra. Il programma chiaramente prevede tanta musica dal vivo e performance artistiche\, ma anche presentazioni editoriali\, seminari\, live show e dj set. Sulla pagina Facebook di Mash 2020 è riportato il protocollo anti coronavirus previsto dall’organizzazione\, con una serie di misure che saranno adottate per una partecipazione dei visitatori in tutta sicurezza.
URL:https://cronachedibirra.it/evento/mash-2020/
LOCATION:Tempio del Futuro Perduto\, Via Luigi Nono 9\, Milano\, MI\, 20154\, Italia
CATEGORIES:Manifestazioni
ATTACH;FMTTYPE=image/jpeg:https://cdn1.cronachedibirra.it/wp-content/uploads/20200710150950/mash-2.jpg
END:VEVENT
BEGIN:VEVENT
DTSTART;VALUE=DATE:20200711
DTEND;VALUE=DATE:20200712
DTSTAMP:20260423T154807
CREATED:20200710T130151Z
LAST-MODIFIED:20200710T130151Z
UID:27879-1594425600-1594511999@cronachedibirra.it
SUMMARY:Crak 5 Years Celebration
DESCRIPTION:Come accennato nell’ultima panoramica sulle nuove birre italiane\, sabato 11 luglio il birrificio Crak festeggerà il suo quinto anniversario presso la tap room di Campodarsego (PD). Probabilmente i ragazzi di Crak avrebbero voluto fare le cose in grande visto l’importanza del traguardo raggiunto\, ma comunque l’evento organizzato per l’occasione non sarà certo sotto tono. Protagoniste saranno le birre più votate dagli utenti tra tutte quelle prodotte in questi anni\, oltre alla Guerrilla Celebration 2020. Il menu sarà incentrato sui nuovi hamburger della casa\, mentre non mancherà il dj set. Approfondimenti e aggiornamenti sono disponibili sulla pagina Facebook dell’evento.
URL:https://cronachedibirra.it/evento/crak-5-years-celebration/
LOCATION:Crak\, Via Pontarola 7\, Campodarsego\, PD\, 35011\, Italia
CATEGORIES:Iniziative
ATTACH;FMTTYPE=image/jpeg:https://cdn1.cronachedibirra.it/wp-content/uploads/20200710150107/5-years-crak.jpg
END:VEVENT
END:VCALENDAR