BEGIN:VCALENDAR
VERSION:2.0
PRODID:-//Cronache di Birra - ECPv6.15.20//NONSGML v1.0//EN
CALSCALE:GREGORIAN
METHOD:PUBLISH
X-WR-CALNAME:Cronache di Birra
X-ORIGINAL-URL:https://cronachedibirra.it
X-WR-CALDESC:Eventi per Cronache di Birra
REFRESH-INTERVAL;VALUE=DURATION:PT1H
X-Robots-Tag:noindex
X-PUBLISHED-TTL:PT1H
BEGIN:VTIMEZONE
TZID:Europe/Rome
BEGIN:DAYLIGHT
TZOFFSETFROM:+0100
TZOFFSETTO:+0200
TZNAME:CEST
DTSTART:20190331T010000
END:DAYLIGHT
BEGIN:STANDARD
TZOFFSETFROM:+0200
TZOFFSETTO:+0100
TZNAME:CET
DTSTART:20191027T010000
END:STANDARD
BEGIN:DAYLIGHT
TZOFFSETFROM:+0100
TZOFFSETTO:+0200
TZNAME:CEST
DTSTART:20200329T010000
END:DAYLIGHT
BEGIN:STANDARD
TZOFFSETFROM:+0200
TZOFFSETTO:+0100
TZNAME:CET
DTSTART:20201025T010000
END:STANDARD
BEGIN:DAYLIGHT
TZOFFSETFROM:+0100
TZOFFSETTO:+0200
TZNAME:CEST
DTSTART:20210328T010000
END:DAYLIGHT
BEGIN:STANDARD
TZOFFSETFROM:+0200
TZOFFSETTO:+0100
TZNAME:CET
DTSTART:20211031T010000
END:STANDARD
END:VTIMEZONE
BEGIN:VEVENT
DTSTART;VALUE=DATE:20200117
DTEND;VALUE=DATE:20200120
DTSTAMP:20260424T012833
CREATED:20200110T142439Z
LAST-MODIFIED:20200110T142616Z
UID:26174-1579219200-1579478399@cronachedibirra.it
SUMMARY:Birraio dell'anno 2019
DESCRIPTION:Come ormai consuetudine da qualche tempo\, il primo grande appuntamento da mettere in calendario a inizio mese è Birraio dell’anno\, il festival costruito intorno all’omonimo concorso. Protagonisti saranno i birrifici finalisti della categoria “senior” e “emergenti”\, che si ritroveranno da venerdì 17 a domenica 19 gennaio presso il teatro Tuscany Hall di Firenze. Saranno presenti Birrificio Italiano\, Birrificio Lambrate\, Brasseria della Fonte\, Extraomnes\, Ritual Lab\, Canediguerra\, Hilltop\, Eastside\, Lariano\, Altavia\, Birra Perugia\, Foglie d’Erba\, MC-77\, Mukkeller\, Opperbacco\, Crak\, Porta Bruciata\, Birra Mastino\, Croce di Malto\, Elvo e i “giovani” Mister B\, Sièman\, Bonavena\, War e Lieviteria. La novità di quest’anno è il premio best pub che vedrà sfidarsi i cinque finalisti: Abbazia di Sherwood\, Arrogant\, Ma che siete venuti a fa’\, Scurreria e The Drunken Duck. Confermati invece gli incontri di degustazione e approfondimento\, il ricco lato food e ovviamente la premiazione\, fissata per domenica alle 16\,30. Maggiori informazioni sul sito di Birraio dell’anno.
URL:https://cronachedibirra.it/evento/birraio-dellanno-2019/
LOCATION:Teatro Cartiere Carrara\, Lungarno Aldo Moro 3\, Firenze\, FI\, 50136
CATEGORIES:Manifestazioni
ATTACH;FMTTYPE=image/jpeg:https://cdn1.cronachedibirra.it/wp-content/uploads/20200203100022/birraio-dell-anno-2020.jpg
END:VEVENT
BEGIN:VEVENT
DTSTART;VALUE=DATE:20200119
DTEND;VALUE=DATE:20200120
DTSTAMP:20260424T012833
CREATED:20200110T145219Z
LAST-MODIFIED:20200110T145219Z
UID:26181-1579392000-1579478399@cronachedibirra.it
SUMMARY:Festa del Luppolo 2020 Winter Edition
DESCRIPTION:Inusuale edizione invernale per la storica Festa del Luppolo\, in programma domenica 19 gennaio presso la mitica Osteria Numero 2 di Bigarello\, a due passi da Mantova. L’iniziativa\, organizzata dal Circolo del Luppolo\, sarà incentrata su una selezione di birre di altissimo livello in abbinamento all’ottima cucina della casa. Nonostante il periodo insolito\, non mancherà la solita atmosfera di festa della manifestazione\, arricchita dalla musica dal vivo (in modalità acustica come nel lontano 2004) dei Simpsong. Se volete bere e mangiare bene e divertirvi\, date un’occhiata alla pagina Facebook dell’evento.
URL:https://cronachedibirra.it/evento/festa-del-luppolo-2020-winter-edition/
LOCATION:Osteria Numero 2\, Via Ghisiolo\, 2a\, Bigarello\, MN\, 46030
CATEGORIES:Iniziative
ATTACH;FMTTYPE=image/jpeg:https://cdn1.cronachedibirra.it/wp-content/uploads/20200203100021/festa-luppolo-1.jpg
END:VEVENT
END:VCALENDAR