BEGIN:VCALENDAR
VERSION:2.0
PRODID:-//Cronache di Birra - ECPv6.15.20//NONSGML v1.0//EN
CALSCALE:GREGORIAN
METHOD:PUBLISH
X-ORIGINAL-URL:https://cronachedibirra.it
X-WR-CALDESC:Eventi per Cronache di Birra
REFRESH-INTERVAL;VALUE=DURATION:PT1H
X-Robots-Tag:noindex
X-PUBLISHED-TTL:PT1H
BEGIN:VTIMEZONE
TZID:Europe/Rome
BEGIN:DAYLIGHT
TZOFFSETFROM:+0100
TZOFFSETTO:+0200
TZNAME:CEST
DTSTART:20180325T010000
END:DAYLIGHT
BEGIN:STANDARD
TZOFFSETFROM:+0200
TZOFFSETTO:+0100
TZNAME:CET
DTSTART:20181028T010000
END:STANDARD
BEGIN:DAYLIGHT
TZOFFSETFROM:+0100
TZOFFSETTO:+0200
TZNAME:CEST
DTSTART:20190331T010000
END:DAYLIGHT
BEGIN:STANDARD
TZOFFSETFROM:+0200
TZOFFSETTO:+0100
TZNAME:CET
DTSTART:20191027T010000
END:STANDARD
BEGIN:DAYLIGHT
TZOFFSETFROM:+0100
TZOFFSETTO:+0200
TZNAME:CEST
DTSTART:20200329T010000
END:DAYLIGHT
BEGIN:STANDARD
TZOFFSETFROM:+0200
TZOFFSETTO:+0100
TZNAME:CET
DTSTART:20201025T010000
END:STANDARD
END:VTIMEZONE
BEGIN:VEVENT
DTSTART;VALUE=DATE:20191213
DTEND;VALUE=DATE:20191216
DTSTAMP:20260424T025202
CREATED:20191129T143220Z
LAST-MODIFIED:20191129T144937Z
UID:25816-1576195200-1576454399@cronachedibirra.it
SUMMARY:Le Bae de Nadae 2019
DESCRIPTION:Torna anche quest’anno l’appuntamento con Le Bae de Nadae\, l’evento “diffuso” che porta in giro per pub e birrifici italiane le birre natalizie di alcuni produttori nazionali. Da venerdì 13 a domenica 15 dicembre troverete tante Kerstbier in molti locali della Penisola. I birrifici coinvolti sono Lariano\, Porta Bruciata\, Extraomnes\, Rattabrew\, Jungle Juice\, Birrone\, Ofelia\, Croce di Malto\, Terre di Faul\, Almond 22\, Lucky Brews\, Mukkeller e Babylon. Le loro birre natalizie saranno disponibili nei quattro locali di The Drunken Duck e presso Donkey Pub\, Beeriot\, Barley\, Hops\, Osteria del Borgo d’Oltra\, Ristretto 104\, Taverna dei Mastri d’Arme\, Maratonda\, Crua e Urban Farm House. Per maggiori informazioni potete consultare la pagina Facebook dell’iniziativa.
URL:https://cronachedibirra.it/evento/le-bae-de-nadae-2019/
LOCATION:Italia\, Italia
CATEGORIES:Iniziative
ATTACH;FMTTYPE=image/png:https://cdn1.cronachedibirra.it/wp-content/uploads/20200203100046/BAE-EVENTO-FB.png
END:VEVENT
BEGIN:VEVENT
DTSTART;VALUE=DATE:20191213
DTEND;VALUE=DATE:20191216
DTSTAMP:20260424T025202
CREATED:20191206T143422Z
LAST-MODIFIED:20191206T143422Z
UID:25827-1576195200-1576454399@cronachedibirra.it
SUMMARY:Birrart 2019
DESCRIPTION:Spegne dieci candeline il festival Birrart\, che quest’anno si terrà da venerdì 13 a domenica 15 dicembre come sempre presso l’Oltrexpo di Casteggio (PV). Dieci anche i birrifici protagonisti: Maltus Faber\, Birra Carrù\, Oltrepò\, 4Mori\, Birra Busalla\, Birrificio della Granda\, Brewfist\, Croce di Malto\, Broken Bridge e Birrificio Iriense. L’area food proporrà specialità dell’Oltrepò\, oltre a una selezione di piatti della cucina ligure\, street food e bistrot di qualità. Il programma prevede incontri con esperti\, showcooking\, laboratori del gusto\, musica dal vivo e dj set. Per saperne di più potete consultare il sito web di Birrart.
URL:https://cronachedibirra.it/evento/birrart-2019/
LOCATION:Oltrexpò
CATEGORIES:Manifestazioni
ATTACH;FMTTYPE=image/png:https://cdn1.cronachedibirra.it/wp-content/uploads/20200203100040/birrart.png
END:VEVENT
BEGIN:VEVENT
DTSTART;VALUE=DATE:20191213
DTEND;VALUE=DATE:20191216
DTSTAMP:20260424T025202
CREATED:20191213T112713Z
LAST-MODIFIED:20191213T112713Z
UID:26004-1576195200-1576454399@cronachedibirra.it
SUMMARY:Christmas Beer Festival 2019
DESCRIPTION:Comincia oggi e proseguirà fino a domenica 15 dicembre l’edizione 2019 del Christmas Beer Festival\, storica manifestazione di Imbersago (LC). Come sempre l’intera iniziativa sarà incentrata sull birre di Natale\, con produzioni provenienti da birrifici di tutto il mondo come De Ranke\, Dupont\, Carrobiolo\, Endorama\, Chimay\, Rurale\, Geco\, Menaresta\, Nix\, Rochefort\, Lariano\, Hammer\, Montegioco e tanti altri. Sarà disponibile anche la Gluhkriek di Liefmans servita calda\, inoltre ci sarà un’ampia zona food con alcuni menu studiati appositamente che varieranno ogni giorno. Per maggiori informazioni potete consultare il sito del Christmas Beer Festival.
URL:https://cronachedibirra.it/evento/christmas-beer-festival-2019/
LOCATION:Area Polifunzionale\, Imbersago\, LC\, Italia
CATEGORIES:Manifestazioni
ATTACH;FMTTYPE=image/jpeg:https://cdn1.cronachedibirra.it/wp-content/uploads/20200131180352/imbersago.jpg
END:VEVENT
END:VCALENDAR