BEGIN:VCALENDAR
VERSION:2.0
PRODID:-//Cronache di Birra - ECPv6.15.20//NONSGML v1.0//EN
CALSCALE:GREGORIAN
METHOD:PUBLISH
X-ORIGINAL-URL:https://cronachedibirra.it
X-WR-CALDESC:Eventi per Cronache di Birra
REFRESH-INTERVAL;VALUE=DURATION:PT1H
X-Robots-Tag:noindex
X-PUBLISHED-TTL:PT1H
BEGIN:VTIMEZONE
TZID:Europe/Rome
BEGIN:DAYLIGHT
TZOFFSETFROM:+0100
TZOFFSETTO:+0200
TZNAME:CEST
DTSTART:20180325T010000
END:DAYLIGHT
BEGIN:STANDARD
TZOFFSETFROM:+0200
TZOFFSETTO:+0100
TZNAME:CET
DTSTART:20181028T010000
END:STANDARD
BEGIN:DAYLIGHT
TZOFFSETFROM:+0100
TZOFFSETTO:+0200
TZNAME:CEST
DTSTART:20190331T010000
END:DAYLIGHT
BEGIN:STANDARD
TZOFFSETFROM:+0200
TZOFFSETTO:+0100
TZNAME:CET
DTSTART:20191027T010000
END:STANDARD
BEGIN:DAYLIGHT
TZOFFSETFROM:+0100
TZOFFSETTO:+0200
TZNAME:CEST
DTSTART:20200329T010000
END:DAYLIGHT
BEGIN:STANDARD
TZOFFSETFROM:+0200
TZOFFSETTO:+0100
TZNAME:CET
DTSTART:20201025T010000
END:STANDARD
END:VTIMEZONE
BEGIN:VEVENT
DTSTART;VALUE=DATE:20191101
DTEND;VALUE=DATE:20191111
DTSTAMP:20260424T052021
CREATED:20191018T131212Z
LAST-MODIFIED:20191018T131212Z
UID:25391-1572566400-1573430399@cronachedibirra.it
SUMMARY:Pordenone Beer Show 2019
DESCRIPTION:Si terrà per due fine settimana consecutivi\, da venerdì 1 a domenica 3 novembre e poi ancora da venerdì 8 a domenica 10 novembre\, l’edizione 2019 del Pordenone Beer Show\, anche conosciuto con il nome storico di Fiera della Birra Artigianale. Negli spazi della Fiera di Pordenone troverete birrifici italiani e stranieri\, divisi nei due weekend: il primo vedrà la partcipazione di Kamenice\, Coronado\, Furst Carl\, Caulier\, Chianti Brew Fighters\, B2O\, Sothis\, Agro\, Meraki\, Birra dell’Eremo\, Barbanera\, Bionoc\, Menaresta\, L’Inconsueto e Birrificio Trevigiano; nel secondo troverete invece 620 Passi\, Birra del Console\, Agro\, San Biagio\, Exit\, Birrificio degli Ostuni\, Naon\, Darf\, Malastrana\, Collesi\, La Birra di Meni e Vocation. L’elenco comunque non è definitivo e altri nomi dovrebbero aggiungersi nei prossimi giorni. Il programma prevede degustazioni guidate\, radio broadcast\, musica dal vivo\, area bambini e spettacoli d’intrattenimento. Infine ampio spazio al cibo con diversi espositori e tante specialità differenti. Per aggiornamenti e altre informazioni potete dare un’occhiata al sito del Pordenone Beer Show.
URL:https://cronachedibirra.it/evento/pordenone-beer-show-2019/
LOCATION:Fiera di Pordenone\, Viale Treviso 1\, Pordenone\, PN\, 33170\, Italia
CATEGORIES:Manifestazioni
ATTACH;FMTTYPE=image/jpeg:https://cdn1.cronachedibirra.it/wp-content/uploads/20200203100129/pordenone-beer-show-1.jpg
END:VEVENT
BEGIN:VEVENT
DTSTART;VALUE=DATE:20191109
DTEND;VALUE=DATE:20191110
DTSTAMP:20260424T052021
CREATED:20191025T142201Z
LAST-MODIFIED:20191025T142201Z
UID:25471-1573257600-1573343999@cronachedibirra.it
SUMMARY:6° compleanno del Lambiczoon
DESCRIPTION:Il Lambiczoon è un locale che ha sicuramente cambiato il peso birrario di Milano negli ultimi anni e sabato 9 novembre festeggerà il suo sesto anniversario. Dalle 12\,30 fino a notte fonda si potrà brindare con una super selezione di birre e accompagnare le bevute con un menu speciale. Tra i prodotti disponibili ci saranno quelli di Jester King\, De Garde\, Two Metre Tall\, Sante Adairius\, Cantillon\, Bokke e tanti altri. Per l’occasione la cucina sfornerà degli street food pack in aggiunta all’ottima cucina di sempre. Per ulteriori informazioni potete consultare la pagina Facebook dell’evento.
URL:https://cronachedibirra.it/evento/6-compleanno-del-lambiczoon/
LOCATION:Lambiczoon\, Via Friuli 46\, Milano\, MI\, Italia
CATEGORIES:Iniziative
ATTACH;FMTTYPE=image/jpeg:https://cdn1.cronachedibirra.it/wp-content/uploads/20200203100121/lambiczoon-1.jpg
END:VEVENT
BEGIN:VEVENT
DTSTART;VALUE=DATE:20191109
DTEND;VALUE=DATE:20191110
DTSTAMP:20260424T052021
CREATED:20191108T141952Z
LAST-MODIFIED:20191108T141952Z
UID:25627-1573257600-1573343999@cronachedibirra.it
SUMMARY:Brewing a New Sicily 2019
DESCRIPTION:La scena brassicola siciliana è in grande fermento\, dunque vale la pena tenere d’occhio la quinta edizione di Brewing a New Sicily\, l’iniziativa del Mosaik di Catania incentrata sulle birre e i birrai della regione. L’evento si terrà nell’intera giornata di sabato 9 novembre e si aprirà alle 16 con un laboratorio di degustazione che vedrà protagonisti quattro birrifici siciliani. Poi dalle 21 comincerà la serata con i birrai\, accompagnata da birre prodotte esclusivamente in Sicilia\, tutte disponibili alla spina. I produttori presenti saranno Birra Tarì\, Alveria\, Malarazza\, Birra Epica\, Compagnia del Fermento\, Ballarak\, Birra 56\, Rock Brewery\, Yblon e Ingargiola. Per maggiori informazioni potete consultare la pagina Facebook dell’evento.
URL:https://cronachedibirra.it/evento/brewing-a-new-sicily-2019/
LOCATION:Mosaik\, Via Musumeci 60\, Catani\, CT\, 95131\, Italia
CATEGORIES:Iniziative
ATTACH;FMTTYPE=image/jpeg:https://cdn1.cronachedibirra.it/wp-content/uploads/20200203100058/brewing-sicily.jpg
END:VEVENT
END:VCALENDAR