BEGIN:VCALENDAR
VERSION:2.0
PRODID:-//Cronache di Birra - ECPv6.15.20//NONSGML v1.0//EN
CALSCALE:GREGORIAN
METHOD:PUBLISH
X-ORIGINAL-URL:https://cronachedibirra.it
X-WR-CALDESC:Eventi per Cronache di Birra
REFRESH-INTERVAL;VALUE=DURATION:PT1H
X-Robots-Tag:noindex
X-PUBLISHED-TTL:PT1H
BEGIN:VTIMEZONE
TZID:Europe/Rome
BEGIN:DAYLIGHT
TZOFFSETFROM:+0100
TZOFFSETTO:+0200
TZNAME:CEST
DTSTART:20180325T010000
END:DAYLIGHT
BEGIN:STANDARD
TZOFFSETFROM:+0200
TZOFFSETTO:+0100
TZNAME:CET
DTSTART:20181028T010000
END:STANDARD
BEGIN:DAYLIGHT
TZOFFSETFROM:+0100
TZOFFSETTO:+0200
TZNAME:CEST
DTSTART:20190331T010000
END:DAYLIGHT
BEGIN:STANDARD
TZOFFSETFROM:+0200
TZOFFSETTO:+0100
TZNAME:CET
DTSTART:20191027T010000
END:STANDARD
BEGIN:DAYLIGHT
TZOFFSETFROM:+0100
TZOFFSETTO:+0200
TZNAME:CEST
DTSTART:20200329T010000
END:DAYLIGHT
BEGIN:STANDARD
TZOFFSETFROM:+0200
TZOFFSETTO:+0100
TZNAME:CET
DTSTART:20201025T010000
END:STANDARD
END:VTIMEZONE
BEGIN:VEVENT
DTSTART;VALUE=DATE:20190927
DTEND;VALUE=DATE:20190930
DTSTAMP:20260424T074807
CREATED:20190913T132938Z
LAST-MODIFIED:20190920T080841Z
UID:25066-1569542400-1569801599@cronachedibirra.it
SUMMARY:Festa delle Birre Artigianali di Eataly 2019
DESCRIPTION:Torna da venerdì 27 a domenica 29 settembre il consueto appuntamento con la Festa delle Birre Artigianali organizzata da Eataly Roma. La manifestazione si terrà al terzo piano del tempio capitolino della gastronomia con la partecipazione dei seguenti birrifici: Novo Brazil\, Baladin\, Birra dell’Eremo\, Losa\, Oxiana\, Birreria Eataly\, Alta Quota\, Birranova\, Birrone\, Maiella\, Maltovivo\, Birrificio Sorrento\, Brewfist\, Cantaloop\, La Casa di Cura e Lucky Brews. Tantissimi gli appuntamenti collaterali\, un paio dei quali riguarderanno da vicino Cronache di Birra: venerdì infatti\, insieme all’amico Salvatore Cosenza\, trasmetteremo in diretta una puntata di Radiocronache di Birra\, mentre per tutta la durata dell’evento – e anche prima – troverete su Whatabeer\, la nostra nuovissima app\, un contest apposito con tutte le birre disponibili durante il festival. \nMa il programma non si ferma qui\, perché ci saranno incontri di degustazione con Unione Degustatori Birra e Slow Food\, un angolo dedicato al sidro\, cotta pubblica collaborativa Eataly – Novo Brazil\, intervista con Teo Musso\, giochi birrari\, musica dal vivo e zona bimbi. Inutile infine sottolineare che ad accompagnare la birra ci sarà un’ampia selezione gastronomica di altissimo livello\, con panini\, american bbq\, maritozzi salati\, cartocci e altre squisitezze. Maggiori informazioni sono disponibili sul sito di Eataly.
URL:https://cronachedibirra.it/evento/festa-delle-birre-artigianali-di-eataly-2019/
LOCATION:Eataly Roma
CATEGORIES:Manifestazioni
ATTACH;FMTTYPE=image/jpeg:https://cdn1.cronachedibirra.it/wp-content/uploads/20200203100154/festa-eataly.jpg
END:VEVENT
BEGIN:VEVENT
DTSTART;VALUE=DATE:20190928
DTEND;VALUE=DATE:20190929
DTSTAMP:20260424T074807
CREATED:20190920T132502Z
LAST-MODIFIED:20190920T132502Z
UID:25115-1569628800-1569715199@cronachedibirra.it
SUMMARY:10 anni di Open Baladin
DESCRIPTION:L’Open Baladin di Roma è sicuramente uno dei locali più influenti nella storia della birra artigianale capitolina (e non solo). Sabato 28 settembre festeggerà il suo decennale con una grande festa che inizierà alle 18 e proseguirà fino a notte fonda. Protagoniste saranno naturalmente le 41 spine del locale\, tutte destinate a ospitare prodotti italiani tranne una sorpresa proveniente dal Belgio. Il programma tuttavia prevede anche una serie limitata di lattine in omaggio ai primi 500 partecipanti\, un hamburger creato per l’occasione in aggiunta alla solita proposta culinaria del locale\, cocktail alla birra\, musica dal vivo e altro ancora. Aggiornamenti e dettagli sono disponibili sulla pagina Facebook dell’evento.
URL:https://cronachedibirra.it/evento/10-anni-di-open-baladin/
LOCATION:Open Baladin Roma\, Via degli Specchi 6\, Roma\, RM\, 00186\, Italia
CATEGORIES:Iniziative
ATTACH;FMTTYPE=image/jpeg:https://cdn1.cronachedibirra.it/wp-content/uploads/20200203100149/10-anni-baladin-open.jpg
END:VEVENT
BEGIN:VEVENT
DTSTART;VALUE=DATE:20190928
DTEND;VALUE=DATE:20190930
DTSTAMP:20260424T074807
CREATED:20190927T103433Z
LAST-MODIFIED:20190927T103433Z
UID:25194-1569628800-1569801599@cronachedibirra.it
SUMMARY:Zuradili Sardinia BeerBQ Festival 2019
DESCRIPTION:Debutterà sabato 28 e domenica 29 settembre presso il Parco di Zuradili a Marrubiu (OR) la manifestazione Zuradili Sardinia BeerBQ Festival 2019\, dedicata chiaramente alla birra artigianale e al bbq. Provengono esclusivamente dalla Sardegna i birrifici e le beer firm presenti: Tholos\, Brewpub Trulla\, Harvest\, La Volpe e il Luppolo\, Marduk\, Terrantiga\, Brew Bay e BAM. Cinque invece le squadre che proporranno i loro menu bbq\, mentre non mancherà musica dal vivo\, workshop\, cotta pubblica\, dj set\, servizio navetta e altro ancora. Ulteriori informazioni sono disponibili su Le Strade della Birra.
URL:https://cronachedibirra.it/evento/zuradili-sardinia-beerbq-festival-2019/
LOCATION:Parco di Zuradili\, Località Zuarbara\, Marrubiu\, OR\, 09094\, Italia
CATEGORIES:Manifestazioni
ATTACH;FMTTYPE=image/jpeg:https://cdn1.cronachedibirra.it/wp-content/uploads/20200203100141/sardinia_bbq_festival_zuradili_2019.jpg
END:VEVENT
END:VCALENDAR