BEGIN:VCALENDAR
VERSION:2.0
PRODID:-//Cronache di Birra - ECPv6.15.20//NONSGML v1.0//EN
CALSCALE:GREGORIAN
METHOD:PUBLISH
X-ORIGINAL-URL:https://cronachedibirra.it
X-WR-CALDESC:Eventi per Cronache di Birra
REFRESH-INTERVAL;VALUE=DURATION:PT1H
X-Robots-Tag:noindex
X-PUBLISHED-TTL:PT1H
BEGIN:VTIMEZONE
TZID:Europe/Rome
BEGIN:DAYLIGHT
TZOFFSETFROM:+0100
TZOFFSETTO:+0200
TZNAME:CEST
DTSTART:20180325T010000
END:DAYLIGHT
BEGIN:STANDARD
TZOFFSETFROM:+0200
TZOFFSETTO:+0100
TZNAME:CET
DTSTART:20181028T010000
END:STANDARD
BEGIN:DAYLIGHT
TZOFFSETFROM:+0100
TZOFFSETTO:+0200
TZNAME:CEST
DTSTART:20190331T010000
END:DAYLIGHT
BEGIN:STANDARD
TZOFFSETFROM:+0200
TZOFFSETTO:+0100
TZNAME:CET
DTSTART:20191027T010000
END:STANDARD
BEGIN:DAYLIGHT
TZOFFSETFROM:+0100
TZOFFSETTO:+0200
TZNAME:CEST
DTSTART:20200329T010000
END:DAYLIGHT
BEGIN:STANDARD
TZOFFSETFROM:+0200
TZOFFSETTO:+0100
TZNAME:CET
DTSTART:20201025T010000
END:STANDARD
END:VTIMEZONE
BEGIN:VEVENT
DTSTART;VALUE=DATE:20190614
DTEND;VALUE=DATE:20190916
DTSTAMP:20260424T074743
CREATED:20190531T142834Z
LAST-MODIFIED:20190607T132234Z
UID:23999-1560470400-1568591999@cronachedibirra.it
SUMMARY:Bevere
DESCRIPTION:Una rassegna di birra artigianale lunga tre mesi: è quella che si svolgerà da giovedì 6 giugno da venerdì 14 giugno fino a sabato 7 settembre sulle sponde del Tevere a Roma\, sotto Piazza dei Tribunali (Ponte Umberto I). Bevere è l’iniziativa a cura di Beerfellas che proporrà tante birre di produttori italiani e stranieri: North Brewing\, Six Degrees North\, Fallen \, Brighton Bier\, Wiper and True\, Burning Sky\, Gun Brewery\, Redchurch\, Harbour\, Cloudwater\, Redemption\, Anarchy\, Pressure Drop\, Five Points\, Bellfield\, Novo Brazil\, Against the Grain\, 4 Islands\, Rebel’s\, Birrificio del Doge\, Troll\, Birrificio di Cagliari\, Bi-Du\, Birrificio Amerino\, Oxiana\, Etnia\, Pelicon\, Trois Dames\, Trouble Brewing\, KonigsBrau\, Regent. La manifestazione prevede inoltre angoli dedicati ai sidri e bevande\, laboratori di degustazione\, angolo food con specialità emiliane e musica dal vivo e dj set. Ulteriori informazioni sul sito di Bevere.
URL:https://cronachedibirra.it/evento/bevere/
LOCATION:Lungotevere Prati\, Lungotevere Prati\, Roma\, RM\, 00193\, Italia
CATEGORIES:Iniziative
ATTACH;FMTTYPE=image/png:https://cdn1.cronachedibirra.it/wp-content/uploads/20200203094223/BEVERE-Orizzontale.png
END:VEVENT
BEGIN:VEVENT
DTSTART;VALUE=DATE:20190828
DTEND;VALUE=DATE:20190903
DTSTAMP:20260424T074743
CREATED:20190829T092951Z
LAST-MODIFIED:20190829T092951Z
UID:24893-1566950400-1567468799@cronachedibirra.it
SUMMARY:Bolle di Malto 2019
DESCRIPTION:È cominciata ieri e proseguirà fino a lunedì 2 settembre la quinta edizione di Bolle di Malto\, in programma in Piazza Martiri della Libertà a Biella. La lista dei birrifici partecipanti è incentrata su soli produttori italiani\, con un occhio di riguardo per quelli piemontesi: Beer In\, Un Terzo\, Svevo\, Jeb\, Rabel\, Diciottozerouno\, Baladin\, 100 Venti\, La Tresca\, Birrificio Aosta\, Croce di Malto\, Rurale\, PBC\, Legnone\, Ofelia\, Filodilana\, Abbà\, Edit\, Picobrew\, 620 Passi e Birrificio Fermento. Il programma prevede conferenze\, degustazioni\, ampia selezione di street food di qualità\, cene di gala\, musica dal vivo e dj set. Ulteriori dettagli sono disponibili sul sito di Bolle di Malto.
URL:https://cronachedibirra.it/evento/bolle-di-malto-2019/
LOCATION:Piazza Martiri della Libertà – Biella\, Piazza Martiri della Libertà\, Biella\, BI\, Italia
CATEGORIES:Manifestazioni
ATTACH;FMTTYPE=image/jpeg:https://cdn1.cronachedibirra.it/wp-content/uploads/20200203094046/bolle-di-malto-scaled.jpg
END:VEVENT
BEGIN:VEVENT
DTSTART;VALUE=DATE:20190830
DTEND;VALUE=DATE:20190902
DTSTAMP:20260424T074743
CREATED:20190808T155726Z
LAST-MODIFIED:20190808T160104Z
UID:24818-1567123200-1567382399@cronachedibirra.it
SUMMARY:Calaris 2019
DESCRIPTION:Dopo il debutto dello scorso anno\, da venerdì 30 agosto a domenica 1 settembre si terrà la seconda edizione di Calaris\, il festival delle birre artigianali di Cagliari. Saranno presenti 9 tra birrifici e beer firm: Trulla\, Brew Bay\, Lariano\, Birrificio di Cagliari\, Gattarancio\, Terrantiga\, P3 Brewing\,  La Volpe e il Luppolo e Muttnik. Il programma prevede 5 corner con street food\, laboratori di degustazione\, cotta pubblica\, musica dal vivo e altro ancora. Maggiori dettagli sono disponibili sulla pagina Facebook di Calaris.
URL:https://cronachedibirra.it/evento/calaris-2019/
LOCATION:Lazzaretto di Cagliari\, Via dei Navigatori\, 1\, Cagliari\, CA\, 09126\, Italia
CATEGORIES:Manifestazioni
ATTACH;FMTTYPE=image/jpeg:https://cdn1.cronachedibirra.it/wp-content/uploads/20200203094057/calaris-2.jpg
END:VEVENT
BEGIN:VEVENT
DTSTART;VALUE=DATE:20190830
DTEND;VALUE=DATE:20190902
DTSTAMP:20260424T074743
CREATED:20190829T103156Z
LAST-MODIFIED:20190829T103156Z
UID:24909-1567123200-1567382399@cronachedibirra.it
SUMMARY:Birrae 2019
DESCRIPTION:L’edizione 2019 di Birrae\, festival molisano della birra artigianale\, si terrà a Campobasso\, presso la Villa de Capoa\, da venerdì 30 agosto a domenica 1 settembre. I birrifici partecipanti proverranno solo dal Sud Italia: Bonavena\, Sbam\, Lieviteria\, Okorei\, Cantaloop\, La Fucina\, Hops Up\, Birra Fardone e 4 Queens. Il programma prevede un’ampia selezione di cibo e tanta musica dal vivo. Da segnalare che Birrae sarà un evento totalmente plastic free. Maggior informazioni sono disponibili sulla pagina Facebook della manifestazione.
URL:https://cronachedibirra.it/evento/birrae-2019/
LOCATION:Villa de Capoa\, Piazza Savoia\, Campobasso\, CB\, 86100\, Italia
CATEGORIES:Manifestazioni
ATTACH;FMTTYPE=image/jpeg:https://cdn1.cronachedibirra.it/wp-content/uploads/20200203094039/birrae-3.jpg
END:VEVENT
END:VCALENDAR