BEGIN:VCALENDAR
VERSION:2.0
PRODID:-//Cronache di Birra - ECPv6.15.20//NONSGML v1.0//EN
CALSCALE:GREGORIAN
METHOD:PUBLISH
X-WR-CALNAME:Cronache di Birra
X-ORIGINAL-URL:https://cronachedibirra.it
X-WR-CALDESC:Eventi per Cronache di Birra
REFRESH-INTERVAL;VALUE=DURATION:PT1H
X-Robots-Tag:noindex
X-PUBLISHED-TTL:PT1H
BEGIN:VTIMEZONE
TZID:Europe/Rome
BEGIN:DAYLIGHT
TZOFFSETFROM:+0100
TZOFFSETTO:+0200
TZNAME:CEST
DTSTART:20180325T010000
END:DAYLIGHT
BEGIN:STANDARD
TZOFFSETFROM:+0200
TZOFFSETTO:+0100
TZNAME:CET
DTSTART:20181028T010000
END:STANDARD
BEGIN:DAYLIGHT
TZOFFSETFROM:+0100
TZOFFSETTO:+0200
TZNAME:CEST
DTSTART:20190331T010000
END:DAYLIGHT
BEGIN:STANDARD
TZOFFSETFROM:+0200
TZOFFSETTO:+0100
TZNAME:CET
DTSTART:20191027T010000
END:STANDARD
BEGIN:DAYLIGHT
TZOFFSETFROM:+0100
TZOFFSETTO:+0200
TZNAME:CEST
DTSTART:20200329T010000
END:DAYLIGHT
BEGIN:STANDARD
TZOFFSETFROM:+0200
TZOFFSETTO:+0100
TZNAME:CET
DTSTART:20201025T010000
END:STANDARD
END:VTIMEZONE
BEGIN:VEVENT
DTSTART;VALUE=DATE:20190614
DTEND;VALUE=DATE:20190916
DTSTAMP:20260424T090055
CREATED:20190531T142834Z
LAST-MODIFIED:20190607T132234Z
UID:23999-1560470400-1568591999@cronachedibirra.it
SUMMARY:Bevere
DESCRIPTION:Una rassegna di birra artigianale lunga tre mesi: è quella che si svolgerà da giovedì 6 giugno da venerdì 14 giugno fino a sabato 7 settembre sulle sponde del Tevere a Roma\, sotto Piazza dei Tribunali (Ponte Umberto I). Bevere è l’iniziativa a cura di Beerfellas che proporrà tante birre di produttori italiani e stranieri: North Brewing\, Six Degrees North\, Fallen \, Brighton Bier\, Wiper and True\, Burning Sky\, Gun Brewery\, Redchurch\, Harbour\, Cloudwater\, Redemption\, Anarchy\, Pressure Drop\, Five Points\, Bellfield\, Novo Brazil\, Against the Grain\, 4 Islands\, Rebel’s\, Birrificio del Doge\, Troll\, Birrificio di Cagliari\, Bi-Du\, Birrificio Amerino\, Oxiana\, Etnia\, Pelicon\, Trois Dames\, Trouble Brewing\, KonigsBrau\, Regent. La manifestazione prevede inoltre angoli dedicati ai sidri e bevande\, laboratori di degustazione\, angolo food con specialità emiliane e musica dal vivo e dj set. Ulteriori informazioni sul sito di Bevere.
URL:https://cronachedibirra.it/evento/bevere/
LOCATION:Lungotevere Prati\, Lungotevere Prati\, Roma\, RM\, 00193\, Italia
CATEGORIES:Iniziative
ATTACH;FMTTYPE=image/png:https://cdn1.cronachedibirra.it/wp-content/uploads/20200203094223/BEVERE-Orizzontale.png
END:VEVENT
BEGIN:VEVENT
DTSTART;VALUE=DATE:20190801
DTEND;VALUE=DATE:20190807
DTSTAMP:20260424T090055
CREATED:20190726T150912Z
LAST-MODIFIED:20190802T104924Z
UID:24690-1564617600-1565135999@cronachedibirra.it
SUMMARY:Campania Beerfest 2019
DESCRIPTION:È cominciato ieri e proseguirà fino a martedì 6 agosto la manifestazione Campania Beer Fest\, conosciuta in passato come la Festa della Birra di Baronissi e in programma a via Don Minzoni nel comune del salernitano. Saranno presenti 13 tra birrifici e beer firm della Campania: Birrificio dell’Aspide\, Birrificio dei Bardi\, Bella ‘Mbriana\, Fiej\, Birrificio Incanto\, Birrificio Irpino\, Karma\, Lievito e Nuvole\, Serrocroce\, Birrificio Sorrento\, Birrificio Ventitrè\, Cauldron Craft Beer e Maestri del Sannio. Inoltre saranno presenti i pub indipendenti Fermento Brew Inn e Pub 27 e le birre senza glutine di Caulier. Il programma prevede 24 postazioni gastronomiche con street food e tanta musica dal vivo. Ulteriori informazioni sulla pagina Facebook dell’evento.
URL:https://cronachedibirra.it/evento/campania-beerfest-2019/
LOCATION:Baronissi\, Via Don Minzoni\, Baronissi\, SA\, Italia
CATEGORIES:Manifestazioni
ATTACH;FMTTYPE=image/png:https://cdn1.cronachedibirra.it/wp-content/uploads/20200203094101/Campania-Beerfest.png
END:VEVENT
BEGIN:VEVENT
DTSTART;VALUE=DATE:20190802
DTEND;VALUE=DATE:20190805
DTSTAMP:20260424T090055
CREATED:20190726T132713Z
LAST-MODIFIED:20190726T132713Z
UID:24657-1564704000-1564963199@cronachedibirra.it
SUMMARY:Tittoni Beer Festival 2019
DESCRIPTION:Si terrà da venerdì 2 a domenica 4 agosto l’edizione 2019 del Tittoni Beer Festival\, cioè la versione estiva del Brianza Beer Festival. La location sarà il Parco Tittoni di Desio (MB) e l’offerta birraria sarà strutturata in due grandi banconi con i prodotti di 50 birrifici diversi\, metà italiani e metà stranieri. La parte food proporrà specialità romagnole\, hamburger\, panini\, fritti e burritos\, mentre ogni sera ci sarà un concerto di musica live. Per aggiornamenti e altre informazioni potete consultare la pagina Facebook dell’evento.
URL:https://cronachedibirra.it/evento/tittoni-beer-festival-2019/
LOCATION:Parco Tittoni\, Via Cavalieri di Vittorio Veneto 2\, Desio\, MB\, 20832\, Italia
CATEGORIES:Manifestazioni
ATTACH;FMTTYPE=image/jpeg:https://cdn1.cronachedibirra.it/wp-content/uploads/20200203094110/tittoni-beer-festival.jpg
END:VEVENT
BEGIN:VEVENT
DTSTART;VALUE=DATE:20190802
DTEND;VALUE=DATE:20190805
DTSTAMP:20260424T090055
CREATED:20190726T142255Z
LAST-MODIFIED:20190802T115345Z
UID:24679-1564704000-1564963199@cronachedibirra.it
SUMMARY:Oops Beer Festival
DESCRIPTION:Comincia oggi e proseguirà fino a domenica 4 agosto la manifestazione Oops Beer Festival\, ospitato nel Centro Visioni Urbane di Rionero in Vulture (PZ). I birrifici e le beer firm presenti sono Pintagramma\, Beer Station\, Senza Terra\, Birrificio del Vulture\, Crazy Hop\, Hogar Beer e Basilisca. Il programma prevede laboratori di degustazione\, cotta pubblica e 2 aree gastronomiche. Maggiori informazioni sulla pagina Facebook di Oops Beer Festival.
URL:https://cronachedibirra.it/evento/oops-beer-festival/
LOCATION:Centro Visioni Urbane\, Via Fontana 1961\, Rionero in Vulture\, PZ\, 85028\, Italia
CATEGORIES:Manifestazioni
ATTACH;FMTTYPE=image/jpeg:https://cdn1.cronachedibirra.it/wp-content/uploads/20200203094109/oops.jpg
END:VEVENT
END:VCALENDAR