BEGIN:VCALENDAR
VERSION:2.0
PRODID:-//Cronache di Birra - ECPv6.15.20//NONSGML v1.0//EN
CALSCALE:GREGORIAN
METHOD:PUBLISH
X-WR-CALNAME:Cronache di Birra
X-ORIGINAL-URL:https://cronachedibirra.it
X-WR-CALDESC:Eventi per Cronache di Birra
REFRESH-INTERVAL;VALUE=DURATION:PT1H
X-Robots-Tag:noindex
X-PUBLISHED-TTL:PT1H
BEGIN:VTIMEZONE
TZID:Europe/Rome
BEGIN:DAYLIGHT
TZOFFSETFROM:+0100
TZOFFSETTO:+0200
TZNAME:CEST
DTSTART:20180325T010000
END:DAYLIGHT
BEGIN:STANDARD
TZOFFSETFROM:+0200
TZOFFSETTO:+0100
TZNAME:CET
DTSTART:20181028T010000
END:STANDARD
BEGIN:DAYLIGHT
TZOFFSETFROM:+0100
TZOFFSETTO:+0200
TZNAME:CEST
DTSTART:20190331T010000
END:DAYLIGHT
BEGIN:STANDARD
TZOFFSETFROM:+0200
TZOFFSETTO:+0100
TZNAME:CET
DTSTART:20191027T010000
END:STANDARD
BEGIN:DAYLIGHT
TZOFFSETFROM:+0100
TZOFFSETTO:+0200
TZNAME:CEST
DTSTART:20200329T010000
END:DAYLIGHT
BEGIN:STANDARD
TZOFFSETFROM:+0200
TZOFFSETTO:+0100
TZNAME:CET
DTSTART:20201025T010000
END:STANDARD
END:VTIMEZONE
BEGIN:VEVENT
DTSTART;VALUE=DATE:20190614
DTEND;VALUE=DATE:20190916
DTSTAMP:20260424T130503
CREATED:20190531T142834Z
LAST-MODIFIED:20190607T132234Z
UID:23999-1560470400-1568591999@cronachedibirra.it
SUMMARY:Bevere
DESCRIPTION:Una rassegna di birra artigianale lunga tre mesi: è quella che si svolgerà da giovedì 6 giugno da venerdì 14 giugno fino a sabato 7 settembre sulle sponde del Tevere a Roma\, sotto Piazza dei Tribunali (Ponte Umberto I). Bevere è l’iniziativa a cura di Beerfellas che proporrà tante birre di produttori italiani e stranieri: North Brewing\, Six Degrees North\, Fallen \, Brighton Bier\, Wiper and True\, Burning Sky\, Gun Brewery\, Redchurch\, Harbour\, Cloudwater\, Redemption\, Anarchy\, Pressure Drop\, Five Points\, Bellfield\, Novo Brazil\, Against the Grain\, 4 Islands\, Rebel’s\, Birrificio del Doge\, Troll\, Birrificio di Cagliari\, Bi-Du\, Birrificio Amerino\, Oxiana\, Etnia\, Pelicon\, Trois Dames\, Trouble Brewing\, KonigsBrau\, Regent. La manifestazione prevede inoltre angoli dedicati ai sidri e bevande\, laboratori di degustazione\, angolo food con specialità emiliane e musica dal vivo e dj set. Ulteriori informazioni sul sito di Bevere.
URL:https://cronachedibirra.it/evento/bevere/
LOCATION:Lungotevere Prati\, Lungotevere Prati\, Roma\, RM\, 00193\, Italia
CATEGORIES:Iniziative
ATTACH;FMTTYPE=image/png:https://cdn1.cronachedibirra.it/wp-content/uploads/20200203094223/BEVERE-Orizzontale.png
END:VEVENT
BEGIN:VEVENT
DTSTART;VALUE=DATE:20190620
DTEND;VALUE=DATE:20190624
DTSTAMP:20260424T130503
CREATED:20190614T131131Z
LAST-MODIFIED:20190614T155541Z
UID:24130-1560988800-1561334399@cronachedibirra.it
SUMMARY:C'è Fermento 2019
DESCRIPTION:Importante traguardo per C’è Fermento: la storica kermesse di Saluzzo (CN) raggiunge quest’anno la sua decima edizione\, che si terrà da giovedì 20 a domenica 23 giugno presso l’Ex Caserma Musso. I birrifici presenti saranno Antagonisti\, Baladin\, Birrificio della Granda\, Citabiunda\, Kauss\, Pausa Cafè\, Troll\, Birrificio Trunasse\, Beba\, Elvo\, Canediguerra\, Birrificio Castagnero\, Croce di Malto\, Argo\, Birrificio del Forte\, Svevo\, Nadir e Ofelia\, oltre agli stranieri Knoblach\, Glazen Torene e Siren. Come sempre il programma sarà estremamente ricco\, con un’ampia zona gastronomica dotata di 12 cucine da strada\, momenti di approfondimento\, spazio per i più piccoli. Da segnalare anche il “fuori salone” con tante iniziative sul territorio. Maggiori informazioni sono disponibili sul sito di Fondazione Bertoni.
URL:https://cronachedibirra.it/evento/ce-fermento-2019/
LOCATION:BZ
CATEGORIES:Manifestazioni
ATTACH;FMTTYPE=image/jpeg:https://cdn1.cronachedibirra.it/wp-content/uploads/20200203094209/ce-fermento-2.jpg
END:VEVENT
BEGIN:VEVENT
DTSTART;VALUE=DATE:20190620
DTEND;VALUE=DATE:20190624
DTSTAMP:20260424T130503
CREATED:20190614T131755Z
LAST-MODIFIED:20190614T131755Z
UID:24134-1560988800-1561334399@cronachedibirra.it
SUMMARY:Don't Worry Beer Happy 2019
DESCRIPTION:Giunge addirittura alla sua dodicesima edizione il festival marchigiano Don’t Worry Beer Happy\, in programma da giovedì 20 a domenica 23 giugno negli spazi esterni della birreria I Santi di Porto Sant’Elpidio (FM). I birrifici presenti saranno Mukkeller\, Altavia\, Hopskin\, Foglie d’Erba\, Birrificio del Forte \, Jungle Juice\, Porta Bruciata\, Garlatti Costa\, Birrificio Sabino\, Elvo\, Birranova e Birra Perugia. Per il resto troverete tanta musica dal vivo e dj set. Per i dettagli vi rimando alla pagina Facebook dell’evento.
URL:https://cronachedibirra.it/evento/dont-worry-beer-happy-2019/
LOCATION:I Santi\, Via Cesare Battisti 68\, Porto Sant'Elpidio\, FM\, 63821\, Italia
CATEGORIES:Manifestazioni
ATTACH;FMTTYPE=image/jpeg:https://cdn1.cronachedibirra.it/wp-content/uploads/20200203094207/dont-worry.jpg
END:VEVENT
BEGIN:VEVENT
DTSTART;VALUE=DATE:20190620
DTEND;VALUE=DATE:20190624
DTSTAMP:20260424T130503
CREATED:20190621T124821Z
LAST-MODIFIED:20190621T124821Z
UID:24233-1560988800-1561334399@cronachedibirra.it
SUMMARY:Orobie Beer Festival 2019
DESCRIPTION:È cominciata ieri e proseguirà fino a domenica 23 giugno l’edizione 2019 dell’Orobie Beer Festival\, in corso presso il Lazzaretto di Bergamo in piazzale Goisis. I birrifici partecipanti sono Almond ’22\, Argo\, Baladin\, Bevog\, Bi-Du\, Birranova\, Bruton\, Canediguerra\, Crak\, Croce di Malto\, De La Senne\, De Struise\, Dogma\, Eastside\, Elvo\, Extraomnes\, Foglie d’Erba\, Godog\, Hammer\, Hilltop\, Hop Skin\, Birrificio Italiano\, Lambrate\, Loncium\, Mastino\, MC-77\, Menaresta\, Montegioco\, Retorto\, Rurale\, Vento Forte\, Vetra\, Via Priula\, Ritual Lab\, BSFM\, Cantillon\, Loverbeer\, Sieman\, Klanbarrique e Barley. Sarà presente anche una selezione di cocktail alla birra e un angolo dedicato ai sidri. Il programma prevede un’ampia zona food\, workshop e laboratori\, mercatini di artigianato\, intrattenimento e area bimbi. Per saperne di più potete dare un’occhiata alla pagina Facebook dell’OBF.
URL:https://cronachedibirra.it/evento/orobie-beer-festival-2019/
LOCATION:Lazzaretto di Bergamo\, Piazzale Lodovico Goisis\, Bergamo\, BG\, 24124\, Italia
CATEGORIES:Manifestazioni
END:VEVENT
BEGIN:VEVENT
DTSTART;VALUE=DATE:20190621
DTEND;VALUE=DATE:20190624
DTSTAMP:20260424T130503
CREATED:20190614T125237Z
LAST-MODIFIED:20190614T125237Z
UID:24123-1561075200-1561334399@cronachedibirra.it
SUMMARY:Varazze Beer Festival 2019
DESCRIPTION:Giunge alla sua terza edizione il Varazze Beer Festival\, in programma da venerdì 21 a domenica 23 giugno presso il Molo dei Marinai d’Italia a Varazze (SV). Molto valida la selezione dei birrifici presenti: Picobrew\, Crak\, Rebel’s\, Jungle Juice\, Evoqe\, Birrificio Sabino\, Opperbacco\, War\, Altavia\, Muttnik e Sagrin. Il programma prevede ampia zona food\, musica dal vivo e spettacoli d’intrattenimento. Per saperne di più vi consiglio di dare un’occhiata alla pagina Facebook della manifestazione.
URL:https://cronachedibirra.it/evento/varazze-beer-festival-2019/
LOCATION:Molo Marinai d’Italia\, Molo Marinai d'Italia\, Verrazze\, SV\, 17019\, Italia
ATTACH;FMTTYPE=image/jpeg:https://cdn1.cronachedibirra.it/wp-content/uploads/20200203094210/varazze.jpg
END:VEVENT
BEGIN:VEVENT
DTSTART;VALUE=DATE:20190621
DTEND;VALUE=DATE:20190624
DTSTAMP:20260424T130503
CREATED:20190614T133214Z
LAST-MODIFIED:20190614T133214Z
UID:24140-1561075200-1561334399@cronachedibirra.it
SUMMARY:Bai Beer Fest
DESCRIPTION:Debutterà da venerdì 21 a domenica 23 giugno la manifestazione BAI Beer Fest\, ospitata negli spazi del Parco Pinocchio a Salerno. Saranno presenti i birrifici Vento Forte\, Hammer\, Lariano\, Ofelia\, Foglie d’Erba\, Birra Perugia\, Rebel’s\, The Wall\, Terre di Faul\, Birrificio Sabino\, Birranova\, No Tomorrow\, Bellazzi\, La Fucina\, Birrificio dell’Aspide e Maneba. Il programma prevede un’ampia scelta gastronomica grazie alla presenza di dieci food truck\, musica dal vivo e dj set. Maggiori informazioni sono disponibili sulla pagina Facebook del festival.
URL:https://cronachedibirra.it/evento/bai-beer-fest/
LOCATION:Parco Pinocchio\, Piazza Montpellier\, Salerno\, SA\, 84126\, Italia
CATEGORIES:Manifestazioni
ATTACH;FMTTYPE=image/jpeg:https://cdn1.cronachedibirra.it/wp-content/uploads/20200203094207/Bai-Beer-fest.jpg
END:VEVENT
BEGIN:VEVENT
DTSTART;VALUE=DATE:20190621
DTEND;VALUE=DATE:20190624
DTSTAMP:20260424T130503
CREATED:20190614T134138Z
LAST-MODIFIED:20190614T134304Z
UID:24144-1561075200-1561334399@cronachedibirra.it
SUMMARY:Fermento Latina 2019
DESCRIPTION:Sesta edizione per Fermento Latina\, festival in programma da venerdì 21 a domenica 23 giugno in Viale Italia e Piazza del Quadrato\, ovviamente a Latina. I birrifici presenti saranno Eastside\, Birrificio Pontino\, BFour\, Eternal City Brewing\, Birra Gladiatore\, Manerba\, Ebers\, Contromano\, Birra Partenopea e BraveHop. Il programma prevede un’ampia zona dedicata allo street food\, corsi di cultura birraria e musica dal vivo. Per tutti i dettagli vi rimando alla pagina Facebook di Fermento Latina.
URL:https://cronachedibirra.it/evento/fermento-latina-2019/
LOCATION:Viale Italia – Latina\, Viale Italia\, Latina\, LT\, Italia
CATEGORIES:Manifestazioni
ATTACH;FMTTYPE=image/jpeg:https://cdn1.cronachedibirra.it/wp-content/uploads/20200203094205/fermento-latina-1-e1560519769638.jpg
END:VEVENT
BEGIN:VEVENT
DTSTART;VALUE=DATE:20190622
DTEND;VALUE=DATE:20190624
DTSTAMP:20260424T130503
CREATED:20190614T130238Z
LAST-MODIFIED:20190614T130238Z
UID:24126-1561161600-1561334399@cronachedibirra.it
SUMMARY:18 anni di Macche
DESCRIPTION:Il Ma che siete venuti a fà è sicuramente uno dei locali birrari più importanti d’Italia – personalmente è stato a dir poco fondamentale per la mia formazione nel settore  – e finalmente diventa maggiorenne. Nelle giornate di sabato 22 e domenica 23 giugno festeggerà il suo diciottesimo anno di attività con un evento che sarà ospitato negli spazi del Parco Appio a Roma. Cosa attendersi? Ovviamente una strepitosa selezione di birra alla spina\, che sarà incentrata su tante birre facili da bere (sicuramente tante ottime basse fermentazioni italiane e le ancestrali creazioni della Franconia)\, ma anche alcune immancabili chicche come quelle a firma Cantillon\, Bearded Iris e Deciduous. Tanto spazio anche al buon cibo\, nonché alla musica dal vivo. Inutile sottolineare la presenza di tanti appassionati e professionisti che in questi anni hanno scritto la storia del Macche\, chiaramente insieme al suo staff. Per approfondimenti e aggiornamenti fate riferimento alla pagina Facebook dell’evento. Ci vediamo lì!
URL:https://cronachedibirra.it/evento/18-anni-di-macche/
LOCATION:Parco Appio\, Via dell'Almone 105\, Roma\, VT\, 00179
CATEGORIES:Iniziative
ATTACH;FMTTYPE=image/jpeg:https://cdn1.cronachedibirra.it/wp-content/uploads/20200203094209/macche-18.jpg
END:VEVENT
END:VCALENDAR