BEGIN:VCALENDAR
VERSION:2.0
PRODID:-//Cronache di Birra - ECPv6.15.20//NONSGML v1.0//EN
CALSCALE:GREGORIAN
METHOD:PUBLISH
X-ORIGINAL-URL:https://cronachedibirra.it
X-WR-CALDESC:Eventi per Cronache di Birra
REFRESH-INTERVAL;VALUE=DURATION:PT1H
X-Robots-Tag:noindex
X-PUBLISHED-TTL:PT1H
BEGIN:VTIMEZONE
TZID:Europe/Rome
BEGIN:DAYLIGHT
TZOFFSETFROM:+0100
TZOFFSETTO:+0200
TZNAME:CEST
DTSTART:20180325T010000
END:DAYLIGHT
BEGIN:STANDARD
TZOFFSETFROM:+0200
TZOFFSETTO:+0100
TZNAME:CET
DTSTART:20181028T010000
END:STANDARD
BEGIN:DAYLIGHT
TZOFFSETFROM:+0100
TZOFFSETTO:+0200
TZNAME:CEST
DTSTART:20190331T010000
END:DAYLIGHT
BEGIN:STANDARD
TZOFFSETFROM:+0200
TZOFFSETTO:+0100
TZNAME:CET
DTSTART:20191027T010000
END:STANDARD
BEGIN:DAYLIGHT
TZOFFSETFROM:+0100
TZOFFSETTO:+0200
TZNAME:CEST
DTSTART:20200329T010000
END:DAYLIGHT
BEGIN:STANDARD
TZOFFSETFROM:+0200
TZOFFSETTO:+0100
TZNAME:CET
DTSTART:20201025T010000
END:STANDARD
END:VTIMEZONE
BEGIN:VEVENT
DTSTART;VALUE=DATE:20190520
DTEND;VALUE=DATE:20190523
DTSTAMP:20260424T154458
CREATED:20190517T133849Z
LAST-MODIFIED:20190517T141702Z
UID:23846-1558310400-1558569599@cronachedibirra.it
SUMMARY:Pint of Science 2019
DESCRIPTION:Si terrà da lunedì 20 a mercoledì 22 maggio in 20 città d’Italia l’edizione 2019 di Pint of Science\, l’iniziativa di divulgazione scientifica “popolare” che si svolge all’interno di pub e birrerie. Come sempre saranno toccati vari temi\, dalla fisica alla biologia\, dalla chimica alla geologia\, dall’astronomia alla medicina. Non è una manifestazione incentrata sulla birra artigianale\, ma visto la sua natura gli dedichiamo uno spazio su Cronache di Birra fin dal suo debutto italiano. Comunque non mancherà il coinvolgimento di locali di rilievo\, come Officine Clandestine (Bari)\, Il Santo Bevitore (Bologna)\, Pub 27 (Pompei)\, Maneba Industries (Striano)\, Ballarak (Palermo)\, Orzo Bruno (Pisa)\, Il Serpente (Roma) e Birrificio Torino (Torino). Per il programma completo potete consultare il sito di Pint of Science.
URL:https://cronachedibirra.it/evento/pint-of-science-2019/
LOCATION:Italia\, Italia
CATEGORIES:Iniziative
ATTACH;FMTTYPE=image/jpeg:https://cdn1.cronachedibirra.it/wp-content/uploads/20200131174544/Pint-of-Science-Logo-with-Glasses1.jpg
END:VEVENT
END:VCALENDAR