BEGIN:VCALENDAR
VERSION:2.0
PRODID:-//Cronache di Birra - ECPv6.15.20//NONSGML v1.0//EN
CALSCALE:GREGORIAN
METHOD:PUBLISH
X-ORIGINAL-URL:https://cronachedibirra.it
X-WR-CALDESC:Eventi per Cronache di Birra
REFRESH-INTERVAL;VALUE=DURATION:PT1H
X-Robots-Tag:noindex
X-PUBLISHED-TTL:PT1H
BEGIN:VTIMEZONE
TZID:Europe/Rome
BEGIN:DAYLIGHT
TZOFFSETFROM:+0100
TZOFFSETTO:+0200
TZNAME:CEST
DTSTART:20170326T010000
END:DAYLIGHT
BEGIN:STANDARD
TZOFFSETFROM:+0200
TZOFFSETTO:+0100
TZNAME:CET
DTSTART:20171029T010000
END:STANDARD
BEGIN:DAYLIGHT
TZOFFSETFROM:+0100
TZOFFSETTO:+0200
TZNAME:CEST
DTSTART:20180325T010000
END:DAYLIGHT
BEGIN:STANDARD
TZOFFSETFROM:+0200
TZOFFSETTO:+0100
TZNAME:CET
DTSTART:20181028T010000
END:STANDARD
BEGIN:DAYLIGHT
TZOFFSETFROM:+0100
TZOFFSETTO:+0200
TZNAME:CEST
DTSTART:20190331T010000
END:DAYLIGHT
BEGIN:STANDARD
TZOFFSETFROM:+0200
TZOFFSETTO:+0100
TZNAME:CET
DTSTART:20191027T010000
END:STANDARD
END:VTIMEZONE
BEGIN:VEVENT
DTSTART;VALUE=DATE:20181213
DTEND;VALUE=DATE:20181216
DTSTAMP:20260425T031905
CREATED:20181130T141916Z
LAST-MODIFIED:20181130T141916Z
UID:22228-1544659200-1544918399@cronachedibirra.it
SUMMARY:Giro del mondo in 40 spine - Xmas Edition
DESCRIPTION:Le rassegne di birre natalizie nei locali italiani sono un must del periodo e tra gli immancabili appuntamenti a tema bisogna menzionare il Giro del mondo in 40 spine dello Xander di Brescia\, che si terrà da giovedì 13 a sabato 15 dicembre. La selezione sarà ovviamente dedicata a kerstbier nazionali e straniere\, ma permetterà anche di assaggiare alcune chicche introvabili in Italia come quelle di Brekeriet (Svezia)\, Browerij de Moersleutel (Olanda)\, Eight Arch (Inghilterra) e Widawa (Polonia). Il menu sarà studiato appositamente per l’evento\, con panini\, lasagne\, polenta\, dolci di Natale e altro ancora. Per tutti i dettagli\, compresa la lista completa delle birre disponibili\, potete consultare la pagina Facebook dell’iniziativa.
URL:https://cronachedibirra.it/evento/giro-del-mondo-in-40-spine-xmas-edition/
LOCATION:Xander Brewpub
CATEGORIES:Iniziative
ATTACH;FMTTYPE=image/jpeg:https://cdn1.cronachedibirra.it/wp-content/uploads/20200203094608/giro-mondo.jpg
END:VEVENT
BEGIN:VEVENT
DTSTART;VALUE=DATE:20181214
DTEND;VALUE=DATE:20181217
DTSTAMP:20260425T031905
CREATED:20181214T112156Z
LAST-MODIFIED:20181214T123504Z
UID:22344-1544745600-1545004799@cronachedibirra.it
SUMMARY:Le Bae de Nadae 2018
DESCRIPTION:Giunge alla sua sesta edizione l’evento Le Bae de Nadae\,  l’iniziativa del The Drunken Duck che da oggi fino a domenica 16 dicembre coinvolgerà produttori e locali di tutta Italia. Protagoniste saranno ovviamente le birre natalizie\, realizzate dai birrifici Lariano\, Porta Bruciata\, Extraomnes\, Foglie d’Erba\, Rattbrew\, Birra Perugia\, Manerba\, Jungle Juice\, Altotevere\, Rebel’s\, Birrone\, Ofelia\, Croce di Malto\, Terre di Faul\, Almond 22\, Loverbeer e Batzen. I locali coinvolti saranno una trentina\, tutti di qualità e ben distribuiti sull’intero territorio nazionale. Per i dettagli sui vari appuntamenti potete consultare la pagina Facebook de Le Bae de Nadae.
URL:https://cronachedibirra.it/evento/le-bae-de-nadae-2018/
LOCATION:Italia\, Italia
CATEGORIES:Iniziative
ATTACH;FMTTYPE=image/jpeg:https://cdn1.cronachedibirra.it/wp-content/uploads/20200203094534/bae-nadae-1.jpg
END:VEVENT
BEGIN:VEVENT
DTSTART;VALUE=DATE:20181214
DTEND;VALUE=DATE:20181217
DTSTAMP:20260425T031905
CREATED:20181214T113520Z
LAST-MODIFIED:20181214T113520Z
UID:22347-1544745600-1545004799@cronachedibirra.it
SUMMARY:Birrette di Natale 2018
DESCRIPTION:Comincia oggi e proseguirà fino a domenica 16 dicembre la seconda edizione di Birrette di Natale\, evento a tema che si terrà presso il Palapesca di Sommacampagnana (VR). I birrifici presenti saranno Monte Baldo\, Birrificio della Scala\, Lesster\, Birrificio Legnone\, War\, Brewfist\, Baladin\, Mister B\, La Ribalta\, The Drunken Duck\, The Wall\, B2O e Revertis. Il programma prevede ampia scelta gastronomica con hamburger\, zuppe\, stinchi e dolci\, conferenze\, concerti musicali e altro ancora. Per maggiori informazioni potete consultare la pagina Facebook dell’iniziativa.
URL:https://cronachedibirra.it/evento/birrette-di-natale-2018/
LOCATION:Palapesca\, Via Cesarina 16\, Sommacampagnana\, VR\, 37066\, Italia
CATEGORIES:Manifestazioni
ATTACH;FMTTYPE=image/png:https://cdn1.cronachedibirra.it/wp-content/uploads/20200203094540/Birrette-1x1.png
END:VEVENT
BEGIN:VEVENT
DTSTART;VALUE=DATE:20181214
DTEND;VALUE=DATE:20181226
DTSTAMP:20260425T031905
CREATED:20181214T122302Z
LAST-MODIFIED:20181214T122302Z
UID:22357-1544745600-1545782399@cronachedibirra.it
SUMMARY:Kerst Over the Tap 2018
DESCRIPTION:Anche quest’anno il Mosaik di Catania organizza il suo evento dedicato alle birre di Natale. Ufficialmente il Kerst Over the Tap si è tenuto la scorsa settimana\, ma in realtà la rotazione di birre di Natale continuerà per tutto il periodo delle feste. La selezione punta chiaramente a kerstbier italiane e straniere\, ma non disdegna fermentazioni spontanee\, affinamenti in legno\, produzioni vintage e chicche di tutti i tipi. Tra gli appuntamenti ancora in programma segnalo il laboratorio di degustazione e abbinamenti di domenica 16 dicembre. Informazioni e aggiornamenti sono disponibili su Facebook.
URL:https://cronachedibirra.it/evento/kerst-over-the-tap-2018/
LOCATION:Mosaik\, Via Musumeci 60\, Catani\, CT\, 95131\, Italia
CATEGORIES:Iniziative
ATTACH;FMTTYPE=image/jpeg:https://cdn1.cronachedibirra.it/wp-content/uploads/20200203094534/kerst-mosaik.jpg
END:VEVENT
END:VCALENDAR