BEGIN:VCALENDAR
VERSION:2.0
PRODID:-//Cronache di Birra - ECPv6.15.20//NONSGML v1.0//EN
CALSCALE:GREGORIAN
METHOD:PUBLISH
X-WR-CALNAME:Cronache di Birra
X-ORIGINAL-URL:https://cronachedibirra.it
X-WR-CALDESC:Eventi per Cronache di Birra
REFRESH-INTERVAL;VALUE=DURATION:PT1H
X-Robots-Tag:noindex
X-PUBLISHED-TTL:PT1H
BEGIN:VTIMEZONE
TZID:Europe/Rome
BEGIN:DAYLIGHT
TZOFFSETFROM:+0100
TZOFFSETTO:+0200
TZNAME:CEST
DTSTART:20170326T010000
END:DAYLIGHT
BEGIN:STANDARD
TZOFFSETFROM:+0200
TZOFFSETTO:+0100
TZNAME:CET
DTSTART:20171029T010000
END:STANDARD
BEGIN:DAYLIGHT
TZOFFSETFROM:+0100
TZOFFSETTO:+0200
TZNAME:CEST
DTSTART:20180325T010000
END:DAYLIGHT
BEGIN:STANDARD
TZOFFSETFROM:+0200
TZOFFSETTO:+0100
TZNAME:CET
DTSTART:20181028T010000
END:STANDARD
BEGIN:DAYLIGHT
TZOFFSETFROM:+0100
TZOFFSETTO:+0200
TZNAME:CEST
DTSTART:20190331T010000
END:DAYLIGHT
BEGIN:STANDARD
TZOFFSETFROM:+0200
TZOFFSETTO:+0100
TZNAME:CET
DTSTART:20191027T010000
END:STANDARD
END:VTIMEZONE
BEGIN:VEVENT
DTSTART;VALUE=DATE:20181130
DTEND;VALUE=DATE:20181203
DTSTAMP:20260425T031654
CREATED:20181116T134527Z
LAST-MODIFIED:20181116T134527Z
UID:22063-1543536000-1543795199@cronachedibirra.it
SUMMARY:Le Bire de Nadal 2018
DESCRIPTION:Le Bire de Nadal è uno degli eventi storici italiani dedicati alle birre di Natale e quest’anno tornerà da venerdì 30 novembre a lunedì 2 dicembre. Cambierà però la sede: non più il The Dome di Nembro\, ma la leggendaria Abbazia di Sherwood di Caprino Bergamasco (BG). Per il resto però sarà mantenuta la formula di sempre\, con la possibilità di assaggiare una miriade di birre natalizie e non solo: ci saranno anche rarità\, etichette vintage\, produzioni particolari e birre più “normali”. Il programma sarà molto allettante per gli homebrewer\, con la finale del Campionato Nazionale di MoBI e il concorso a tema organizzato dal locale. Come sempre grande attenzione sarà riposta alla parte gastronomica. Per tutti gli aggiornamenti vi consiglio di collegarvi alla pagina Facebook dell’iniziativa.
URL:https://cronachedibirra.it/evento/le-bire-de-nadal-2018/
LOCATION:Abbazia di Sherwood
CATEGORIES:Iniziative
ATTACH;FMTTYPE=image/png:https://cdn1.cronachedibirra.it/wp-content/uploads/20200203094638/bire-nadal.png
END:VEVENT
BEGIN:VEVENT
DTSTART;VALUE=DATE:20181130
DTEND;VALUE=DATE:20181203
DTSTAMP:20260425T031654
CREATED:20181116T135708Z
LAST-MODIFIED:20181116T142224Z
UID:22066-1543536000-1543795199@cronachedibirra.it
SUMMARY:Jingle Beers 2018
DESCRIPTION:Si terrà da venerdì 30 novembre a domenica 2 dicembre l’edizione 2018 di Jingle Beers\, la manifestazione dedicata alle birre natalizie (e non solo) del Piccolo Birrificio Clandestino. Presso la sede di via Nicolodi a Livorno\, si susseguiranno per tre giorni consecutivi produzioni dedicate al Natale e all’inverno in generale\, prodotte dal birrificio e da tante altre aziende italiane. Il programma sarà come sempre molto fitto\, con laboratori di degustazione\, visite agli impianti produttivi\, musica dal vivo e street food a volontà. Sabato sera non mancherà una cena con degustazioni. Per tutti gli aggiornamenti potete seguire la pagina dell’evento su Facebook.
URL:https://cronachedibirra.it/evento/jingle-beers-2018/
LOCATION:Birrificio Clandestino\, Via Aurelio Nicolodi 40\, Livorno\, LI\, 57122
CATEGORIES:Iniziative
ATTACH;FMTTYPE=image/jpeg:https://cdn1.cronachedibirra.it/wp-content/uploads/20200203094637/jingle-beers-2.jpg
END:VEVENT
END:VCALENDAR