BEGIN:VCALENDAR
VERSION:2.0
PRODID:-//Cronache di Birra - ECPv6.15.20//NONSGML v1.0//EN
CALSCALE:GREGORIAN
METHOD:PUBLISH
X-WR-CALNAME:Cronache di Birra
X-ORIGINAL-URL:https://cronachedibirra.it
X-WR-CALDESC:Eventi per Cronache di Birra
REFRESH-INTERVAL;VALUE=DURATION:PT1H
X-Robots-Tag:noindex
X-PUBLISHED-TTL:PT1H
BEGIN:VTIMEZONE
TZID:Europe/Rome
BEGIN:DAYLIGHT
TZOFFSETFROM:+0100
TZOFFSETTO:+0200
TZNAME:CEST
DTSTART:20170326T010000
END:DAYLIGHT
BEGIN:STANDARD
TZOFFSETFROM:+0200
TZOFFSETTO:+0100
TZNAME:CET
DTSTART:20171029T010000
END:STANDARD
BEGIN:DAYLIGHT
TZOFFSETFROM:+0100
TZOFFSETTO:+0200
TZNAME:CEST
DTSTART:20180325T010000
END:DAYLIGHT
BEGIN:STANDARD
TZOFFSETFROM:+0200
TZOFFSETTO:+0100
TZNAME:CET
DTSTART:20181028T010000
END:STANDARD
BEGIN:DAYLIGHT
TZOFFSETFROM:+0100
TZOFFSETTO:+0200
TZNAME:CEST
DTSTART:20190331T010000
END:DAYLIGHT
BEGIN:STANDARD
TZOFFSETFROM:+0200
TZOFFSETTO:+0100
TZNAME:CET
DTSTART:20191027T010000
END:STANDARD
END:VTIMEZONE
BEGIN:VEVENT
DTSTART;VALUE=DATE:20180427
DTEND;VALUE=DATE:20180430
DTSTAMP:20260425T140732
CREATED:20180413T130233Z
LAST-MODIFIED:20180413T130233Z
UID:20317-1524787200-1525046399@cronachedibirra.it
SUMMARY:BeerDays Fermo
DESCRIPTION:Si terrà a Fermo la manifestazione BeerDays\, in programma da venerdì 27 a domenica 29 aprile. I birrifici partecipanti saranno una trentina: Deep Beer\, Birra Miles\, Aleluja\, Arcadia\, 61cento\, Baus Beer\, Birradamare\, StaBräu\, Birra Cauldron\, Birrificio Ciociaro\, Tenute Collesi\, Forgotten Beer\, Duep\, Il Gobbo\, Jack Rabbit\, Jesit\, Birrificio Curtense\, La Gallica\, Maltovivo\, Mezzogaudio\, Birrificio Non Retorico\, Birrificio QuattroVenti\, Ramoni\, RugBirra\, Svevo\, The Brave\, Trip Beer e Wallop Brewery. Il programma prevede animazioni per i più piccoli\, musica live e dj set. Dettagli sulla pagina Facebook dell’evento.
URL:https://cronachedibirra.it/evento/beerdays-fermo/
LOCATION:Piazza del Popolo – Fermo\, Piazza del Popolo\, Fermo\, FM\, Italy
CATEGORIES:Manifestazioni
ATTACH;FMTTYPE=image/jpeg:https://cdn1.cronachedibirra.it/wp-content/uploads/20200203095124/28795663_186757888720005_5316804463118845681_n.jpg
END:VEVENT
BEGIN:VEVENT
DTSTART;VALUE=DATE:20180427
DTEND;VALUE=DATE:20180430
DTSTAMP:20260425T140732
CREATED:20180420T121645Z
LAST-MODIFIED:20180420T121645Z
UID:20369-1524787200-1525046399@cronachedibirra.it
SUMMARY:Festival delle birrette 2018
DESCRIPTION:A Milano ancora un fine settimana all’insegna del Festival delle Birrette di Mare Culturale Urbano\, che andrà in scena da venerdì 27 a domenica 29 aprile con un’edizione dedicata a Twin Peaks. Protagonisti saranno alcuni birrifici italiani: i quattro “resident” Birrificio Italiano\, Rurale\, The Wall\, Lariano e l’ospite di questa tornata\, il birrificio Vetra. Come sempre il programma prevede street food regionale (piatti romani e siciliani) e tanta musica dal vivo e diversi dj set. Ulteriori informazioni sono disponibili su Facebook.
URL:https://cronachedibirra.it/evento/festival-delle-birrette-2018/
LOCATION:Mare culturale urbano\, Via G. Gabetti 15\, Milano\, MI\, Italia
CATEGORIES:Iniziative
ATTACH;FMTTYPE=image/jpeg:https://cdn1.cronachedibirra.it/wp-content/uploads/20200203095114/Festival-Birrette_mareculturale-urbano-Twin-Peaks.jpg
END:VEVENT
END:VCALENDAR