BEGIN:VCALENDAR
VERSION:2.0
PRODID:-//Cronache di Birra - ECPv6.15.20//NONSGML v1.0//EN
CALSCALE:GREGORIAN
METHOD:PUBLISH
X-ORIGINAL-URL:https://cronachedibirra.it
X-WR-CALDESC:Eventi per Cronache di Birra
REFRESH-INTERVAL;VALUE=DURATION:PT1H
X-Robots-Tag:noindex
X-PUBLISHED-TTL:PT1H
BEGIN:VTIMEZONE
TZID:Europe/Rome
BEGIN:DAYLIGHT
TZOFFSETFROM:+0100
TZOFFSETTO:+0200
TZNAME:CEST
DTSTART:20170326T010000
END:DAYLIGHT
BEGIN:STANDARD
TZOFFSETFROM:+0200
TZOFFSETTO:+0100
TZNAME:CET
DTSTART:20171029T010000
END:STANDARD
BEGIN:DAYLIGHT
TZOFFSETFROM:+0100
TZOFFSETTO:+0200
TZNAME:CEST
DTSTART:20180325T010000
END:DAYLIGHT
BEGIN:STANDARD
TZOFFSETFROM:+0200
TZOFFSETTO:+0100
TZNAME:CET
DTSTART:20181028T010000
END:STANDARD
BEGIN:DAYLIGHT
TZOFFSETFROM:+0100
TZOFFSETTO:+0200
TZNAME:CEST
DTSTART:20190331T010000
END:DAYLIGHT
BEGIN:STANDARD
TZOFFSETFROM:+0200
TZOFFSETTO:+0100
TZNAME:CET
DTSTART:20191027T010000
END:STANDARD
END:VTIMEZONE
BEGIN:VEVENT
DTSTART;VALUE=DATE:20180402
DTEND;VALUE=DATE:20180403
DTSTAMP:20260425T141052
CREATED:20180330T122342Z
LAST-MODIFIED:20180330T122431Z
UID:20189-1522627200-1522713599@cronachedibirra.it
SUMMARY:Festa di Pasquale
DESCRIPTION:Se ancora siete indecisi su come passare la Pasquetta\, una buona soluzione potrebbe essere presso un birrificio artigianale italiano. Tra gli eventi che verranno organizzati per l’occasione segnaliamo la Festa di Pasquale di Jungle Juice a Roma\, che permetterà di godere di una bella giornata senza rimanere imbottigliati nelle strade che portano fuori dalla Capitale. Per il lunedì di Pasqua il birrificio di via del Mandrione appronterà due punti spillatura con 10 birre diverse tra quelle della casa\, mentre tutta la parte gastronomica sarà curata dal Pork’n’Roll Shop. Non mancherà un dj set e un piccolo parco giochi per i bambini. Dettagli sono disponibili su Facebook.
URL:https://cronachedibirra.it/evento/festa-di-pasquale/
LOCATION:Jungle Juice\, Via del Mandrione 109\, Roma\, RM\, 00181\, Italy
CATEGORIES:Iniziative
ATTACH;FMTTYPE=image/jpeg:https://cdn1.cronachedibirra.it/wp-content/uploads/20200203095145/29067119_721013888096902_8597303819577065472_o.jpg
END:VEVENT
END:VCALENDAR