BEGIN:VCALENDAR
VERSION:2.0
PRODID:-//Cronache di Birra - ECPv6.15.20//NONSGML v1.0//EN
CALSCALE:GREGORIAN
METHOD:PUBLISH
X-WR-CALNAME:Cronache di Birra
X-ORIGINAL-URL:https://cronachedibirra.it
X-WR-CALDESC:Eventi per Cronache di Birra
REFRESH-INTERVAL;VALUE=DURATION:PT1H
X-Robots-Tag:noindex
X-PUBLISHED-TTL:PT1H
BEGIN:VTIMEZONE
TZID:Europe/Rome
BEGIN:DAYLIGHT
TZOFFSETFROM:+0100
TZOFFSETTO:+0200
TZNAME:CEST
DTSTART:20170326T010000
END:DAYLIGHT
BEGIN:STANDARD
TZOFFSETFROM:+0200
TZOFFSETTO:+0100
TZNAME:CET
DTSTART:20171029T010000
END:STANDARD
BEGIN:DAYLIGHT
TZOFFSETFROM:+0100
TZOFFSETTO:+0200
TZNAME:CEST
DTSTART:20180325T010000
END:DAYLIGHT
BEGIN:STANDARD
TZOFFSETFROM:+0200
TZOFFSETTO:+0100
TZNAME:CET
DTSTART:20181028T010000
END:STANDARD
BEGIN:DAYLIGHT
TZOFFSETFROM:+0100
TZOFFSETTO:+0200
TZNAME:CEST
DTSTART:20190331T010000
END:DAYLIGHT
BEGIN:STANDARD
TZOFFSETFROM:+0200
TZOFFSETTO:+0100
TZNAME:CET
DTSTART:20191027T010000
END:STANDARD
END:VTIMEZONE
BEGIN:VEVENT
DTSTART;VALUE=DATE:20180308
DTEND;VALUE=DATE:20180310
DTSTAMP:20260425T151640
CREATED:20180302T131538Z
LAST-MODIFIED:20180302T131538Z
UID:19927-1520467200-1520639999@cronachedibirra.it
SUMMARY:Tap Takeover campano
DESCRIPTION:La Campania brassicola sbarca a Milano\, e più precisamente allo Scott Duff\, dove giovedì 8 e venerdì 9 marzo si terrà un tap takeover completamente dedicato alle produzioni dei microbirrifici della regione. Le 20 birre selezionate dall’Ottavonano di Atripalda saranno: Ultra\, Capatost\, Stabelga\, Granum\, Ora et Labora\, Zenith\, Zarina\, Zimmaro\, Dark Strong Ale\, Syrentum\, Carminia\, Normanna\, Amaranta\, Scugnizza\, Pacific Stout\, Are\, Bubala\, Romanella\, Oktober Socks\, Prunus Spinoza. A completare il quadro ci sarà un laboratorio condotta da Kuaska (giovedì) con 5 birre abbinate a prodotti campani di primissimo livello. Ulteriori informazioni sono disponibili su Facebook.
URL:https://cronachedibirra.it/evento/tap-takeover-campano/
LOCATION:Scott Duff\, Via Alessandro Volta 13\, Milano\, MI\, Italia
CATEGORIES:Iniziative
ATTACH;FMTTYPE=image/jpeg:https://cdn1.cronachedibirra.it/wp-content/uploads/20200131175844/28235352_10156141423877603_3263387429582256398_o.jpg
END:VEVENT
END:VCALENDAR