BEGIN:VCALENDAR
VERSION:2.0
PRODID:-//Cronache di Birra - ECPv6.15.20//NONSGML v1.0//EN
CALSCALE:GREGORIAN
METHOD:PUBLISH
X-ORIGINAL-URL:https://cronachedibirra.it
X-WR-CALDESC:Eventi per Cronache di Birra
REFRESH-INTERVAL;VALUE=DURATION:PT1H
X-Robots-Tag:noindex
X-PUBLISHED-TTL:PT1H
BEGIN:VTIMEZONE
TZID:Europe/Rome
BEGIN:DAYLIGHT
TZOFFSETFROM:+0100
TZOFFSETTO:+0200
TZNAME:CEST
DTSTART:20160327T010000
END:DAYLIGHT
BEGIN:STANDARD
TZOFFSETFROM:+0200
TZOFFSETTO:+0100
TZNAME:CET
DTSTART:20161030T010000
END:STANDARD
BEGIN:DAYLIGHT
TZOFFSETFROM:+0100
TZOFFSETTO:+0200
TZNAME:CEST
DTSTART:20170326T010000
END:DAYLIGHT
BEGIN:STANDARD
TZOFFSETFROM:+0200
TZOFFSETTO:+0100
TZNAME:CET
DTSTART:20171029T010000
END:STANDARD
BEGIN:DAYLIGHT
TZOFFSETFROM:+0100
TZOFFSETTO:+0200
TZNAME:CEST
DTSTART:20180325T010000
END:DAYLIGHT
BEGIN:STANDARD
TZOFFSETFROM:+0200
TZOFFSETTO:+0100
TZNAME:CET
DTSTART:20181028T010000
END:STANDARD
END:VTIMEZONE
BEGIN:VEVENT
DTSTART;VALUE=DATE:20171020
DTEND;VALUE=DATE:20171030
DTSTAMP:20260425T232503
CREATED:20171013T123013Z
LAST-MODIFIED:20171013T123025Z
UID:18781-1508457600-1509321599@cronachedibirra.it
SUMMARY:Pordenone Beer Show 2017
DESCRIPTION:Si svolgerà in due fine settimana successivi\, da venerdì 20 a domenica 22 e ancora da venerdì 27 a domenica 29 ottobre\, la manifestazione Pordenone Beer Show\, di scena presso la Fiera di Pordenone. I birrifici presenti nel primo weekend saranno La Buttiga\, Barbanera\, Couture\, B20\, Birrificio degli Ostuni\, Forgotten Beer\, Sognandobirra\, Crak\, Malastrana\, Baracca Beer\, Menaresta\, De Ranke\, La Gramigna. Quelli del secondo weekend invece Brew Fighters\, Diciottozerouno\, Birra di Naon\, Trami\, Jeb\, Caulier\, Zahre\, Godog\, L’Inconsueto\, Il Maglio\, La Roche\, Yalkys\, Schnitzbaumer\, Corsendok. Altri espositori saranno confermati nei prossimi giorni\, mentre non mancheranno anche distributori e importatori. Il programma prevede ampia scelta gastronomica\, spazio dedicato ai collezionisti\, tanta musica dal vivo\, degustazioni guidate\, area bambini. Tutti i dettagli sono presenti sul sito del Pordenone Beer Show.
URL:https://cronachedibirra.it/evento/pordenone-beer-show-2017/
LOCATION:Fiera di Pordenone\, Viale Treviso 1\, Pordenone\, PN\, 33170\, Italia
CATEGORIES:Manifestazioni
ATTACH;FMTTYPE=image/jpeg:https://cdn1.cronachedibirra.it/wp-content/uploads/20200131180602/pordenone-beer-show.jpg
END:VEVENT
BEGIN:VEVENT
DTSTART;VALUE=DATE:20171026
DTEND;VALUE=DATE:20171030
DTSTAMP:20260425T232503
CREATED:20171027T121623Z
LAST-MODIFIED:20220908T091427Z
UID:18960-1508976000-1509321599@cronachedibirra.it
SUMMARY:Lombardia Beer Fest 2017 - Edizione autunnale
DESCRIPTION:È iniziata ieri e proseguirà fino a domenica 29 ottobre l’edizione autunnale del Lombardia Beer Fest\, manifestazione incentrata sui birrifici locali che ha debuttato la scorsa estate a Milano. I produttori presenti sono Lambrate\, Orso Verde\, Bi-Du\, Extraomnes\, La Ribalta\, Stradaregina\, Esubeerante\, Menaresta\, Legnone\, Hopskin\, Legnano\, Railroad\, La Birrofila\, Vetra\, Picobrew\, War\, Agricola 80 e Mister B. La parte gastronomica sarà curata dalla presenza di 14 food truck con specialità regionali di tutta Italia\, mentre il programma prevede seminari\, degustazioni e concorso popolare. Ulteriori informazioni sono disponibili sul sito del festival.
URL:https://cronachedibirra.it/evento/lombardia-beer-fest-2017-edizione-autunnale/
LOCATION:Piazza Città di Lombardia\, Piazza Città di Lombardia\, Milano\, MI\, 20124\, Italia
CATEGORIES:Manifestazioni
ATTACH;FMTTYPE=image/jpeg:https://cdn1.cronachedibirra.it/wp-content/uploads/20200131180527/lombardia-beer-fest.jpg
END:VEVENT
BEGIN:VEVENT
DTSTART;VALUE=DATE:20171027
DTEND;VALUE=DATE:20171030
DTSTAMP:20260425T232503
CREATED:20171027T124347Z
LAST-MODIFIED:20220908T091330Z
UID:18967-1509062400-1509321599@cronachedibirra.it
SUMMARY:Maiella's Uttobeer Fest
DESCRIPTION:La risposta del Birrificio Maiella all’Oktoberfest si chiama Uttobeer Fest e si terrà a Pretoro (CH) presso il birrificio abruzzese da oggi fino a domenica 29 ottobre. Al posto di crauti e wurstel troverete tante specialità locali: arrosticini\, porchetta\, pallotte casce e ove\, cif e ciaf e altro ancora. Le birre\, invece\, saranno ovviamente quelle del produttore della provincia di Chieti. Tra le iniziative previste\, l’omaggio di una birra da 33 cl per chi si presenterà vestito in abiti tradizionali abruzzesi. D’accordo\, ma qualcuno sa quali sono questi abiti? 🙂 Ulteriori informazioni sulla pagina Facebook dell’evento.
URL:https://cronachedibirra.it/evento/maiellas-uttobeer-fest/
LOCATION:Birrificio Maiella\, Località Cerrani\, Pretoro\, CH\, Italia
CATEGORIES:Iniziative
ATTACH;FMTTYPE=image/jpeg:https://cdn1.cronachedibirra.it/wp-content/uploads/20200131180520/uttobeer.jpg
END:VEVENT
BEGIN:VEVENT
DTSTART;VALUE=DATE:20171029
DTEND;VALUE=DATE:20171030
DTSTAMP:20260425T232503
CREATED:20171027T120118Z
LAST-MODIFIED:20220908T091327Z
UID:18958-1509235200-1509321599@cronachedibirra.it
SUMMARY:Giornata Nazionale dell'Homebrewing 2017
DESCRIPTION:Si rinnova per l’ottavo anno consecutivo l’appuntamento con la Giornata Nazionale dell’Homebrewing promossa da MoBI per celebrare l’hobby della birrificazione casalinga. Come sempre gli appassionati di tutta Italia saranno chiamati a realizzare la propria cotta nello stesso identico giorno\, cioè domenica 29 ottobre. Comune è anche la ricetta suggerita\, che quest’anno è a firma Sebastiano Cannata e si ispira allo stile delle American Wheat. Servono diverse varietà di luppolo americano e una percentuale di frumento maltato\, oltre a farro e fiocchi d’avena… insomma\, parecchi ingredienti diversi di cui probabilmente non tutti disporranno. Ma se siete fortunati (oppure vi siete mossi per tempo) potrete partecipare alla “megacotta” di MoBI condividendo l’esperienza sui principali social network. Ulteriori dettagli sul sito dell’associazione.
URL:https://cronachedibirra.it/evento/giornata-nazionale-dellhomebrewing-2017/
LOCATION:Italia\, Italia
CATEGORIES:Iniziative
ATTACH;FMTTYPE=image/jpeg:https://cdn1.cronachedibirra.it/wp-content/uploads/20200131181831/mobi-1.jpg
END:VEVENT
BEGIN:VEVENT
DTSTART;VALUE=DATE:20171029
DTEND;VALUE=DATE:20171030
DTSTAMP:20260425T232503
CREATED:20171027T125103Z
LAST-MODIFIED:20220908T091330Z
UID:18971-1509235200-1509321599@cronachedibirra.it
SUMMARY:Decimo anniversario del Birrificio Menaresta
DESCRIPTION:Il Birrificio Menaresta di Carate Brianza (MB) compie 10 anni e festeggia con un grande evento in programma domenica 29 ottobre presso la propria sede. Saranno presenti 3 punti spillatura con le birre della casa suddivise per tipologia (luppolo\, acide e le restanti)\, 3 punti di rifocillamento (salamelle\, pizza\, cibi di strada) e tanta musica dal vivo. Il programma prevede anche animazione per bambini\, visita agli impianti di produzione\, degustazione delle birre barricate di Menaresta con presentazione della nuova Kriek e bagno di luppolo. Per ulteriori informazioni vi rimando alla pagina Facebook dell’evento.
URL:https://cronachedibirra.it/evento/decimo-anniversario-del-birrificio-menaresta/
LOCATION:Birrificio Menaresta\, Piazza Risorgimento 4\, Carate Brianza\, MB\, Italia
CATEGORIES:Iniziative
ATTACH;FMTTYPE=image/jpeg:https://cdn1.cronachedibirra.it/wp-content/uploads/20200131180519/menaresta-1.jpg
END:VEVENT
END:VCALENDAR