BEGIN:VCALENDAR
VERSION:2.0
PRODID:-//Cronache di Birra - ECPv6.15.20//NONSGML v1.0//EN
CALSCALE:GREGORIAN
METHOD:PUBLISH
X-ORIGINAL-URL:https://cronachedibirra.it
X-WR-CALDESC:Eventi per Cronache di Birra
REFRESH-INTERVAL;VALUE=DURATION:PT1H
X-Robots-Tag:noindex
X-PUBLISHED-TTL:PT1H
BEGIN:VTIMEZONE
TZID:Europe/Rome
BEGIN:DAYLIGHT
TZOFFSETFROM:+0100
TZOFFSETTO:+0200
TZNAME:CEST
DTSTART:20160327T010000
END:DAYLIGHT
BEGIN:STANDARD
TZOFFSETFROM:+0200
TZOFFSETTO:+0100
TZNAME:CET
DTSTART:20161030T010000
END:STANDARD
BEGIN:DAYLIGHT
TZOFFSETFROM:+0100
TZOFFSETTO:+0200
TZNAME:CEST
DTSTART:20170326T010000
END:DAYLIGHT
BEGIN:STANDARD
TZOFFSETFROM:+0200
TZOFFSETTO:+0100
TZNAME:CET
DTSTART:20171029T010000
END:STANDARD
BEGIN:DAYLIGHT
TZOFFSETFROM:+0100
TZOFFSETTO:+0200
TZNAME:CEST
DTSTART:20180325T010000
END:DAYLIGHT
BEGIN:STANDARD
TZOFFSETFROM:+0200
TZOFFSETTO:+0100
TZNAME:CET
DTSTART:20181028T010000
END:STANDARD
END:VTIMEZONE
BEGIN:VEVENT
DTSTART;VALUE=DATE:20171012
DTEND;VALUE=DATE:20171016
DTSTAMP:20260425T220150
CREATED:20171005T165703Z
LAST-MODIFIED:20171005T165703Z
UID:18720-1507766400-1508111999@cronachedibirra.it
SUMMARY:Sapori di Birra
DESCRIPTION:Nasce dall’esperienza dello storico BeerArt la manifestazione Sapori di Birra\, che si terrà a Casteggio\, in provincia di Pavia\, da giovedì 12 a domenica 15 ottobre. I birrifici presenti saranno Acelum\, Picobrew\, Maltus Faber\, Oltrepò\, L’Inconsueto\, Sagrin\, Croce di Malto\, Birrificio Esuberante\, Brewfist\, Hordeum. Il programma è molto ricco e prevede diversi laboratori di approfondimento\, cene a tema\, conferenza sul luppolo italiano\, intrattenimento per bambini\, spettacoli e molto altro. Dal punto di vista gastronomico ci saranno alcune postazioni con specialità italiane e straniere. Per saperne di più potete consultare il sito web di Sapori di Birra.
URL:https://cronachedibirra.it/evento/sapori-di-birra/
LOCATION:Oltrexpò
CATEGORIES:Manifestazioni
ATTACH;FMTTYPE=image/jpeg:https://cdn1.cronachedibirra.it/wp-content/uploads/20200131180619/sapori-birra.jpg
END:VEVENT
BEGIN:VEVENT
DTSTART;VALUE=DATE:20171013
DTEND;VALUE=DATE:20171016
DTSTAMP:20260425T220150
CREATED:20170929T121716Z
LAST-MODIFIED:20170929T121716Z
UID:18678-1507852800-1508111999@cronachedibirra.it
SUMMARY:Nonsolobirra Festival 2017
DESCRIPTION:Si terrà da venerdì 13 a domenica 15 ottobre\, presso la zona impianti sportivi di Marano Vicentino (VI)\, l’edizione 2017 di Nonsolobirra Festival\, evento dedicato alla birra artigianale italiana. I produttori presenti saranno Birrone\, Trami\, Benaco 70\, Jeb\, Birra Ofelia\, Luppolajo\, Lucky Brews\, Argo\, Estense e la Diexe distribuzione in rappresentanza dei birrifici Zahre\, Fiemme\, Montegioco e Panil. Molto ricco il programma con laboratori di degustazione cibo-birra\, angolo gastronomico con ampia offerta\, pranzo a tema birrario\, cotta pubblica\, concorso popolare per la migliore birra del festival\, musica dal vivo e dj set. Per ulteriori informazioni potete consultare il sito Nonsolobirra.net.
URL:https://cronachedibirra.it/evento/nonsolobirra-festival-2017/
LOCATION:Zona impianti sportivi – Marano Vicentino\, Viale Europa\, Marano Vicentino\, VC
CATEGORIES:Manifestazioni
ATTACH;FMTTYPE=image/jpeg:https://cdn1.cronachedibirra.it/wp-content/uploads/20200131180639/Banner_facebook_2017.jpg
END:VEVENT
BEGIN:VEVENT
DTSTART;VALUE=DATE:20171014
DTEND;VALUE=DATE:20171015
DTSTAMP:20260425T220150
CREATED:20171013T130439Z
LAST-MODIFIED:20171013T130439Z
UID:18795-1507939200-1508025599@cronachedibirra.it
SUMMARY:Block Party Birra Bellazzi
DESCRIPTION:Un Block Party Hip Hop con due grandi dj set è il tema su cui verterà l’iniziativa del Birrificio Bellazzi in programma per domani\, sabato 14 ottobre. Presso la sede produttiva di San Lazzaro di Savenna (BO) si potranno bere le birre di Bellazzi\, mangiare specialità di street food\, visitare gli impianti\, partecipare a tornei di calcio balilla e freccette e ovviamente ballare a tempo di hip hop. Trovate ulteriori informazioni nella pagina Facebook dell’evento.
URL:https://cronachedibirra.it/evento/block-party-birra-bellazzi/
LOCATION:Birra Bellazzi\, Via Fondè 21\, San Lazzaro di Savenna\, BO\, 40068\, Italia
CATEGORIES:Iniziative
ATTACH;FMTTYPE=image/jpeg:https://cdn1.cronachedibirra.it/wp-content/uploads/20200131180601/block-party.jpg
END:VEVENT
BEGIN:VEVENT
DTSTART;VALUE=DATE:20171014
DTEND;VALUE=DATE:20171016
DTSTAMP:20260425T220150
CREATED:20171005T170438Z
LAST-MODIFIED:20171005T170438Z
UID:18723-1507939200-1508111999@cronachedibirra.it
SUMMARY:In bocca al luppolo
DESCRIPTION:Nei suggestivi spazi del Mercato delle Erbe di Ancona si terrà la manifestazione In bocca al luppolo\, festival delle birre artigianali e agricole in programma sabato 14 e domenica 15 ottobre. I birrifici presenti\, tutti italiani\, saranno otto: Birrificio del Gomito\, La Castellana\, Guarnera\, I Beer\, La Gallica\, Il Gobbo\, Millecento e Birrificio del Rio. Il programma prevede un seminario di avvicinamento alla degustazione\, corso di homebrewing\, conferenze\, abbinamenti e musica dal vivo. Per maggiori informazioni potete collegarvi alla pagina Facebook del festival.
URL:https://cronachedibirra.it/evento/in-bocca-al-luppolo/
LOCATION:Mercato delle Erbe\, Piazza delle Erbe\, Ancona\, AN\, 60100\, Italia
CATEGORIES:Manifestazioni
ATTACH;FMTTYPE=image/jpeg:https://cdn1.cronachedibirra.it/wp-content/uploads/20200131180612/in-bocca-luppolo.jpg
END:VEVENT
BEGIN:VEVENT
DTSTART;VALUE=DATE:20171014
DTEND;VALUE=DATE:20171016
DTSTAMP:20260425T220150
CREATED:20171013T124232Z
LAST-MODIFIED:20171013T124232Z
UID:18785-1507939200-1508111999@cronachedibirra.it
SUMMARY:Vigoleno in fermento
DESCRIPTION:Arriva a Vigoleno\, frazione del comune di Vernasca (PC)\, il festival firmato dal ditributore Beerinba. Vigoleno in fermento\, questo il nome dell’iniziativa\, si terrà sabato 14 e domenica 15 ottobre con i birrifici Croce di Malto\, Elav\, Aleghe\, Green Dog\, Castagnero\, Black Barrels\, Matildica e il progetto Tasso alcolico. Ci sarà un angolo food ricco di specialità regionali\, uno spazio dedicato al vinsanto\, degustazioni guidate birra – vino\, laboratori\, convegni\, musica dal vivo e dj set. Per ulteriori informazioni potete collegarvi al sito di Beerinba.
URL:https://cronachedibirra.it/evento/vigoleno-in-fermento/
LOCATION:Castello di Vigoleno\, Vigoleno\, Vernasca\, PC\, Italia
CATEGORIES:Manifestazioni
ATTACH;FMTTYPE=image/jpeg:https://cdn1.cronachedibirra.it/wp-content/uploads/20200131180602/vigoleno.jpg
END:VEVENT
END:VCALENDAR